BEGIN:VCALENDAR
VERSION:2.0
PRODID:-//Clark County Historical Museum - ECPv6.15.20//NONSGML v1.0//EN
CALSCALE:GREGORIAN
METHOD:PUBLISH
X-WR-CALNAME:Clark County Historical Museum
X-ORIGINAL-URL:https://cchmuseum.org
X-WR-CALDESC:Events for Clark County Historical Museum
REFRESH-INTERVAL;VALUE=DURATION:PT1H
X-Robots-Tag:noindex
X-PUBLISHED-TTL:PT1H
BEGIN:VTIMEZONE
TZID:America/Los_Angeles
BEGIN:DAYLIGHT
TZOFFSETFROM:-0800
TZOFFSETTO:-0700
TZNAME:PDT
DTSTART:20210314T100000
END:DAYLIGHT
BEGIN:STANDARD
TZOFFSETFROM:-0700
TZOFFSETTO:-0800
TZNAME:PST
DTSTART:20211107T090000
END:STANDARD
BEGIN:DAYLIGHT
TZOFFSETFROM:-0800
TZOFFSETTO:-0700
TZNAME:PDT
DTSTART:20220313T100000
END:DAYLIGHT
BEGIN:STANDARD
TZOFFSETFROM:-0700
TZOFFSETTO:-0800
TZNAME:PST
DTSTART:20221106T090000
END:STANDARD
BEGIN:DAYLIGHT
TZOFFSETFROM:-0800
TZOFFSETTO:-0700
TZNAME:PDT
DTSTART:20230312T100000
END:DAYLIGHT
BEGIN:STANDARD
TZOFFSETFROM:-0700
TZOFFSETTO:-0800
TZNAME:PST
DTSTART:20231105T090000
END:STANDARD
BEGIN:DAYLIGHT
TZOFFSETFROM:-0800
TZOFFSETTO:-0700
TZNAME:PDT
DTSTART:20240310T100000
END:DAYLIGHT
BEGIN:STANDARD
TZOFFSETFROM:-0700
TZOFFSETTO:-0800
TZNAME:PST
DTSTART:20241103T090000
END:STANDARD
BEGIN:DAYLIGHT
TZOFFSETFROM:-0800
TZOFFSETTO:-0700
TZNAME:PDT
DTSTART:20250309T100000
END:DAYLIGHT
BEGIN:STANDARD
TZOFFSETFROM:-0700
TZOFFSETTO:-0800
TZNAME:PST
DTSTART:20251102T090000
END:STANDARD
BEGIN:DAYLIGHT
TZOFFSETFROM:-0800
TZOFFSETTO:-0700
TZNAME:PDT
DTSTART:20260308T100000
END:DAYLIGHT
BEGIN:STANDARD
TZOFFSETFROM:-0700
TZOFFSETTO:-0800
TZNAME:PST
DTSTART:20261101T090000
END:STANDARD
BEGIN:DAYLIGHT
TZOFFSETFROM:-0800
TZOFFSETTO:-0700
TZNAME:PDT
DTSTART:20270314T100000
END:DAYLIGHT
BEGIN:STANDARD
TZOFFSETFROM:-0700
TZOFFSETTO:-0800
TZNAME:PST
DTSTART:20271107T090000
END:STANDARD
END:VTIMEZONE
BEGIN:VEVENT
DTSTART;TZID=America/Los_Angeles:20260328T120000
DTEND;TZID=America/Los_Angeles:20260328T133000
DTSTAMP:20260425T143630
CREATED:20260224T225503Z
LAST-MODIFIED:20260224T225503Z
UID:10000774-1774699200-1774704600@cchmuseum.org
SUMMARY:A Map Of Her Own: An Afternoon Author Talk With Dede Montgomery
DESCRIPTION:Join the Clark County Historical Museum for a special midday author talk at the historic Covington House.\n\n\n\nOn Saturday\, March 28 at noon\, sixth-generation Pacific Northwest author and blogger Dede Montgomery will share the stories\, history\, and family legacies that shape her writing and connect deeply to the Columbia River region. \nMontgomery’s latest novel\, A Map of Her Own\, moves between contemporary Astoria and early 1900s Camas\, weaving together personal discovery and regional history. Her talk will explore the historical threads behind her work\, including: \n• Early settlers who traveled up the Columbia River to Fort Vancouver\n• Connections to the Jason Lee missionaries\n• Early Oregon land claims\n• Maritime history and Pacific Northwest industry\n• The beginnings of the Camas paper mill\n• The role of place\, memory\, and heritage in storytelling \nMontgomery is the author of six books\, including My Music Man\, Humanity’s Grace\, Beyond the Ripples\, and Then\, Now and In-Between. Her work blends history\, memoir\, and fiction to illuminate the people and landscapes that define Oregon and Southwest Washington. \nBooks will be available for purchase following the program. \nThis event is free and open to the public. Registration is encouraged.
URL:https://cchmuseum.org/calendar/a-map-of-her-own-an-afternoon-author-talk-with-dede-montgomery/
LOCATION:Historic Covington House\, 4201 Main St\, Vancouver\, WA\, 98660\, United States
CATEGORIES:Community Events
ATTACH;FMTTYPE=image/png:https://cchmuseum.org/wp-content/uploads/2026/02/A-Map-Of-Her-Own-Asset.png
END:VEVENT
BEGIN:VEVENT
DTSTART;TZID=America/Los_Angeles:20251115T160000
DTEND;TZID=America/Los_Angeles:20251115T173000
DTSTAMP:20260425T143630
CREATED:20251011T222458Z
LAST-MODIFIED:20251015T195037Z
UID:10000760-1763222400-1763227800@cchmuseum.org
SUMMARY:MEMBERS ONLY - The Story of the Old Apple Tree
DESCRIPTION:Join us on Saturday\, November 15\, for an exclusive evening with Executive Director Brad Richardson as he explores the remarkable story of Washington State’s very first apple tree. Planted by the Hudson’s Bay Company in 1826\, this humble tree took root in more ways than one—its legacy and descendants have become symbols of Clark County’s heritage and Washington’s enduring identity. \nThis special event will be held at the historic Covington House (4201 Main Street\, Vancouver\, WA 98663). Enjoy a selection of wine and hard cider as you take in this fascinating journey through local history. \nSpace is limited—reserve your spot today! \nRegister here.
URL:https://cchmuseum.org/calendar/members-only-the-story-of-the-old-apple-tree/
LOCATION:Historic Covington House\, 4201 Main St\, Vancouver\, WA\, 98660\, United States
CATEGORIES:Members Only Events
ATTACH;FMTTYPE=image/png:https://cchmuseum.org/wp-content/uploads/2025/10/2025-Website-Members-Events-2.png
END:VEVENT
BEGIN:VEVENT
DTSTART;TZID=America/Los_Angeles:20251002T190000
DTEND;TZID=America/Los_Angeles:20251002T200000
DTSTAMP:20260425T143630
CREATED:20250917T201908Z
LAST-MODIFIED:20250917T201908Z
UID:10000755-1759431600-1759435200@cchmuseum.org
SUMMARY:Speaker Series: The Murder of JoAnn Dewey\, presented by Pat Jolotta
DESCRIPTION:Before midnight on March 19\, 1950\, startled bystanders outside Saint Joseph’s Hospital in Vancouver\, Washington\, witnessed a horrifying scene: two men forcing a screaming young woman into a car. That woman\, JoAnn Dewey\, was never seen alive again. \nDewey had recently moved to Portland to work and share an apartment with a friend. On this fateful night\, she missed her bus home and walked to the hospital\, planning to spend the night with another friend. By the next morning\, a massive search for her was underway. \nThe case culminated in the longest trial in Clark County history at the time and ended with a death sentence for the Wilson brothers. Yet the story did not end there—appeals\, escapes\, and shocking courtroom testimony kept the case in the headlines until their execution in 1953. \nLocal historian and author Pat Jollota will lead us through the twists\, turns\, and dark truths of this remarkable case\, shedding new light on one of the region’s most disturbing chapters. \nPlease Note: Due to ongoing upgrades to the Clark County Historical Museum’s roof\, this month’s Speaker Series will be hosted at the Historic Covington House. Seating is extremely limited. Registration is required. This event is free and open to the public. \nAbout Pat Jollota\nPat Jollota is a beloved historian\, author\, and former Vancouver City Council member whose work has shaped how Clark County remembers its past. Over two decades on the council\, she championed historic preservation and community initiatives\, including helping establish the Arthur D. Curtis Children’s Justice Center. As curator of the Clark County Historical Museum\, she inspired countless residents with her deep love of local history. Jollota is the author of numerous books\, including Naming Clark County\, The Murder of JoAnn Dewey in Vancouver\, Washington\, and Haunted Vancouver. Recognized as Clark County’s First Citizen in 2012\, she continues to be celebrated for preserving the stories that define our community.
URL:https://cchmuseum.org/calendar/speaker-series-the-murder-of-joann-dewey-presented-by-pat-jolotta/
LOCATION:Historic Covington House\, 4201 Main St\, Vancouver\, WA\, 98660\, United States
CATEGORIES:Speaker Series
ATTACH;FMTTYPE=image/png:https://cchmuseum.org/wp-content/uploads/2025/09/Oct_2025.png
END:VEVENT
BEGIN:VEVENT
DTSTART;TZID=America/Los_Angeles:20241117T120000
DTEND;TZID=America/Los_Angeles:20241117T150000
DTSTAMP:20260425T143630
CREATED:20230513T164357Z
LAST-MODIFIED:20230513T164911Z
UID:10000313-1731844800-1731855600@cchmuseum.org
SUMMARY:Covington House Open House
DESCRIPTION:
URL:https://cchmuseum.org/calendar/covington-house-third-sundays/2024-11-17/
LOCATION:Historic Covington House\, 4201 Main St\, Vancouver\, WA\, 98660\, United States
CATEGORIES:Community Events
END:VEVENT
BEGIN:VEVENT
DTSTART;TZID=America/Los_Angeles:20241020T120000
DTEND;TZID=America/Los_Angeles:20241020T150000
DTSTAMP:20260425T143630
CREATED:20230513T164357Z
LAST-MODIFIED:20230513T164911Z
UID:10000312-1729425600-1729436400@cchmuseum.org
SUMMARY:Covington House Open House
DESCRIPTION:
URL:https://cchmuseum.org/calendar/covington-house-third-sundays/2024-10-20/
LOCATION:Historic Covington House\, 4201 Main St\, Vancouver\, WA\, 98660\, United States
CATEGORIES:Community Events
END:VEVENT
BEGIN:VEVENT
DTSTART;TZID=America/Los_Angeles:20240915T120000
DTEND;TZID=America/Los_Angeles:20240915T150000
DTSTAMP:20260425T143630
CREATED:20230513T164357Z
LAST-MODIFIED:20230513T164911Z
UID:10000311-1726401600-1726412400@cchmuseum.org
SUMMARY:Covington House Open House
DESCRIPTION:
URL:https://cchmuseum.org/calendar/covington-house-third-sundays/2024-09-15/
LOCATION:Historic Covington House\, 4201 Main St\, Vancouver\, WA\, 98660\, United States
CATEGORIES:Community Events
END:VEVENT
BEGIN:VEVENT
DTSTART;TZID=America/Los_Angeles:20240818T120000
DTEND;TZID=America/Los_Angeles:20240818T150000
DTSTAMP:20260425T143630
CREATED:20230513T164357Z
LAST-MODIFIED:20230513T164911Z
UID:10000310-1723982400-1723993200@cchmuseum.org
SUMMARY:Covington House Open House
DESCRIPTION:
URL:https://cchmuseum.org/calendar/covington-house-third-sundays/2024-08-18/
LOCATION:Historic Covington House\, 4201 Main St\, Vancouver\, WA\, 98660\, United States
CATEGORIES:Community Events
END:VEVENT
BEGIN:VEVENT
DTSTART;TZID=America/Los_Angeles:20240721T120000
DTEND;TZID=America/Los_Angeles:20240721T150000
DTSTAMP:20260425T143630
CREATED:20230513T164357Z
LAST-MODIFIED:20230513T164911Z
UID:10000309-1721563200-1721574000@cchmuseum.org
SUMMARY:Covington House Open House
DESCRIPTION:
URL:https://cchmuseum.org/calendar/covington-house-third-sundays/2024-07-21/
LOCATION:Historic Covington House\, 4201 Main St\, Vancouver\, WA\, 98660\, United States
CATEGORIES:Community Events
END:VEVENT
BEGIN:VEVENT
DTSTART;TZID=America/Los_Angeles:20240616T120000
DTEND;TZID=America/Los_Angeles:20240616T150000
DTSTAMP:20260425T143631
CREATED:20230513T164357Z
LAST-MODIFIED:20230513T164911Z
UID:10000308-1718539200-1718550000@cchmuseum.org
SUMMARY:Covington House Open House
DESCRIPTION:
URL:https://cchmuseum.org/calendar/covington-house-third-sundays/2024-06-16/
LOCATION:Historic Covington House\, 4201 Main St\, Vancouver\, WA\, 98660\, United States
CATEGORIES:Community Events
END:VEVENT
BEGIN:VEVENT
DTSTART;TZID=America/Los_Angeles:20240519T120000
DTEND;TZID=America/Los_Angeles:20240519T150000
DTSTAMP:20260425T143631
CREATED:20230513T164357Z
LAST-MODIFIED:20230513T164911Z
UID:10000307-1716120000-1716130800@cchmuseum.org
SUMMARY:Covington House Open House
DESCRIPTION:
URL:https://cchmuseum.org/calendar/covington-house-third-sundays/2024-05-19/
LOCATION:Historic Covington House\, 4201 Main St\, Vancouver\, WA\, 98660\, United States
CATEGORIES:Community Events
END:VEVENT
BEGIN:VEVENT
DTSTART;TZID=America/Los_Angeles:20240421T120000
DTEND;TZID=America/Los_Angeles:20240421T150000
DTSTAMP:20260425T143631
CREATED:20230513T164357Z
LAST-MODIFIED:20230513T164911Z
UID:10000306-1713700800-1713711600@cchmuseum.org
SUMMARY:Covington House Open House
DESCRIPTION:
URL:https://cchmuseum.org/calendar/covington-house-third-sundays/2024-04-21/
LOCATION:Historic Covington House\, 4201 Main St\, Vancouver\, WA\, 98660\, United States
CATEGORIES:Community Events
END:VEVENT
BEGIN:VEVENT
DTSTART;TZID=America/Los_Angeles:20240317T120000
DTEND;TZID=America/Los_Angeles:20240317T150000
DTSTAMP:20260425T143631
CREATED:20230513T164357Z
LAST-MODIFIED:20230513T164911Z
UID:10000305-1710676800-1710687600@cchmuseum.org
SUMMARY:Covington House Open House
DESCRIPTION:
URL:https://cchmuseum.org/calendar/covington-house-third-sundays/2024-03-17/
LOCATION:Historic Covington House\, 4201 Main St\, Vancouver\, WA\, 98660\, United States
CATEGORIES:Community Events
END:VEVENT
BEGIN:VEVENT
DTSTART;TZID=America/Los_Angeles:20240218T120000
DTEND;TZID=America/Los_Angeles:20240218T150000
DTSTAMP:20260425T143631
CREATED:20230513T164357Z
LAST-MODIFIED:20230513T164911Z
UID:10000304-1708257600-1708268400@cchmuseum.org
SUMMARY:Covington House Open House
DESCRIPTION:
URL:https://cchmuseum.org/calendar/covington-house-third-sundays/2024-02-18/
LOCATION:Historic Covington House\, 4201 Main St\, Vancouver\, WA\, 98660\, United States
CATEGORIES:Community Events
END:VEVENT
BEGIN:VEVENT
DTSTART;TZID=America/Los_Angeles:20240121T120000
DTEND;TZID=America/Los_Angeles:20240121T150000
DTSTAMP:20260425T143631
CREATED:20230513T164357Z
LAST-MODIFIED:20230513T164911Z
UID:10000303-1705838400-1705849200@cchmuseum.org
SUMMARY:Covington House Open House
DESCRIPTION:
URL:https://cchmuseum.org/calendar/covington-house-third-sundays/2024-01-21/
LOCATION:Historic Covington House\, 4201 Main St\, Vancouver\, WA\, 98660\, United States
CATEGORIES:Community Events
END:VEVENT
BEGIN:VEVENT
DTSTART;TZID=America/Los_Angeles:20231217T120000
DTEND;TZID=America/Los_Angeles:20231217T150000
DTSTAMP:20260425T143631
CREATED:20230513T164357Z
LAST-MODIFIED:20230513T164911Z
UID:10000302-1702814400-1702825200@cchmuseum.org
SUMMARY:Covington House Open House
DESCRIPTION:
URL:https://cchmuseum.org/calendar/covington-house-third-sundays/2023-12-17/
LOCATION:Historic Covington House\, 4201 Main St\, Vancouver\, WA\, 98660\, United States
CATEGORIES:Community Events
END:VEVENT
BEGIN:VEVENT
DTSTART;TZID=America/Los_Angeles:20231119T120000
DTEND;TZID=America/Los_Angeles:20231119T150000
DTSTAMP:20260425T143631
CREATED:20230513T164357Z
LAST-MODIFIED:20230513T164911Z
UID:10000301-1700395200-1700406000@cchmuseum.org
SUMMARY:Covington House Open House
DESCRIPTION:
URL:https://cchmuseum.org/calendar/covington-house-third-sundays/2023-11-19/
LOCATION:Historic Covington House\, 4201 Main St\, Vancouver\, WA\, 98660\, United States
CATEGORIES:Community Events
END:VEVENT
BEGIN:VEVENT
DTSTART;TZID=America/Los_Angeles:20231015T120000
DTEND;TZID=America/Los_Angeles:20231015T150000
DTSTAMP:20260425T143631
CREATED:20230513T164357Z
LAST-MODIFIED:20230513T164911Z
UID:10000300-1697371200-1697382000@cchmuseum.org
SUMMARY:Covington House Open House
DESCRIPTION:
URL:https://cchmuseum.org/calendar/covington-house-third-sundays/2023-10-15/
LOCATION:Historic Covington House\, 4201 Main St\, Vancouver\, WA\, 98660\, United States
CATEGORIES:Community Events
END:VEVENT
BEGIN:VEVENT
DTSTART;TZID=America/Los_Angeles:20230917T120000
DTEND;TZID=America/Los_Angeles:20230917T150000
DTSTAMP:20260425T143631
CREATED:20230513T164357Z
LAST-MODIFIED:20230513T164911Z
UID:10000299-1694952000-1694962800@cchmuseum.org
SUMMARY:Covington House Open House
DESCRIPTION:
URL:https://cchmuseum.org/calendar/covington-house-third-sundays/2023-09-17/
LOCATION:Historic Covington House\, 4201 Main St\, Vancouver\, WA\, 98660\, United States
CATEGORIES:Community Events
END:VEVENT
BEGIN:VEVENT
DTSTART;TZID=America/Los_Angeles:20230820T120000
DTEND;TZID=America/Los_Angeles:20230820T150000
DTSTAMP:20260425T143631
CREATED:20230513T164357Z
LAST-MODIFIED:20230513T164911Z
UID:10000298-1692532800-1692543600@cchmuseum.org
SUMMARY:Covington House Open House
DESCRIPTION:
URL:https://cchmuseum.org/calendar/covington-house-third-sundays/2023-08-20/
LOCATION:Historic Covington House\, 4201 Main St\, Vancouver\, WA\, 98660\, United States
CATEGORIES:Community Events
END:VEVENT
BEGIN:VEVENT
DTSTART;TZID=America/Los_Angeles:20230716T120000
DTEND;TZID=America/Los_Angeles:20230716T150000
DTSTAMP:20260425T143631
CREATED:20230513T164357Z
LAST-MODIFIED:20230513T164911Z
UID:10000297-1689508800-1689519600@cchmuseum.org
SUMMARY:Covington House Open House
DESCRIPTION:
URL:https://cchmuseum.org/calendar/covington-house-third-sundays/2023-07-16/
LOCATION:Historic Covington House\, 4201 Main St\, Vancouver\, WA\, 98660\, United States
CATEGORIES:Community Events
END:VEVENT
BEGIN:VEVENT
DTSTART;TZID=America/Los_Angeles:20230618T120000
DTEND;TZID=America/Los_Angeles:20230618T150000
DTSTAMP:20260425T143631
CREATED:20230513T164357Z
LAST-MODIFIED:20230513T164911Z
UID:10000296-1687089600-1687100400@cchmuseum.org
SUMMARY:Covington House Open House
DESCRIPTION:
URL:https://cchmuseum.org/calendar/covington-house-third-sundays/2023-06-18/
LOCATION:Historic Covington House\, 4201 Main St\, Vancouver\, WA\, 98660\, United States
CATEGORIES:Community Events
END:VEVENT
BEGIN:VEVENT
DTSTART;TZID=America/Los_Angeles:20220505T190000
DTEND;TZID=America/Los_Angeles:20220505T200000
DTSTAMP:20260425T143631
CREATED:20220105T205928Z
LAST-MODIFIED:20220504T205245Z
UID:10000009-1651777200-1651780800@cchmuseum.org
SUMMARY:From Water Wagons to Private Development: A History of Vancouver Water System
DESCRIPTION:Clark County Historical Museum’s 2022 Speaker Series continues on Thursday\, May 5th\, with “From Water Wagons to Private Development: A History of Vancouver Water System” presented by Jim Pestillo. The event will occur in-person at the Historic Covington House (4201 Main St\, Vancouver\, WA 98663). Doors open at 6 p.m. and the event begins at 7 p.m. \nClean water is key to a healthy and prosperous community. While the Pacific Northwest has an abundance of natural water sources\, as cities and townships grew so did their pressures on these natural systems. From pollution to distance\, adequate water access proved an increasingly more difficult puzzle for community leaders to solve. In this presentation\, Jim Pestillo explores the history of Vancouver’s water systems and the relationship between those systems and the City’s growth. \nJim Pestillo is a retired engineer with an interest in local history. His article “Vancouver Water Delivery 1824-1930: From Water Wagons to Private Development” (2019) and “From Stinky Streets to Sewers: An Overview of Vancouver’s Water and Sewer Systems” (2020) both appeared in Clark County (WA) History published by the Clark County Historical Society. \nThe CCHM Speaker Series is sponsored by the Clark County Historic Preservation Commission and Versa Events (formerly Wager Audio). This event will be free to the public. \nAttendees are encouraged to arrive early\, as seating is limited and available on a first-come-first-served basis. \nFor more information\, contact the museum at 360-993-5679 or outreach@cchmuseum.org.
URL:https://cchmuseum.org/calendar/cchm-speaker-series-7-2022-05-05/
LOCATION:Historic Covington House\, 4201 Main St\, Vancouver\, WA\, 98660\, United States
CATEGORIES:Speaker Series
ATTACH;FMTTYPE=image/png:https://cchmuseum.org/wp-content/uploads/2022/01/2022_SpeakerSeries_May_calendar.png
END:VEVENT
END:VCALENDAR