BEGIN:VCALENDAR
VERSION:2.0
PRODID:-//Clark County Historical Museum - ECPv6.15.20//NONSGML v1.0//EN
CALSCALE:GREGORIAN
METHOD:PUBLISH
X-ORIGINAL-URL:https://cchmuseum.org
X-WR-CALDESC:Events for Clark County Historical Museum
REFRESH-INTERVAL;VALUE=DURATION:PT1H
X-Robots-Tag:noindex
X-PUBLISHED-TTL:PT1H
BEGIN:VTIMEZONE
TZID:America/Los_Angeles
BEGIN:DAYLIGHT
TZOFFSETFROM:-0800
TZOFFSETTO:-0700
TZNAME:PDT
DTSTART:20210314T100000
END:DAYLIGHT
BEGIN:STANDARD
TZOFFSETFROM:-0700
TZOFFSETTO:-0800
TZNAME:PST
DTSTART:20211107T090000
END:STANDARD
BEGIN:DAYLIGHT
TZOFFSETFROM:-0800
TZOFFSETTO:-0700
TZNAME:PDT
DTSTART:20220313T100000
END:DAYLIGHT
BEGIN:STANDARD
TZOFFSETFROM:-0700
TZOFFSETTO:-0800
TZNAME:PST
DTSTART:20221106T090000
END:STANDARD
BEGIN:DAYLIGHT
TZOFFSETFROM:-0800
TZOFFSETTO:-0700
TZNAME:PDT
DTSTART:20230312T100000
END:DAYLIGHT
BEGIN:STANDARD
TZOFFSETFROM:-0700
TZOFFSETTO:-0800
TZNAME:PST
DTSTART:20231105T090000
END:STANDARD
BEGIN:DAYLIGHT
TZOFFSETFROM:-0800
TZOFFSETTO:-0700
TZNAME:PDT
DTSTART:20240310T100000
END:DAYLIGHT
BEGIN:STANDARD
TZOFFSETFROM:-0700
TZOFFSETTO:-0800
TZNAME:PST
DTSTART:20241103T090000
END:STANDARD
BEGIN:DAYLIGHT
TZOFFSETFROM:-0800
TZOFFSETTO:-0700
TZNAME:PDT
DTSTART:20250309T100000
END:DAYLIGHT
BEGIN:STANDARD
TZOFFSETFROM:-0700
TZOFFSETTO:-0800
TZNAME:PST
DTSTART:20251102T090000
END:STANDARD
BEGIN:DAYLIGHT
TZOFFSETFROM:-0800
TZOFFSETTO:-0700
TZNAME:PDT
DTSTART:20260308T100000
END:DAYLIGHT
BEGIN:STANDARD
TZOFFSETFROM:-0700
TZOFFSETTO:-0800
TZNAME:PST
DTSTART:20261101T090000
END:STANDARD
END:VTIMEZONE
BEGIN:VEVENT
DTSTART;TZID=America/Los_Angeles:20250726T110000
DTEND;TZID=America/Los_Angeles:20250726T123000
DTSTAMP:20260424T014708
CREATED:20250315T222714Z
LAST-MODIFIED:20250426T204151Z
UID:10000710-1753527600-1753533000@cchmuseum.org
SUMMARY:Wander Clark County - Historic Downtown Battle Ground
DESCRIPTION:Step into history with the Battle Ground Walking Tour\, where each stop brings the past to life. Discover how this town got its unique name from a peaceful resolution gone awry in 1855. Stroll down Main Street\, once the dividing line between early homesteads\, and see landmarks like the 1928 Sacred Heart Church\, the historic Stith Home\, and Dr. Skinner’s combined home and office. Learn about the daring 1946 Battle Ground State Bank robbery\, the devastating fires that reshaped the town\, and the thriving businesses that emerged from its pioneer days. From century-old storefronts to hidden tales of resilience and innovation\, this tour offers a fascinating glimpse into the people and places that built Battle Ground. Book your tickets today and explore the stories waiting to be uncovered! \nTickets are $10.00 for non-members. CCHM members are free but RSVP is required. \nFor questions\, contact the museum at 360-993-5679 or outreach@cchmuseum.org. \nThank you to our Program Sponsor\, X Dog Adventures!
URL:https://cchmuseum.org/calendar/wander-clark-county-historic-downtown-battle-ground/
LOCATION:Dev’s Coffee Bar\, 316 E Main St.\, Battle Ground\, WA\, 98604\, United States
CATEGORIES:Summer Walking Tours
ATTACH;FMTTYPE=image/jpeg:https://cchmuseum.org/wp-content/uploads/2025/03/2025WanderClarkCounty_wide-1.jpg
END:VEVENT
BEGIN:VEVENT
DTSTART;TZID=America/Los_Angeles:20250726T090000
DTEND;TZID=America/Los_Angeles:20250726T113000
DTSTAMP:20260424T014708
CREATED:20250426T204457Z
LAST-MODIFIED:20250426T204457Z
UID:10000721-1753520400-1753529400@cchmuseum.org
SUMMARY:Wander Clark County - Historic Downtown Battle Ground
DESCRIPTION:Step into history with the Battle Ground Walking Tour\, where each stop brings the past to life. Discover how this town got its unique name from a peaceful resolution gone awry in 1855. Stroll down Main Street\, once the dividing line between early homesteads\, and see landmarks like the 1928 Sacred Heart Church\, the historic Stith Home\, and Dr. Skinner’s combined home and office. Learn about the daring 1946 Battle Ground State Bank robbery\, the devastating fires that reshaped the town\, and the thriving businesses that emerged from its pioneer days. From century-old storefronts to hidden tales of resilience and innovation\, this tour offers a fascinating glimpse into the people and places that built Battle Ground. Book your tickets today and explore the stories waiting to be uncovered! \nTickets are $10.00 for non-members. CCHM members are free but RSVP is required. \nFor questions\, contact the museum at 360-993-5679 or outreach@cchmuseum.org. \nThank you to our Program Sponsor\, X Dog Adventures!
URL:https://cchmuseum.org/calendar/wander-clark-county-historic-downtown-battle-ground-2/
LOCATION:Dev’s Coffee Bar\, 316 E Main St.\, Battle Ground\, WA\, 98604\, United States
CATEGORIES:Summer Walking Tours
ATTACH;FMTTYPE=image/png:https://cchmuseum.org/wp-content/uploads/2025/03/Battle-Ground.png
END:VEVENT
BEGIN:VEVENT
DTSTART;TZID=America/Los_Angeles:20220827T090000
DTEND;TZID=America/Los_Angeles:20220827T110000
DTSTAMP:20260424T014708
CREATED:20220105T213726Z
LAST-MODIFIED:20220628T152929Z
UID:10000016-1661590800-1661598000@cchmuseum.org
SUMMARY:Wander Clark County: Battle Ground
DESCRIPTION:Learn about Battle Ground’s quirky history\, from its beginnings as an immigrant community to an infamous bank robbery in 1946. Discover architectural gems designed by prolific architect Day Hillborn\, and hear stories about the people that settled in the communities which eventually became the City of Battle Ground.\n\nTour will meet in front of Hidden River Roasters – Old Town.\n\nWANDER CLARK COUNTY\nSummer is the right time to wander through and learn the stories of people who have lived\, worked\, and carved out their place in Clark County. Our history tours offer a fascinating glimpse through the windows of time\, offering a mix of memories\, research\, and architectural details.\nFor each tour\, guides will lead up to 25 people for approximately a mile\, making frequent stops along the way to view buildings\, tell stories\, and answer questions. Good walking shoes and balance aids are recommended; terrain varies and consists mostly of city sidewalks.\nTours happen rain or shine\, so please dress for the weather. Comfortable shoes and water are recommended. There are no restroom stops on the tours.\n\n\nTour are held most Saturdays throughout the summer. Each weekend highlights a different destination.\n\n\nMembers please use code Summer2022 when purchasing your tour. Membership will be confirmed the morning of the tour. \n\nPurchase your ticket now!
URL:https://cchmuseum.org/calendar/walking-tours-battle-ground/
LOCATION:Dev’s Coffee Bar\, 316 E Main St.\, Battle Ground\, WA\, 98604\, United States
CATEGORIES:Summer Walking Tours
ATTACH;FMTTYPE=image/png:https://cchmuseum.org/wp-content/uploads/2021/04/2021WanderClarkCounty_1920x1080.png
END:VEVENT
END:VCALENDAR