BEGIN:VCALENDAR
VERSION:2.0
PRODID:-//Clark County Historical Museum - ECPv6.15.20//NONSGML v1.0//EN
CALSCALE:GREGORIAN
METHOD:PUBLISH
X-WR-CALNAME:Clark County Historical Museum
X-ORIGINAL-URL:https://cchmuseum.org
X-WR-CALDESC:Events for Clark County Historical Museum
REFRESH-INTERVAL;VALUE=DURATION:PT1H
X-Robots-Tag:noindex
X-PUBLISHED-TTL:PT1H
BEGIN:VTIMEZONE
TZID:America/Los_Angeles
BEGIN:DAYLIGHT
TZOFFSETFROM:-0800
TZOFFSETTO:-0700
TZNAME:PDT
DTSTART:20210314T100000
END:DAYLIGHT
BEGIN:STANDARD
TZOFFSETFROM:-0700
TZOFFSETTO:-0800
TZNAME:PST
DTSTART:20211107T090000
END:STANDARD
BEGIN:DAYLIGHT
TZOFFSETFROM:-0800
TZOFFSETTO:-0700
TZNAME:PDT
DTSTART:20220313T100000
END:DAYLIGHT
BEGIN:STANDARD
TZOFFSETFROM:-0700
TZOFFSETTO:-0800
TZNAME:PST
DTSTART:20221106T090000
END:STANDARD
BEGIN:DAYLIGHT
TZOFFSETFROM:-0800
TZOFFSETTO:-0700
TZNAME:PDT
DTSTART:20230312T100000
END:DAYLIGHT
BEGIN:STANDARD
TZOFFSETFROM:-0700
TZOFFSETTO:-0800
TZNAME:PST
DTSTART:20231105T090000
END:STANDARD
BEGIN:DAYLIGHT
TZOFFSETFROM:-0800
TZOFFSETTO:-0700
TZNAME:PDT
DTSTART:20240310T100000
END:DAYLIGHT
BEGIN:STANDARD
TZOFFSETFROM:-0700
TZOFFSETTO:-0800
TZNAME:PST
DTSTART:20241103T090000
END:STANDARD
END:VTIMEZONE
BEGIN:VEVENT
DTSTART;TZID=America/Los_Angeles:20230916T090000
DTEND;TZID=America/Los_Angeles:20230916T150000
DTSTAMP:20260423T144717
CREATED:20230513T163003Z
LAST-MODIFIED:20230513T163015Z
UID:10000193-1694854800-1694876400@cchmuseum.org
SUMMARY:CCHM @ Vancouver Peace & Justice Fair
DESCRIPTION:
URL:https://cchmuseum.org/calendar/vancouver-peace-justice-fair/
LOCATION:Esther Short Park\, 605 Esther St\, Vancouver\, WA\, 98660\, United States
CATEGORIES:Out & About
END:VEVENT
BEGIN:VEVENT
DTSTART;TZID=America/Los_Angeles:20230617T130000
DTEND;TZID=America/Los_Angeles:20230617T190000
DTSTAMP:20260423T144717
CREATED:20230513T163147Z
LAST-MODIFIED:20230513T163147Z
UID:10000194-1687006800-1687028400@cchmuseum.org
SUMMARY:CCHM @ Juneteenth Freedom Celebration
DESCRIPTION:
URL:https://cchmuseum.org/calendar/juneteenth/
LOCATION:Esther Short Park\, 605 Esther St\, Vancouver\, WA\, 98660\, United States
CATEGORIES:Out & About
END:VEVENT
BEGIN:VEVENT
DTSTART;TZID=America/Los_Angeles:20220910T090000
DTEND;TZID=America/Los_Angeles:20220910T160000
DTSTAMP:20260423T144717
CREATED:20220406T162439Z
LAST-MODIFIED:20220406T162816Z
UID:10000042-1662800400-1662825600@cchmuseum.org
SUMMARY:CCHM @ Peace & Justice Fair
DESCRIPTION:
URL:https://cchmuseum.org/calendar/cchm-peace-justice-fair/
LOCATION:Esther Short Park\, 605 Esther St\, Vancouver\, WA\, 98660\, United States
END:VEVENT
END:VCALENDAR