BEGIN:VCALENDAR
VERSION:2.0
PRODID:-//Clark County Historical Museum - ECPv6.15.20//NONSGML v1.0//EN
CALSCALE:GREGORIAN
METHOD:PUBLISH
X-ORIGINAL-URL:https://cchmuseum.org
X-WR-CALDESC:Events for Clark County Historical Museum
REFRESH-INTERVAL;VALUE=DURATION:PT1H
X-Robots-Tag:noindex
X-PUBLISHED-TTL:PT1H
BEGIN:VTIMEZONE
TZID:America/Los_Angeles
BEGIN:DAYLIGHT
TZOFFSETFROM:-0800
TZOFFSETTO:-0700
TZNAME:PDT
DTSTART:20220313T100000
END:DAYLIGHT
BEGIN:STANDARD
TZOFFSETFROM:-0700
TZOFFSETTO:-0800
TZNAME:PST
DTSTART:20221106T090000
END:STANDARD
BEGIN:DAYLIGHT
TZOFFSETFROM:-0800
TZOFFSETTO:-0700
TZNAME:PDT
DTSTART:20230312T100000
END:DAYLIGHT
BEGIN:STANDARD
TZOFFSETFROM:-0700
TZOFFSETTO:-0800
TZNAME:PST
DTSTART:20231105T090000
END:STANDARD
BEGIN:DAYLIGHT
TZOFFSETFROM:-0800
TZOFFSETTO:-0700
TZNAME:PDT
DTSTART:20240310T100000
END:DAYLIGHT
BEGIN:STANDARD
TZOFFSETFROM:-0700
TZOFFSETTO:-0800
TZNAME:PST
DTSTART:20241103T090000
END:STANDARD
END:VTIMEZONE
BEGIN:VEVENT
DTSTART;TZID=America/Los_Angeles:20230803T190000
DTEND;TZID=America/Los_Angeles:20230803T203000
DTSTAMP:20260424T064930
CREATED:20230518T222252Z
LAST-MODIFIED:20230518T222255Z
UID:10000067-1691089200-1691094600@cchmuseum.org
SUMMARY:Will the 2020s Roar like the 1920s?
DESCRIPTION:Clark County Historical Museum and Humanities Washington\, as part of the 2023 CCHM Speaker Series\, are excited to have William Woodward bring his thought-provoking presentation “Will the 2020s Roar like the 1920s?” to Southwest Washington. The event will occur on Thursday\, August 3\, 2023 in person at the Clark County Historical Museum (1511 Main Street\, Vancouver\, WA 98660). Doors open at 6 p.m. and the event begins at 7 p.m.  \nA pandemic\, protests\, and economic jolts ushered in the so-called “Roaring Twenties.” Americans adjusted in ways both innovative and counterproductive. What lessons from the 1920s can we apply to our own looming 20s? \nHistorian William Woodward charts the eerily familiar developments of a century ago: shattered idealism\, social clashes\, domestic terrorism\, culture wars\, disorienting technologies\, and fearsome disease. How might stories from a particular moment in the past—one with remarkable parallels to the present—shed light on ways for us to move forward? As the 2020s unfold\, what conversations should we have? \nWilliam Woodward (he/him) is an award-winning professor of American and Pacific Northwest history at Seattle Pacific University. His teaching\, research\, and writing focus on iconic elements of regional and national culture\, including the military and baseball. His co-authored pictorial history of the Washington National Guard was released in 2019. He earned his bachelor’s degree from Wheaton College\, as well as a master’s degree and PhD from Georgetown University. \nThe CCHM Speaker Series is sponsored by the Humanities Washington and Clark County Historic Preservation Commission. Thanks to support from Humanities Washington this event is free to the public.  \nAttendees are encouraged to arrive early\, as seating is limited. \nFor more information\, contact the museum at 360-993-5679 or outreach@cchmuseum.org. 
URL:https://cchmuseum.org/calendar/speaker-series-8/
LOCATION:Clark County Historical Museum\, 1511 Main St.\, Vancouver\, WA\, 98660\, United States
CATEGORIES:Speaker Series
ATTACH;FMTTYPE=image/png:https://cchmuseum.org/wp-content/uploads/2022/12/Aug2023_wide.png
END:VEVENT
END:VCALENDAR