BEGIN:VCALENDAR
VERSION:2.0
PRODID:-//Clark County Historical Museum - ECPv6.15.20//NONSGML v1.0//EN
CALSCALE:GREGORIAN
METHOD:PUBLISH
X-WR-CALNAME:Clark County Historical Museum
X-ORIGINAL-URL:https://cchmuseum.org
X-WR-CALDESC:Events for Clark County Historical Museum
REFRESH-INTERVAL;VALUE=DURATION:PT1H
X-Robots-Tag:noindex
X-PUBLISHED-TTL:PT1H
BEGIN:VTIMEZONE
TZID:America/Los_Angeles
BEGIN:DAYLIGHT
TZOFFSETFROM:-0800
TZOFFSETTO:-0700
TZNAME:PDT
DTSTART:20210314T100000
END:DAYLIGHT
BEGIN:STANDARD
TZOFFSETFROM:-0700
TZOFFSETTO:-0800
TZNAME:PST
DTSTART:20211107T090000
END:STANDARD
BEGIN:DAYLIGHT
TZOFFSETFROM:-0800
TZOFFSETTO:-0700
TZNAME:PDT
DTSTART:20220313T100000
END:DAYLIGHT
BEGIN:STANDARD
TZOFFSETFROM:-0700
TZOFFSETTO:-0800
TZNAME:PST
DTSTART:20221106T090000
END:STANDARD
BEGIN:DAYLIGHT
TZOFFSETFROM:-0800
TZOFFSETTO:-0700
TZNAME:PDT
DTSTART:20230312T100000
END:DAYLIGHT
BEGIN:STANDARD
TZOFFSETFROM:-0700
TZOFFSETTO:-0800
TZNAME:PST
DTSTART:20231105T090000
END:STANDARD
END:VTIMEZONE
BEGIN:VEVENT
DTSTART;TZID=America/Los_Angeles:20221112T160000
DTEND;TZID=America/Los_Angeles:20221112T170000
DTSTAMP:20260424T203024
CREATED:20221026T021121Z
LAST-MODIFIED:20221027T195302Z
UID:10000059-1668268800-1668272400@cchmuseum.org
SUMMARY:"Looking Back at the 1972 Tornado" with Steve Becker *Members Only Event*
DESCRIPTION:When: November 12th\, 2022 from 4:00 pm to 5:00 pm \nWhere: Clark County Historical Museum (1511 Main Street\, Vancouver\, WA 98660) \nCost: Free for CCHS Members (Limit 50 people) \nWhat: It was the biggest and most dramatic rescue in Clark County History – A tornado demolishes Peter S. Ogden Elementary School\, injuring dozens of young children while trapping others in the rubble of the fallen brick structure. But moments later\, an army of rescuers descended on the scene when dozens of students from nearby Fort Vancouver High School began picking through the rubble to rescue the children who\, in some cases\, their own siblings. The April 1972 tornado also demolished a bowling alley where a childcare attendant gave her life protecting the children entrusted to her. CCHM Member Steve Becker tells the story of that day and the countless acts of heroism that saved lives and inspired a generation of students at Fort Vancouver High School. \n\n\n“Looking Back at the 1972 Tornado” with Steve Becker *Members Only Event* \nFree \nBuy now \n\n 
URL:https://cchmuseum.org/calendar/looking-back-at-the-1972-tornado-with-steve-becker-members-only-event/
LOCATION:Clark County Historical Museum\, 1511 Main St.\, Vancouver\, WA\, 98660\, United States
ATTACH;FMTTYPE=image/png:https://cchmuseum.org/wp-content/uploads/2022/10/Becker_Talk.png
END:VEVENT
END:VCALENDAR