BEGIN:VCALENDAR
VERSION:2.0
PRODID:-//Clark County Historical Museum - ECPv6.15.20//NONSGML v1.0//EN
CALSCALE:GREGORIAN
METHOD:PUBLISH
X-ORIGINAL-URL:https://cchmuseum.org
X-WR-CALDESC:Events for Clark County Historical Museum
REFRESH-INTERVAL;VALUE=DURATION:PT1H
X-Robots-Tag:noindex
X-PUBLISHED-TTL:PT1H
BEGIN:VTIMEZONE
TZID:America/Los_Angeles
BEGIN:DAYLIGHT
TZOFFSETFROM:-0800
TZOFFSETTO:-0700
TZNAME:PDT
DTSTART:20230312T100000
END:DAYLIGHT
BEGIN:STANDARD
TZOFFSETFROM:-0700
TZOFFSETTO:-0800
TZNAME:PST
DTSTART:20231105T090000
END:STANDARD
BEGIN:DAYLIGHT
TZOFFSETFROM:-0800
TZOFFSETTO:-0700
TZNAME:PDT
DTSTART:20240310T100000
END:DAYLIGHT
BEGIN:STANDARD
TZOFFSETFROM:-0700
TZOFFSETTO:-0800
TZNAME:PST
DTSTART:20241103T090000
END:STANDARD
BEGIN:DAYLIGHT
TZOFFSETFROM:-0800
TZOFFSETTO:-0700
TZNAME:PDT
DTSTART:20250309T100000
END:DAYLIGHT
BEGIN:STANDARD
TZOFFSETFROM:-0700
TZOFFSETTO:-0800
TZNAME:PST
DTSTART:20251102T090000
END:STANDARD
END:VTIMEZONE
BEGIN:VEVENT
DTSTART;TZID=America/Los_Angeles:20241003T190000
DTEND;TZID=America/Los_Angeles:20241003T200000
DTSTAMP:20260424T040529
CREATED:20231230T190136Z
LAST-MODIFIED:20241003T175653Z
UID:10000559-1727982000-1727985600@cchmuseum.org
SUMMARY:The Trickster: How this Ancient Archetype Helps Us to Imagine a Better World
DESCRIPTION:What do Loki\, Banksy\, Bugs Bunny\, Thelonious Monk\, Mae West\, Yoko Ono\, Raven\, Eshù Elégba\, and Muhammad Ali all have in common? Whether deity or human\, all bring Trickster magic to our world.   \nThe Trickster\, a character who animates and enlivens humanity’s oldest stories\, is frequently misunderstood. Wander and wonder with author Shepherd Siegel through the paradoxes\, art\, tricks\, backfires\, pranks\, pratfalls\, and messianic acts that together form this indestructible component of our collective psyche. From that common ground\, we’ll share our own personal encounters with tricksterism and come to an understanding of how the journey from moral indeterminacy to moral discovery can inspire us to imagine and create a better world.  \nShepherd Siegel (he/him) is an author and activist. He started off as a professional rock and jazz musician before becoming a teacher for incarcerated youth and students with disabilities. He earned his doctorate at University of California\, Berkeley\, with studies in anthropology and special education. His recent books\, Disruptive Play and Tricking Power into Performing Acts of Love (a Bronze Winner for an INDIES Book of the Year Award and Silver winner of a CIPA Evvy)\, explore the Trickster in politics and culture.
URL:https://cchmuseum.org/calendar/3-oct-2024/
LOCATION:Fourth Plain Community Commons\, 3101 E 4th Plain Blvd Ste.101\, Vancouver\, WA\, 98661\, United States
CATEGORIES:Speaker Series
ATTACH;FMTTYPE=image/png:https://cchmuseum.org/wp-content/uploads/2023/10/Oct2024.png
END:VEVENT
END:VCALENDAR