BEGIN:VCALENDAR
VERSION:2.0
PRODID:-//Clark County Historical Museum - ECPv6.15.20//NONSGML v1.0//EN
CALSCALE:GREGORIAN
METHOD:PUBLISH
X-WR-CALNAME:Clark County Historical Museum
X-ORIGINAL-URL:https://cchmuseum.org
X-WR-CALDESC:Events for Clark County Historical Museum
REFRESH-INTERVAL;VALUE=DURATION:PT1H
X-Robots-Tag:noindex
X-PUBLISHED-TTL:PT1H
BEGIN:VTIMEZONE
TZID:America/Los_Angeles
BEGIN:DAYLIGHT
TZOFFSETFROM:-0800
TZOFFSETTO:-0700
TZNAME:PDT
DTSTART:20240310T100000
END:DAYLIGHT
BEGIN:STANDARD
TZOFFSETFROM:-0700
TZOFFSETTO:-0800
TZNAME:PST
DTSTART:20241103T090000
END:STANDARD
BEGIN:DAYLIGHT
TZOFFSETFROM:-0800
TZOFFSETTO:-0700
TZNAME:PDT
DTSTART:20250309T100000
END:DAYLIGHT
BEGIN:STANDARD
TZOFFSETFROM:-0700
TZOFFSETTO:-0800
TZNAME:PST
DTSTART:20251102T090000
END:STANDARD
BEGIN:DAYLIGHT
TZOFFSETFROM:-0800
TZOFFSETTO:-0700
TZNAME:PDT
DTSTART:20260308T100000
END:DAYLIGHT
BEGIN:STANDARD
TZOFFSETFROM:-0700
TZOFFSETTO:-0800
TZNAME:PST
DTSTART:20261101T090000
END:STANDARD
END:VTIMEZONE
BEGIN:VEVENT
DTSTART;TZID=America/Los_Angeles:20250122T190000
DTEND;TZID=America/Los_Angeles:20250122T210000
DTSTAMP:20260425T162126
CREATED:20241210T201655Z
LAST-MODIFIED:20241210T205010Z
UID:10000699-1737572400-1737579600@cchmuseum.org
SUMMARY:History on Tap: Ragtime to Swing and Everything In Between
DESCRIPTION:Clark County Historical Museum History on Tap returns to the Kiggins Theatre on Wednesday\, January 22 with bandleader and musical historian\, Sammuel Hawkins\, presenting “The Historic Music Preservation Project: Ragtime to Swing and Everything In Between.” \nStep back in time for a captivating musical journey through the evolution of early 20th-century popular music and jazz! The Clark County Historical Museum (CCHM) is excited to present Sammuel Hawkins and his 11-piece ensemble\, The Ne Plus Ultra Jass Orchestra\, for a special talk exploring the influence of technology on music from 1915-1940. Hawkins\, who serves as the Executive Director of the Historic Music Preservation Project\, will guide the audience through this musical history\, showcasing how technological advancements like radio and recording reshaped the sounds of the time. Attendees will enjoy an immersive experience of both rich musical history and engaging live performance. \nAdmission to History on Tap is free for CCHM Members and $5 in advance for the general public. Day of admission is $10 for the public. Purchase your tickets at the Kiggins Theatre Box Office or online at https://www.kigginstheatre.com/movie/history-on-tap—historic-music-preservation-project/ \nThe 2024 History on Tap season is brought to you by Vancouver’s Downtown Association and Heritage Bank. Program support provided by VersaEvents. \n 
URL:https://cchmuseum.org/calendar/history-on-tap-from-ragtime-to-swing-and-everything-in-between/
ATTACH;FMTTYPE=image/png:https://cchmuseum.org/wp-content/uploads/2024/12/2025_Jan_HoT.png
END:VEVENT
END:VCALENDAR