BEGIN:VCALENDAR
VERSION:2.0
PRODID:-//Clark County Historical Museum - ECPv6.15.20//NONSGML v1.0//EN
CALSCALE:GREGORIAN
METHOD:PUBLISH
X-ORIGINAL-URL:https://cchmuseum.org
X-WR-CALDESC:Events for Clark County Historical Museum
REFRESH-INTERVAL;VALUE=DURATION:PT1H
X-Robots-Tag:noindex
X-PUBLISHED-TTL:PT1H
BEGIN:VTIMEZONE
TZID:America/Los_Angeles
BEGIN:DAYLIGHT
TZOFFSETFROM:-0800
TZOFFSETTO:-0700
TZNAME:PDT
DTSTART:20220313T100000
END:DAYLIGHT
BEGIN:STANDARD
TZOFFSETFROM:-0700
TZOFFSETTO:-0800
TZNAME:PST
DTSTART:20221106T090000
END:STANDARD
BEGIN:DAYLIGHT
TZOFFSETFROM:-0800
TZOFFSETTO:-0700
TZNAME:PDT
DTSTART:20230312T100000
END:DAYLIGHT
BEGIN:STANDARD
TZOFFSETFROM:-0700
TZOFFSETTO:-0800
TZNAME:PST
DTSTART:20231105T090000
END:STANDARD
BEGIN:DAYLIGHT
TZOFFSETFROM:-0800
TZOFFSETTO:-0700
TZNAME:PDT
DTSTART:20240310T100000
END:DAYLIGHT
BEGIN:STANDARD
TZOFFSETFROM:-0700
TZOFFSETTO:-0800
TZNAME:PST
DTSTART:20241103T090000
END:STANDARD
END:VTIMEZONE
BEGIN:VEVENT
DTSTART;TZID=America/Los_Angeles:20231005T190000
DTEND;TZID=America/Los_Angeles:20231005T203000
DTSTAMP:20260425T100102
CREATED:20230518T222843Z
LAST-MODIFIED:20230518T222845Z
UID:10000069-1696532400-1696537800@cchmuseum.org
SUMMARY:Double Crossed: The American Missionary Spies of World War II
DESCRIPTION:Clark County Historical Museum and Humanities Washington are excited to welcome Matthew Avery Sutton’s remarkable presentation\, “Double Crossed: The American Missionary Spies of World War II.” The event will occur on Thursday\, October 5\, 2023 in person at the Clark County Historical Museum (1511 Main Street\, Vancouver\, WA 98660). Doors open at 6 p.m. and the event begins at 7 p.m.  \nWhat made a good missionary also made a good spy\, or so thought American intelligence agencies in World War II. These religious men and women carried out covert operations\, bombings\, and assassinations—confident that their nefarious deeds would eventually help them achieve their mission by expanding the kingdom of God. \nHistorian Matthew Avery Sutton tells the extraordinary story of these missionaries\, priests\, and rabbis who played an outsized role in leading the United States to victory in World War II. This talk is an untold story of wartime spy craft and a profound account of the compromises and doubts that war forces on those who wage it. \nMatthew Avery Sutton (he/him) is the Berry Family Distinguished Professor in Liberal Arts and the chair of the Department of History at Washington State University. He has authored several books\, the most recent of which is Double Crossed: The Missionaries Who Spied for the United States During the Second World War (2019)\, off which his talk is based. He has written for the New York Times and Washington Post. In 2016\, he was appointed a Guggenheim Foundation Fellow. \nThe CCHM Speaker Series is sponsored by the Humanities Washington and Clark County Historic Preservation Commission. Thanks to support from Humanities Washington this event is free to the public.  \nFor more information\, contact the museum at 360-993-5679 or outreach@cchmuseum.org.  \nAbout Humanities Washington\nHumanities Washington is a nonprofit organization dedicated to opening minds and bridging divides by creating spaces to explore different perspectives. For more about Humanities Washington\, visit www.humanities.org. \nAbout the Speakers Bureau Program\nIn communities throughout Washington State\, Speakers Bureau presenters give free public presentations on history\, politics\, music\, philosophy\, spiritual traditions\, and everything in between. \nTheir roster of over 30 Speakers Bureau presenters is made up of professors\, artists\, activists\, historians\, performers\, journalists\, and others—all chosen not only for their expertise\, but also for their ability to  \ninspire discussion with people of all ages and backgrounds. Hundreds of Speakers Bureau events take place each year. Find a Speakers Bureau event near you. \nTo reach as many Washingtonians as possible\, Humanities Washington partners with a wide range of organizations\, including libraries\, schools\, museums\, historical societies\, community centers\, and civic organizations. Qualifying nonprofit organizations are encouraged to host a speaker. \nThe Speakers Bureau program is made possible with support from the National Endowment for the Humanities\, the State of Washington via the Office of the Secretary of State\, the Thomas S. Foley Institute for Public Policy and Public Service at Washington State University\, and generous contributions from other businesses\, foundations\, and individuals.
URL:https://cchmuseum.org/calendar/speaker-series-10/
LOCATION:Clark County Historical Museum\, 1511 Main St.\, Vancouver\, WA\, 98660\, United States
CATEGORIES:Speaker Series
ATTACH;FMTTYPE=image/png:https://cchmuseum.org/wp-content/uploads/2022/12/Oct2023_wide.png
END:VEVENT
END:VCALENDAR