BEGIN:VCALENDAR
VERSION:2.0
PRODID:-//Clark County Historical Museum - ECPv6.15.20//NONSGML v1.0//EN
CALSCALE:GREGORIAN
METHOD:PUBLISH
X-WR-CALNAME:Clark County Historical Museum
X-ORIGINAL-URL:https://cchmuseum.org
X-WR-CALDESC:Events for Clark County Historical Museum
REFRESH-INTERVAL;VALUE=DURATION:PT1H
X-Robots-Tag:noindex
X-PUBLISHED-TTL:PT1H
BEGIN:VTIMEZONE
TZID:America/Los_Angeles
BEGIN:DAYLIGHT
TZOFFSETFROM:-0800
TZOFFSETTO:-0700
TZNAME:PDT
DTSTART:20220313T100000
END:DAYLIGHT
BEGIN:STANDARD
TZOFFSETFROM:-0700
TZOFFSETTO:-0800
TZNAME:PST
DTSTART:20221106T090000
END:STANDARD
BEGIN:DAYLIGHT
TZOFFSETFROM:-0800
TZOFFSETTO:-0700
TZNAME:PDT
DTSTART:20230312T100000
END:DAYLIGHT
BEGIN:STANDARD
TZOFFSETFROM:-0700
TZOFFSETTO:-0800
TZNAME:PST
DTSTART:20231105T090000
END:STANDARD
BEGIN:DAYLIGHT
TZOFFSETFROM:-0800
TZOFFSETTO:-0700
TZNAME:PDT
DTSTART:20240310T100000
END:DAYLIGHT
BEGIN:STANDARD
TZOFFSETFROM:-0700
TZOFFSETTO:-0800
TZNAME:PST
DTSTART:20241103T090000
END:STANDARD
END:VTIMEZONE
BEGIN:VEVENT
DTSTART;TZID=America/Los_Angeles:20230706T190000
DTEND;TZID=America/Los_Angeles:20230706T203000
DTSTAMP:20260425T082456
CREATED:20230518T221524Z
LAST-MODIFIED:20230518T221524Z
UID:10000066-1688670000-1688675400@cchmuseum.org
SUMMARY:Behind the Scenes: CCHM Collections Show & Tell
DESCRIPTION:Clark County Historical Museum invites the public to join CCHM collections manager\, Liza Schade\, as she presents “Behind the Scenes: CCHM Collections Show & Tell” for July’s CCHM Speaker Series. The event will occur on Thursday\, July 6\, 2023 in person at the Clark County Historical Museum (1511 Main Street\, Vancouver\, WA 98660). Doors open at 6 p.m. and the event begins at 7 p.m.  \nFor nearly 60 years the Clark County Historical Museum has been encouraging an understanding of how local history shapes the character of Clark County and strengthens our sense of place. As the County’s memory keepers\, CCHM has collected and preserved over 60\,000 items of local historical significance during this time. Our collection of artifacts\, images\, archival materials\, and oral histories includes a variety of objects\, although only a portion are on view at the museum.  \nIn this presentation\, learn more about how CCHM cares for our collection through preservation and public access; see some of the interesting and newest donations; and find out how we use these treasures to inform people about the region’s heritage and its importance in their daily lives.
URL:https://cchmuseum.org/calendar/speaker-series-7/
LOCATION:Clark County Historical Museum\, 1511 Main St.\, Vancouver\, WA\, 98660\, United States
CATEGORIES:Speaker Series
ATTACH;FMTTYPE=image/png:https://cchmuseum.org/wp-content/uploads/2022/12/Jul2023_SpkrSeries_wide.png
END:VEVENT
END:VCALENDAR