BEGIN:VCALENDAR
VERSION:2.0
PRODID:-//Clark County Historical Museum - ECPv6.15.20//NONSGML v1.0//EN
CALSCALE:GREGORIAN
METHOD:PUBLISH
X-WR-CALNAME:Clark County Historical Museum
X-ORIGINAL-URL:https://cchmuseum.org
X-WR-CALDESC:Events for Clark County Historical Museum
REFRESH-INTERVAL;VALUE=DURATION:PT1H
X-Robots-Tag:noindex
X-PUBLISHED-TTL:PT1H
BEGIN:VTIMEZONE
TZID:America/Los_Angeles
BEGIN:DAYLIGHT
TZOFFSETFROM:-0800
TZOFFSETTO:-0700
TZNAME:PDT
DTSTART:20230312T100000
END:DAYLIGHT
BEGIN:STANDARD
TZOFFSETFROM:-0700
TZOFFSETTO:-0800
TZNAME:PST
DTSTART:20231105T090000
END:STANDARD
BEGIN:DAYLIGHT
TZOFFSETFROM:-0800
TZOFFSETTO:-0700
TZNAME:PDT
DTSTART:20240310T100000
END:DAYLIGHT
BEGIN:STANDARD
TZOFFSETFROM:-0700
TZOFFSETTO:-0800
TZNAME:PST
DTSTART:20241103T090000
END:STANDARD
BEGIN:DAYLIGHT
TZOFFSETFROM:-0800
TZOFFSETTO:-0700
TZNAME:PDT
DTSTART:20250309T100000
END:DAYLIGHT
BEGIN:STANDARD
TZOFFSETFROM:-0700
TZOFFSETTO:-0800
TZNAME:PST
DTSTART:20251102T090000
END:STANDARD
END:VTIMEZONE
BEGIN:VEVENT
DTSTART;TZID=America/Los_Angeles:20240201T190000
DTEND;TZID=America/Los_Angeles:20240201T200000
DTSTAMP:20260424T081902
CREATED:20231103T214554Z
LAST-MODIFIED:20231230T183614Z
UID:10000551-1706814000-1706817600@cchmuseum.org
SUMMARY:Black Woman in Green: The Voice of Gloria Brown
DESCRIPTION:Join Dr. Donna Sinclair as she discusses her latest book\, Black Woman in Green: Gloria Brown and the Unmarked Trail to Forest Service Leadership. Co-written with Gloria Brown\, the book details Brown’s journey from an agency transcriptionist with the US Forest Service in D.C. to becoming the first African American woman to attain the rank of forest supervisor for the agency. \n“Gloria’s journey from a young widow and East Coast city girl to western forester and agency leader pulls together unexpected threads of African American\, environmental\, and Northwest history. Most importantly\, it is an inspiring story with lessons about overcoming challenges\, self-advocacy\, determination\, and putting dreams into action. I was honored to write Black Woman in Green with Gloria and am excited to share her story with the Clark County community.” \nDr. Donna Sinclair is a historian and scholar specializing in oral history and the history of the Pacific Northwest. Sinclair holds a bachelor’s degree from Washington State University – Vancouver as well as a Master’s in History and Ph.D. in Urban Studies from Portland State University. She teaches as an adjunct for Washington State University Vancouver and Western Oregon University\, served on the Washougal Planning Commission in 2017\, and is on the Washougal School Board of Directors. \nThe CCHM Speaker Series is presented by the Clark County Historic Preservation Commission. This month’s presentation is sponsored by the League of Women Voters of Clark County. General admission is $5; seniors and students are $4; children under 18 are $3; and the evening is free for CCHM members\, veterans\, and active-duty military personnel. \nFor more information\, contact the museum at 360-993-5679 or outreach@cchmuseum.org.
URL:https://cchmuseum.org/calendar/2024-feb-01/
LOCATION:Clark County Historical Museum\, 1511 Main St.\, Vancouver\, WA\, 98660\, United States
CATEGORIES:Speaker Series
ATTACH;FMTTYPE=image/png:https://cchmuseum.org/wp-content/uploads/2023/11/Feb2024.png
END:VEVENT
END:VCALENDAR