BEGIN:VCALENDAR
VERSION:2.0
PRODID:-//Clark County Historical Museum - ECPv6.15.20//NONSGML v1.0//EN
CALSCALE:GREGORIAN
METHOD:PUBLISH
X-WR-CALNAME:Clark County Historical Museum
X-ORIGINAL-URL:https://cchmuseum.org
X-WR-CALDESC:Events for Clark County Historical Museum
REFRESH-INTERVAL;VALUE=DURATION:PT1H
X-Robots-Tag:noindex
X-PUBLISHED-TTL:PT1H
BEGIN:VTIMEZONE
TZID:America/Los_Angeles
BEGIN:DAYLIGHT
TZOFFSETFROM:-0800
TZOFFSETTO:-0700
TZNAME:PDT
DTSTART:20230312T100000
END:DAYLIGHT
BEGIN:STANDARD
TZOFFSETFROM:-0700
TZOFFSETTO:-0800
TZNAME:PST
DTSTART:20231105T090000
END:STANDARD
BEGIN:DAYLIGHT
TZOFFSETFROM:-0800
TZOFFSETTO:-0700
TZNAME:PDT
DTSTART:20240310T100000
END:DAYLIGHT
BEGIN:STANDARD
TZOFFSETFROM:-0700
TZOFFSETTO:-0800
TZNAME:PST
DTSTART:20241103T090000
END:STANDARD
BEGIN:DAYLIGHT
TZOFFSETFROM:-0800
TZOFFSETTO:-0700
TZNAME:PDT
DTSTART:20250309T100000
END:DAYLIGHT
BEGIN:STANDARD
TZOFFSETFROM:-0700
TZOFFSETTO:-0800
TZNAME:PST
DTSTART:20251102T090000
END:STANDARD
END:VTIMEZONE
BEGIN:VEVENT
DTSTART;TZID=America/Los_Angeles:20240905T190000
DTEND;TZID=America/Los_Angeles:20240905T200000
DTSTAMP:20260424T190732
CREATED:20231230T185744Z
LAST-MODIFIED:20240711T171215Z
UID:10000558-1725562800-1725566400@cchmuseum.org
SUMMARY:Orugas a Mariposas
DESCRIPTION:Clark County Historical Museum and Fourth Plain Forward\, as part of the 2024 CCHM Speaker Series\, welcomes Diana Avalos Leos with her presentation “Orugas a Mariposas.” The event takes place on Thursday\, September 5th at the Fourth Plain Community Commons (3101 E 4th Plain Blvd Ste.101\, Vancouver\, WA 98661.) Doors open at 6:00 p.m. \nPresentation begins at 7 p.m. \n***PLEASE PARK ON THE STREET OR IN THE UMPQUA PARKING LOT*** \nLatino Leadership Northwest has been a vital force in Latino student education and leadership development in SW WA since 2011. Their unwavering mission empowers Latino youth to build relationships\, advocate for their education\, and take pride in their achievements\, while also providing a safety net of resources for their families. In this presentation\, Avalos-Leos will explore the history of the Latino/a community’s leadership in Clark County and this vital organization. \nThe CCHM Speaker Series season is sponsored by the Clark County Historic Preservation Commission. This month’s presentation is co-hosted with Fourth Plain Forward and Fourth Plain Community Commons. Admission is free and open to all. \nFor more information\, contact the museum at 360-993-5679 or outreach@cchmuseum.org.
URL:https://cchmuseum.org/calendar/5-sep-2024/
LOCATION:Fourth Plain Community Commons\, 3101 E 4th Plain Blvd Ste.101\, Vancouver\, WA\, 98661\, United States
CATEGORIES:Speaker Series
ATTACH;FMTTYPE=image/png:https://cchmuseum.org/wp-content/uploads/2023/12/Sep2024_SpeakerSeries_wide.png
END:VEVENT
END:VCALENDAR