BEGIN:VCALENDAR
VERSION:2.0
PRODID:-//Clark County Historical Museum - ECPv6.15.20//NONSGML v1.0//EN
CALSCALE:GREGORIAN
METHOD:PUBLISH
X-WR-CALNAME:Clark County Historical Museum
X-ORIGINAL-URL:https://cchmuseum.org
X-WR-CALDESC:Events for Clark County Historical Museum
REFRESH-INTERVAL;VALUE=DURATION:PT1H
X-Robots-Tag:noindex
X-PUBLISHED-TTL:PT1H
BEGIN:VTIMEZONE
TZID:America/Los_Angeles
BEGIN:DAYLIGHT
TZOFFSETFROM:-0800
TZOFFSETTO:-0700
TZNAME:PDT
DTSTART:20210314T100000
END:DAYLIGHT
BEGIN:STANDARD
TZOFFSETFROM:-0700
TZOFFSETTO:-0800
TZNAME:PST
DTSTART:20211107T090000
END:STANDARD
BEGIN:DAYLIGHT
TZOFFSETFROM:-0800
TZOFFSETTO:-0700
TZNAME:PDT
DTSTART:20220313T100000
END:DAYLIGHT
BEGIN:STANDARD
TZOFFSETFROM:-0700
TZOFFSETTO:-0800
TZNAME:PST
DTSTART:20221106T090000
END:STANDARD
BEGIN:DAYLIGHT
TZOFFSETFROM:-0800
TZOFFSETTO:-0700
TZNAME:PDT
DTSTART:20230312T100000
END:DAYLIGHT
BEGIN:STANDARD
TZOFFSETFROM:-0700
TZOFFSETTO:-0800
TZNAME:PST
DTSTART:20231105T090000
END:STANDARD
END:VTIMEZONE
BEGIN:VEVENT
DTSTART;TZID=America/Los_Angeles:20220303T190000
DTEND;TZID=America/Los_Angeles:20220303T200000
DTSTAMP:20260424T030725
CREATED:20220105T205928Z
LAST-MODIFIED:20220217T172336Z
UID:10000007-1646334000-1646337600@cchmuseum.org
SUMMARY:(Her)Story: Rebel Women of Clark County
DESCRIPTION:Clark County Historical Museum’s 2022 Speaker Series continues on Thursday\, Mar. 3\, with “(Her)Story: Rebel Women of Clark County” presented by April Buzby (she/they). The event will occur in-person at the Clark County Historical Museum. Doors open at 5 p.m. and the event begins at 7 p.m. \nJoin us as Buzby tells the stories of Elizabeth Jane Herrington Irwin and Mary Ellen Bates\, two extraordinary women who served during WWI & WWII. Hear about how Irwin’s story was nearly lost due to a clerical error. Experience the turmoil and concerns of Bates in the aftermath of Pearl Harbor. And learn about the legacy both women left behind. \nApril Buzby is a talented social impact strategist who has spent their career working to create more equitable policies and shine a light on the stories and challenges of marginalized communities. After 10 years in public policy on the national stage\, Buzby shifted their focus to local advocacy and the historical narrative. Currently serving as outreach and public programming manager at Clark County Historical Museum\, Buzby uses their skills and talent to support the organization’s effort to unearth the forgotten stories and communities of Clark County. They hold a BA in Geography from Keene State College and a Master of Community and Regional Planning from University of Oregon. \nThe CCHM Speaker Series is sponsored by the Clark County Historic Preservation Commission and Versa Events (formerly Wager Audio). General admission is $5; seniors and students are $4; children under 18 are $3; and the evening is free for CCHM members\, veterans\, and active-duty military personnel.  \nAttendees are encouraged to arrive early\, as seating is limited. For the safety of staff\, visitors\, and our families\, CCHM does require proof of vaccination for admission to all CCHM events. \nFor more information\, contact the museum at 360-993-5679 or outreach@cchmuseum.org.
URL:https://cchmuseum.org/calendar/speaker-series-mar2022/
LOCATION:Clark County Historical Museum\, 1511 Main St.\, Vancouver\, WA\, 98660\, United States
CATEGORIES:Speaker Series
ATTACH;FMTTYPE=image/png:https://cchmuseum.org/wp-content/uploads/2022/01/2022_SpeakerSeries_1920x1080.png
END:VEVENT
END:VCALENDAR