BEGIN:VCALENDAR
VERSION:2.0
PRODID:-//Clark County Historical Museum - ECPv6.15.20//NONSGML v1.0//EN
CALSCALE:GREGORIAN
METHOD:PUBLISH
X-ORIGINAL-URL:https://cchmuseum.org
X-WR-CALDESC:Events for Clark County Historical Museum
REFRESH-INTERVAL;VALUE=DURATION:PT1H
X-Robots-Tag:noindex
X-PUBLISHED-TTL:PT1H
BEGIN:VTIMEZONE
TZID:America/Los_Angeles
BEGIN:DAYLIGHT
TZOFFSETFROM:-0800
TZOFFSETTO:-0700
TZNAME:PDT
DTSTART:20230312T100000
END:DAYLIGHT
BEGIN:STANDARD
TZOFFSETFROM:-0700
TZOFFSETTO:-0800
TZNAME:PST
DTSTART:20231105T090000
END:STANDARD
BEGIN:DAYLIGHT
TZOFFSETFROM:-0800
TZOFFSETTO:-0700
TZNAME:PDT
DTSTART:20240310T100000
END:DAYLIGHT
BEGIN:STANDARD
TZOFFSETFROM:-0700
TZOFFSETTO:-0800
TZNAME:PST
DTSTART:20241103T090000
END:STANDARD
BEGIN:DAYLIGHT
TZOFFSETFROM:-0800
TZOFFSETTO:-0700
TZNAME:PDT
DTSTART:20250309T100000
END:DAYLIGHT
BEGIN:STANDARD
TZOFFSETFROM:-0700
TZOFFSETTO:-0800
TZNAME:PST
DTSTART:20251102T090000
END:STANDARD
BEGIN:DAYLIGHT
TZOFFSETFROM:-0800
TZOFFSETTO:-0700
TZNAME:PDT
DTSTART:20260308T100000
END:DAYLIGHT
BEGIN:STANDARD
TZOFFSETFROM:-0700
TZOFFSETTO:-0800
TZNAME:PST
DTSTART:20261101T090000
END:STANDARD
END:VTIMEZONE
BEGIN:VEVENT
DTSTART;TZID=America/Los_Angeles:20250306T190000
DTEND;TZID=America/Los_Angeles:20250306T200000
DTSTAMP:20260424T041122
CREATED:20250203T222346Z
LAST-MODIFIED:20250203T222846Z
UID:10000705-1741287600-1741291200@cchmuseum.org
SUMMARY:Big Apples\, Big Business: How Washington Became the Apple State
DESCRIPTION:The Clark County Historic Museum is pleased to present “Big Apples\, Big Business: How Washington Became the Apple State” through the generous support of the Humanities Washington Speakers Bureau and Fourth Plain Community Commons. \nJoin us for an engaging presentation by Amanda Van Lanen\, where we will explore the fascinating history of Washington state’s apple industry. Learn how Washington became the top apple-producing state in the U.S. and how it transformed apples into an industrialized commodity. \n“Big Apples\, Big Business” delves into the roles of scientists\, investors\, irrigators\, railroad corporations\, marketers\, and apple growers in shaping Washington’s apple industry. Discover how the state’s commitment to innovation and agriculture made its apples not just a regional product\, but a national powerhouse. \nThursday\, March 6\, 2025 \n7 PM\, Doors open at 6 PM \nLocation: Fourth Plain Community Commons \n3101 E Fourth Plain BlvdVancouver\, WA 98661 \nCost: Free
URL:https://cchmuseum.org/calendar/big-apples-big-business-how-washington-became-the-apple-state/
LOCATION:Fourth Plain Community Commons\, 3101 E 4th Plain Blvd Ste.101\, Vancouver\, WA\, 98661\, United States
CATEGORIES:Speaker Series
ATTACH;FMTTYPE=image/jpeg:https://cchmuseum.org/wp-content/uploads/2025/02/amanda_vanlanen_speaker_image.jpg
END:VEVENT
BEGIN:VEVENT
DTSTART;TZID=America/Los_Angeles:20240404T190000
DTEND;TZID=America/Los_Angeles:20240404T200000
DTSTAMP:20260424T041122
CREATED:20231216T221850Z
LAST-MODIFIED:20231230T183738Z
UID:10000553-1712257200-1712260800@cchmuseum.org
SUMMARY:Big Apples\, Big Business: How Washington Became the Apple State
DESCRIPTION:Why do so many apples in the grocery store look the same? And why do so many come from Washington? \nIn this talk\, explore how Washington became the top apple producing state in the country\, and how\, in the process\, it transformed apples into an industrialized commodity. Many regions in the West attempted to grow apples\, but in Washington\, big apples became big business thanks to the work of scientists\, investors\, irrigators\, railroad corporations\, marketers\, and apple growers. How does the history of Washington apples reflect larger changes happening in the American food system—changes that continue to affect our environment and the way we eat today? \nAmanda L. Van Lanen (she/her) is a Professor of History at Lewis-Clark State College and the author of The Washington Apple: Orchards and the Development of Industrial Agriculture. She earned a Ph.D. in history at Washington State University\, and blogs about food history at historyreheated.com. \nThe CCHM Speaker Series season is sponsored by the Clark County Historic Preservation Commission. This month’s presentation is co-hosted with Fourth Plain Forward and brought to you by Humanities Washington and the League of Women Voters of Clark County. Admission is free and open to all. \nFor more information\, contact the museum at 360-993-5679 or outreach@cchmuseum.org.
URL:https://cchmuseum.org/calendar/4-apr-2024/
LOCATION:Fourth Plain Community Commons\, 3101 E 4th Plain Blvd Ste.101\, Vancouver\, WA\, 98661\, United States
CATEGORIES:Speaker Series
ATTACH;FMTTYPE=image/png:https://cchmuseum.org/wp-content/uploads/2023/12/Apr2024.png
END:VEVENT
END:VCALENDAR