BEGIN:VCALENDAR
VERSION:2.0
PRODID:-//Clark County Historical Museum - ECPv6.15.20//NONSGML v1.0//EN
CALSCALE:GREGORIAN
METHOD:PUBLISH
X-WR-CALNAME:Clark County Historical Museum
X-ORIGINAL-URL:https://cchmuseum.org
X-WR-CALDESC:Events for Clark County Historical Museum
REFRESH-INTERVAL;VALUE=DURATION:PT1H
X-Robots-Tag:noindex
X-PUBLISHED-TTL:PT1H
BEGIN:VTIMEZONE
TZID:America/Los_Angeles
BEGIN:DAYLIGHT
TZOFFSETFROM:-0800
TZOFFSETTO:-0700
TZNAME:PDT
DTSTART:20250309T100000
END:DAYLIGHT
BEGIN:STANDARD
TZOFFSETFROM:-0700
TZOFFSETTO:-0800
TZNAME:PST
DTSTART:20251102T090000
END:STANDARD
BEGIN:DAYLIGHT
TZOFFSETFROM:-0800
TZOFFSETTO:-0700
TZNAME:PDT
DTSTART:20260308T100000
END:DAYLIGHT
BEGIN:STANDARD
TZOFFSETFROM:-0700
TZOFFSETTO:-0800
TZNAME:PST
DTSTART:20261101T090000
END:STANDARD
BEGIN:DAYLIGHT
TZOFFSETFROM:-0800
TZOFFSETTO:-0700
TZNAME:PDT
DTSTART:20270314T100000
END:DAYLIGHT
BEGIN:STANDARD
TZOFFSETFROM:-0700
TZOFFSETTO:-0800
TZNAME:PST
DTSTART:20271107T090000
END:STANDARD
END:VTIMEZONE
BEGIN:VEVENT
DTSTART;TZID=America/Los_Angeles:20260521T190000
DTEND;TZID=America/Los_Angeles:20260521T210000
DTSTAMP:20260423T190359
CREATED:20260404T170259Z
LAST-MODIFIED:20260404T215502Z
UID:10000780-1779390000-1779397200@cchmuseum.org
SUMMARY:History On Tap: Our Mr. Matsura - Documentary Screening and Talk
DESCRIPTION:A powerful documentary on immigrant photographer Frank Matsura\, followed by a talk exploring identity\, community\, and the American West. \n\n\n\n\nJoin the Clark County Historical Museum for an engaging evening of film and discussion at the historic Liberty Theater in Ridgefield. \nThis installment of History on Tap features a screening of Our Mr. Matsura\, a compelling documentary that tells the story of Frank (Sakae) Matsura\, a Japanese-born photographer who made his home in rural Washington State in the early 1900s. \nOrphaned at a young age and raised in Tokyo\, Matsura immigrated to the United States and eventually settled in Okanogan County. There\, he became deeply embedded in a diverse community of Native people\, settlers\, and working-class residents\, including cowboys\, miners\, ranchers\, and shopkeepers. Through his photography\, Matsura documented everyday life in the American West with warmth\, humor\, and an unusual sense of intimacy. \nUnlike the rigid and formal portraits typical of the era\, Matsura’s work often featured playful self-portraits and collaborative images that challenged conventional ideas about identity\, gender roles\, and representation. His photographs continue to shape how we understand the region’s history today. \nFollowing the screening\, attendees will have the opportunity to engage in a discussion exploring Matsura’s legacy\, the power of photography in storytelling\, and how immigrant voices have shaped the history of the Pacific Northwest. \nThis installment of History on Tap is made possible through the generosity of our season sponsors\, the Old Liberty Theater and Ridgefield Main Street\, with media sponsorship through The Columbian\, and program support from Enspire Arts and Silver Keys Media. \nEvent Details\nDate: Thursday\, May 21\, 2026\nTime: \n\nDoors open: 6:00 PM\nPresentation: 7:00 PM\n\nLocation:\nOld Liberty Theater\n115 N Main Ave\nRidgefield\, WA 98642 \nCost: \n\nFree for Clark County Historical Museum Members\n(Use member discount code at checkout that was sent in members’ only email)\n$5 for Non-Members
URL:https://cchmuseum.org/calendar/history-on-tap-our-mr-matsura-documentary-screening-and-talk/
LOCATION:Old Liberty Theater\, 115 Main Ave\, Ridgefield\, WA\, 98642\, United States
CATEGORIES:History on Tap
ATTACH;FMTTYPE=image/png:https://cchmuseum.org/wp-content/uploads/2026/04/May_Hot.png
END:VEVENT
END:VCALENDAR