BEGIN:VCALENDAR
VERSION:2.0
PRODID:-//Clark County Historical Museum - ECPv6.15.20//NONSGML v1.0//EN
CALSCALE:GREGORIAN
METHOD:PUBLISH
X-ORIGINAL-URL:https://cchmuseum.org
X-WR-CALDESC:Events for Clark County Historical Museum
REFRESH-INTERVAL;VALUE=DURATION:PT1H
X-Robots-Tag:noindex
X-PUBLISHED-TTL:PT1H
BEGIN:VTIMEZONE
TZID:America/Los_Angeles
BEGIN:DAYLIGHT
TZOFFSETFROM:-0800
TZOFFSETTO:-0700
TZNAME:PDT
DTSTART:20240310T100000
END:DAYLIGHT
BEGIN:STANDARD
TZOFFSETFROM:-0700
TZOFFSETTO:-0800
TZNAME:PST
DTSTART:20241103T090000
END:STANDARD
BEGIN:DAYLIGHT
TZOFFSETFROM:-0800
TZOFFSETTO:-0700
TZNAME:PDT
DTSTART:20250309T100000
END:DAYLIGHT
BEGIN:STANDARD
TZOFFSETFROM:-0700
TZOFFSETTO:-0800
TZNAME:PST
DTSTART:20251102T090000
END:STANDARD
BEGIN:DAYLIGHT
TZOFFSETFROM:-0800
TZOFFSETTO:-0700
TZNAME:PDT
DTSTART:20260308T100000
END:DAYLIGHT
BEGIN:STANDARD
TZOFFSETFROM:-0700
TZOFFSETTO:-0800
TZNAME:PST
DTSTART:20261101T090000
END:STANDARD
BEGIN:DAYLIGHT
TZOFFSETFROM:-0800
TZOFFSETTO:-0700
TZNAME:PDT
DTSTART:20270314T100000
END:DAYLIGHT
BEGIN:STANDARD
TZOFFSETFROM:-0700
TZOFFSETTO:-0800
TZNAME:PST
DTSTART:20271107T090000
END:STANDARD
END:VTIMEZONE
BEGIN:VEVENT
DTSTART;TZID=America/Los_Angeles:20251221T080000
DTEND;TZID=America/Los_Angeles:20260202T170000
DTSTAMP:20260423T221550
CREATED:20251128T044604Z
LAST-MODIFIED:20251128T044604Z
UID:10000766-1766304000-1770051600@cchmuseum.org
SUMMARY:Clark County Historical Museum Closed
DESCRIPTION:The Clark County Historical Museum will be closed from December 21 through February 2\, 2026\, and will reopen to the public on Tuesday\, February 3. We can’t wait to welcome you back in the new year! Come visit us and discover some exciting updates and fresh changes throughout the museum!
URL:https://cchmuseum.org/calendar/clark-county-historical-museum-closed/
LOCATION:Clark County Historical Museum\, 1511 Main St.\, Vancouver\, WA\, 98660\, United States
ATTACH;FMTTYPE=image/png:https://cchmuseum.org/wp-content/uploads/2025/11/Generic-15-1-scaled.png
END:VEVENT
BEGIN:VEVENT
DTSTART;TZID=America/Los_Angeles:20260205T190000
DTEND;TZID=America/Los_Angeles:20260205T203000
DTSTAMP:20260423T221550
CREATED:20260106T182654Z
LAST-MODIFIED:20260106T182654Z
UID:10000767-1770318000-1770323400@cchmuseum.org
SUMMARY:CCHM Speaker Series: How America Talks (Differently) About Slavery
DESCRIPTION:CCHM Speaker Series Presents: How America Talks (Differently) About Slavery\nThe Clark County Historical Museum is proud to present the next installment of its Speaker Series\, How America Talks (Differently) About Slavery\, on Thursday\, February 5\, 2026\, at the Clark County Historical Museum. \nSince colonial times\, religious and political divides have shaped how Americans discuss and interpret the history of slavery. From The New York Times’ 1619 Project to the Trump administration’s 1776 Report\, competing visions of race and slavery reflect long-standing tensions between critiquing and celebrating America’s past. \nIn this timely and thought-provoking talk\, attendees will explore the ongoing debates surrounding the history of slavery and how these conversations continue to influence education\, politics\, religion\, and culture. The presentation will examine how struggles over historical memory extend beyond the classroom into the public sphere\, revealing the central role these debates play in America’s fractured civic life and national identity. \nThe evening will feature guest speaker R. Charles Weller\, PhD\, Associate Professor of History (Career) at Washington State University and Senior Research Fellow at Al-Farabi Kazakh National University. Dr. Weller’s work focuses on religious-cultural identity and relations in Western-Asian and world history. He has published extensively in both English and Kazakh and is currently working on a multi-volume study examining how Jewish\, Christian\, and Islamic sacred law traditions have shaped American legal heritage. Dr. Weller resides in Redmond\, Washington. \nAdmission to this program is free and open to the public. However\, space is limited\, and advance registration is required to ensure a seat. Register here. \nThis program is made possible with generous support from Humanities Washington\, the Vancouver NAACP Branch 1139 – B\, and the Historic Preservation Commission. \n 
URL:https://cchmuseum.org/calendar/cchm-speaker-series-how-america-talks-differently-about-slavery/
LOCATION:Clark County Historical Museum\, 1511 Main St.\, Vancouver\, WA\, 98660\, United States
CATEGORIES:Speaker Series
ATTACH;FMTTYPE=image/png:https://cchmuseum.org/wp-content/uploads/2026/01/Feb2026-SS-Image.png
END:VEVENT
BEGIN:VEVENT
DTSTART;TZID=America/Los_Angeles:20260206T170000
DTEND;TZID=America/Los_Angeles:20260206T200000
DTSTAMP:20260423T221550
CREATED:20260107T215751Z
LAST-MODIFIED:20260107T215751Z
UID:10000768-1770397200-1770408000@cchmuseum.org
SUMMARY:CCHM After Hours: NAACP Vancouver\, Odyssey World\, LULAC
DESCRIPTION:Join us for CCHM After Hours at the Clark County Historical Museum!Celebrate community\, culture\, and connection during a special evening at the museum as part of our After Hours event. \nOn Friday\, February 6\, enjoy free museum admission from 5:00 to 8:00 PM and explore our exhibits after hours while connecting with local community organizations making a difference in Southwest Washington. We’re excited to welcome LULAC Vancouver\, NAACP Vancouver\, and Odyssey World as guest partners for the evening\, with each organization hosting a table to share resources\, stories\, and opportunities to get involved. \nCome learn more about how these organizations are working to advance civil rights\, empower youth and families\, support immigrants and refugees\, and strengthen our community through advocacy\, education\, and outreach\, all while enjoying a unique evening at the museum!
URL:https://cchmuseum.org/calendar/cchm-after-hours-naacp-vancouver-odyssey-world-lulac/
LOCATION:Clark County Historical Museum\, 1511 Main St.\, Vancouver\, WA\, 98660\, United States
CATEGORIES:First Friday
ATTACH;FMTTYPE=image/png:https://cchmuseum.org/wp-content/uploads/2026/01/February-scaled.png
END:VEVENT
END:VCALENDAR