BEGIN:VCALENDAR
VERSION:2.0
PRODID:-//Clark County Historical Museum - ECPv6.15.20//NONSGML v1.0//EN
CALSCALE:GREGORIAN
METHOD:PUBLISH
X-WR-CALNAME:Clark County Historical Museum
X-ORIGINAL-URL:https://cchmuseum.org
X-WR-CALDESC:Events for Clark County Historical Museum
REFRESH-INTERVAL;VALUE=DURATION:PT1H
X-Robots-Tag:noindex
X-PUBLISHED-TTL:PT1H
BEGIN:VTIMEZONE
TZID:America/Los_Angeles
BEGIN:DAYLIGHT
TZOFFSETFROM:-0800
TZOFFSETTO:-0700
TZNAME:PDT
DTSTART:20240310T100000
END:DAYLIGHT
BEGIN:STANDARD
TZOFFSETFROM:-0700
TZOFFSETTO:-0800
TZNAME:PST
DTSTART:20241103T090000
END:STANDARD
BEGIN:DAYLIGHT
TZOFFSETFROM:-0800
TZOFFSETTO:-0700
TZNAME:PDT
DTSTART:20250309T100000
END:DAYLIGHT
BEGIN:STANDARD
TZOFFSETFROM:-0700
TZOFFSETTO:-0800
TZNAME:PST
DTSTART:20251102T090000
END:STANDARD
BEGIN:DAYLIGHT
TZOFFSETFROM:-0800
TZOFFSETTO:-0700
TZNAME:PDT
DTSTART:20260308T100000
END:DAYLIGHT
BEGIN:STANDARD
TZOFFSETFROM:-0700
TZOFFSETTO:-0800
TZNAME:PST
DTSTART:20261101T090000
END:STANDARD
END:VTIMEZONE
BEGIN:VEVENT
DTSTART;TZID=America/Los_Angeles:20251016T190000
DTEND;TZID=America/Los_Angeles:20251016T210000
DTSTAMP:20260424T051914
CREATED:20250718T195254Z
LAST-MODIFIED:20250719T152908Z
UID:10000733-1760641200-1760648400@cchmuseum.org
SUMMARY:History on Tap: UFO Northwest — How Washington State Spawned the Men in Black
DESCRIPTION:History on Tap: UFO Northwest — How Washington State Spawned the Men in Black\nThursday\, October 16\, 2025Kiggins Theatre | 1011 Main Street\, Vancouver\, WA 98660Doors open at 6:00 PM | Program begins at 7:00 PM \nJoin us at the historic Kiggins Theatre for the next installment of History on Tap as we dive into one of the Pacific Northwest’s most fascinating and eerie tales of government secrecy\, UFOs\, and the origin of the “Men in Black.” \nOn August 1\, 1947\, the crash of a B-25 bomber in Washington State triggered a federal investigation into “The Maury Island Incident”—an event widely considered the first reported UFO encounter involving the so-called Men in Black. Declassified FBI files from the time reveal a story shaped by Cold War paranoia\, interagency conflict\, cover-ups\, false confessions\, and the direct involvement of FBI Director J. Edgar Hoover. \nIn UFO Northwest: How Washington State Spawned the Men in Black\, guest speaker Steve Edmiston unravels this true Washington State mystery and explores its lasting influence on UFO lore in popular culture—from 1950s pulp magazines to The X-Files and the Men in Black films. He’ll also explore how the Northwest’s claim to UFO history has been challenged by other narratives across the country. \nAdmission: \nFree for Clark County Historical Museum members \n$5 in advance | $10 at the door for non-members \n\nAbout the Speaker\nSteve Edmiston (he/him) is a business and entertainment attorney with Bracepoint Law\, as well as a screenwriter and producer. He has spoken at the Pacific Northwest History Conference\, Washington State Historical Museum\, McMenamins History Pubs\, and film festivals and conferences across the region. He is the screenwriter and co-producer of The Maury Island Incident\, a short film based on the 1947 UFO sighting reported by Harold Dahl over Puget Sound. \n\nSponsored By\nThis program is made possible with generous support from:Vancouver’s Downtown Association\, Heritage Bank\, Humanities Washington\, Silver Keys Media\, and NW Legacy Law. \nTickets available here: https://www.kigginstheatre.com/movie/history-on-tap—ufo-northwest
URL:https://cchmuseum.org/calendar/history-on-tap-ufo-nw/
LOCATION:Kiggins Theatre\, 1011 Main Street\, Vancouver\, WA\, 98660\, United States
CATEGORIES:Community Events,History on Tap
ATTACH;FMTTYPE=image/png:https://cchmuseum.org/wp-content/uploads/2025/07/UFO-Facebook_web.png
END:VEVENT
BEGIN:VEVENT
DTSTART;TZID=America/Los_Angeles:20251017T190000
DTEND;TZID=America/Los_Angeles:20251017T203000
DTSTAMP:20260424T051914
CREATED:20231026T192908Z
LAST-MODIFIED:20250808T225054Z
UID:10000746-1760727600-1760733000@cchmuseum.org
SUMMARY:Haunted Walking Tours
DESCRIPTION:Are you curious to hear tales of what haunts the buildings and streets of Downtown Vancouver? Interested in the strange and peculiar side of our local history? Then join us as we take an excursion through Clark County’s haunted history. Every Friday and Saturday night in October\, guides from the Clark County Historical Museum (CCHM) will lead inquiring minds to the answers. Join them on walking tours along Main Street and beyond to uncover the unexplained in this historic city. \nCCHM Downtown Vancouver Haunted Tours\nFridays and Saturdays in September 12 thru October 25 at 7:00 PM\nClark County Historical Museum – 1511 Main St\, Vancouver\, WA 98661 \nA mix of stories\, memories\, research\, and personal experiences\, these tours are a fascinating glimpse through the darker side of history. Many of our tales of history and terror are drawn from the book Darkness Next Door\, penned by Clark County historian\, Pat Jollota. They begin at 7:00 PM most nights\, and guides will lead up to 25 people for approximately a mile\, while making frequent stops along the way. General admission tickets are $20.00 per person and CCHM Members are $15.00. \nAll are welcome on the tours\, though they are best suited for those 10 years and older. Tickets are required for all persons attending over the age of six. In addition\, tours happen rain or shine\, so CCHM encourages guests to bring a flashlight and dress for the weather. (Costumes appreciated.) \nTickets: https://www.eventbrite.com/cc/historic-haunted-walking-tours-2025-4491843? \nCCHM’s Haunted Walking Tours is an annual and popular series that supports the museum’s mission to gather\, save\, and share Clark County history. \nFor more information\, contact the museum at 360-993-5679 or outreach@cchmuseum.org.
URL:https://cchmuseum.org/calendar/2025-haunted-walking-tours/2025-10-17/
LOCATION:Clark County Historical Museum\, 1511 Main St.\, Vancouver\, WA\, 98660\, United States
CATEGORIES:Haunted Walking Tours
ATTACH;FMTTYPE=image/png:https://cchmuseum.org/wp-content/uploads/2023/03/Haunted-Tour_wide-01.png
END:VEVENT
BEGIN:VEVENT
DTSTART;TZID=America/Los_Angeles:20251018T190000
DTEND;TZID=America/Los_Angeles:20251018T203000
DTSTAMP:20260424T051914
CREATED:20231026T192908Z
LAST-MODIFIED:20250808T225054Z
UID:10000747-1760814000-1760819400@cchmuseum.org
SUMMARY:Haunted Walking Tours
DESCRIPTION:Are you curious to hear tales of what haunts the buildings and streets of Downtown Vancouver? Interested in the strange and peculiar side of our local history? Then join us as we take an excursion through Clark County’s haunted history. Every Friday and Saturday night in October\, guides from the Clark County Historical Museum (CCHM) will lead inquiring minds to the answers. Join them on walking tours along Main Street and beyond to uncover the unexplained in this historic city. \nCCHM Downtown Vancouver Haunted Tours\nFridays and Saturdays in September 12 thru October 25 at 7:00 PM\nClark County Historical Museum – 1511 Main St\, Vancouver\, WA 98661 \nA mix of stories\, memories\, research\, and personal experiences\, these tours are a fascinating glimpse through the darker side of history. Many of our tales of history and terror are drawn from the book Darkness Next Door\, penned by Clark County historian\, Pat Jollota. They begin at 7:00 PM most nights\, and guides will lead up to 25 people for approximately a mile\, while making frequent stops along the way. General admission tickets are $20.00 per person and CCHM Members are $15.00. \nAll are welcome on the tours\, though they are best suited for those 10 years and older. Tickets are required for all persons attending over the age of six. In addition\, tours happen rain or shine\, so CCHM encourages guests to bring a flashlight and dress for the weather. (Costumes appreciated.) \nTickets: https://www.eventbrite.com/cc/historic-haunted-walking-tours-2025-4491843? \nCCHM’s Haunted Walking Tours is an annual and popular series that supports the museum’s mission to gather\, save\, and share Clark County history. \nFor more information\, contact the museum at 360-993-5679 or outreach@cchmuseum.org.
URL:https://cchmuseum.org/calendar/2025-haunted-walking-tours/2025-10-18/
LOCATION:Clark County Historical Museum\, 1511 Main St.\, Vancouver\, WA\, 98660\, United States
CATEGORIES:Haunted Walking Tours
ATTACH;FMTTYPE=image/png:https://cchmuseum.org/wp-content/uploads/2023/03/Haunted-Tour_wide-01.png
END:VEVENT
END:VCALENDAR