BEGIN:VCALENDAR
VERSION:2.0
PRODID:-//Clark County Historical Museum - ECPv6.15.20//NONSGML v1.0//EN
CALSCALE:GREGORIAN
METHOD:PUBLISH
X-WR-CALNAME:Clark County Historical Museum
X-ORIGINAL-URL:https://cchmuseum.org
X-WR-CALDESC:Events for Clark County Historical Museum
REFRESH-INTERVAL;VALUE=DURATION:PT1H
X-Robots-Tag:noindex
X-PUBLISHED-TTL:PT1H
BEGIN:VTIMEZONE
TZID:America/Los_Angeles
BEGIN:DAYLIGHT
TZOFFSETFROM:-0800
TZOFFSETTO:-0700
TZNAME:PDT
DTSTART:20210314T100000
END:DAYLIGHT
BEGIN:STANDARD
TZOFFSETFROM:-0700
TZOFFSETTO:-0800
TZNAME:PST
DTSTART:20211107T090000
END:STANDARD
BEGIN:DAYLIGHT
TZOFFSETFROM:-0800
TZOFFSETTO:-0700
TZNAME:PDT
DTSTART:20220313T100000
END:DAYLIGHT
BEGIN:STANDARD
TZOFFSETFROM:-0700
TZOFFSETTO:-0800
TZNAME:PST
DTSTART:20221106T090000
END:STANDARD
BEGIN:DAYLIGHT
TZOFFSETFROM:-0800
TZOFFSETTO:-0700
TZNAME:PDT
DTSTART:20230312T100000
END:DAYLIGHT
BEGIN:STANDARD
TZOFFSETFROM:-0700
TZOFFSETTO:-0800
TZNAME:PST
DTSTART:20231105T090000
END:STANDARD
END:VTIMEZONE
BEGIN:VEVENT
DTSTART;TZID=America/Los_Angeles:20221103T190000
DTEND;TZID=America/Los_Angeles:20221103T200000
DTSTAMP:20260424T014640
CREATED:20221021T164337Z
LAST-MODIFIED:20221021T164618Z
UID:10000056-1667502000-1667505600@cchmuseum.org
SUMMARY:Preserving History: The Historic Preservation Commission
DESCRIPTION:The CCHM Speaker Series wraps up it’s 2022 season on Thursday\, November 3 with “Preserving History: The Historic Preservation Commission.” Join CCHM and members of the Clark County Historic Preservation Commission to learn more about the Commission\, why preservation is so important\, and how you can support HPC’s efforts to protect our historic and cultural resources. The event will occur in-person at the Clark County Historical Museum. Doors open at 5 p.m. and the event begins at 7 p.m. \nThe Clark County Historic Preservation Commission raises awareness of the county’s historic and cultural resources and serves as the county’s primary resource on historic preservation. The commission initiates and maintains the Clark County Historic Register and reviews proposed design changes to registered properties.  \nThe CCHM Speaker Series is sponsored by the Clark County Historic Preservation Commission and Versa Events (formerly Wager Audio). General admission is $5; seniors and students are $4; children under 18 are $3; and the evening is free for CCHM members\, veterans\, and active-duty military personnel.  \nAttendees are encouraged to arrive early\, as seating is limited and available on a first-come-first-served basis. \nFor more information\, contact the museum at 360-993-5679 or outreach@cchmuseum.org.
URL:https://cchmuseum.org/calendar/preserving-history-the-historic-preservation-commission/
LOCATION:Clark County Historical Museum\, 1511 Main St.\, Vancouver\, WA\, 98660\, United States
CATEGORIES:Speaker Series
ATTACH;FMTTYPE=image/png:https://cchmuseum.org/wp-content/uploads/2022/10/2022_SpeakerSeries_Nov.png
END:VEVENT
BEGIN:VEVENT
DTSTART;TZID=America/Los_Angeles:20221006T190000
DTEND;TZID=America/Los_Angeles:20221006T200000
DTSTAMP:20260424T014640
CREATED:20220105T205928Z
LAST-MODIFIED:20221001T202458Z
UID:10000004-1665082800-1665086400@cchmuseum.org
SUMMARY:CCHM Speaker Series
DESCRIPTION:Clark County Historical Museum’s 2022 Speaker Series continues on Thursday\, October 6\, with “A Promise Not Yet Fulfilled: The Chinook Struggle for Recognition” presented by Sam Robinson. The event will occur in-person at the Clark County Historical Museum. Doors open at 5 p.m. and the event begins at 7 p.m. \nIn 2001\, the Chinook Nation rejoiced as the Federal Government finally recognized the Chinook Indian Nation as a sovereign entity of their own lands. This celebration was short lived as only a few months later the government rescinded their decision\, leaving the Nation bereft of their right to determine their own future and barred from the resources that are crucial to the People’s survival. Unfortunately\, this moment is only one of many injustices played out since the Treaty at Tansy Point in 1851. \nIn this talk\, Chinook Indian Nation citizen and Vice Chair\, Sam Robinson\, explores the history of the Chinook People and their continued fight for Tribal Recognition. He’ll discuss the importance of recognition for Indigenous Nations\, like the Chinook\, and provide an insight into where their status stands today. \nThe CCHM Speaker Series is sponsored by the Clark County Historic Preservation Commission and Versa Events (formerly Wager Audio). General admission is $5; seniors and students are $4; children under 18 are $3; and the evening is free for CCHM members\, veterans\, and active-duty military personnel.  \nAttendees are encouraged to arrive early\, as seating is limited and available on a first-come-first-served basis. \nFor more information\, contact the museum at 360-993-5679 or outreach@cchmuseum.org.
URL:https://cchmuseum.org/calendar/cchm-speaker-series-7-2022-10-06/
LOCATION:Clark County Historical Museum\, 1511 Main St.\, Vancouver\, WA\, 98660\, United States
CATEGORIES:Speaker Series
ATTACH;FMTTYPE=image/png:https://cchmuseum.org/wp-content/uploads/2022/01/2022_SpeakerSeries_1920x1080_Oct.png
END:VEVENT
BEGIN:VEVENT
DTSTART;TZID=America/Los_Angeles:20220901T190000
DTEND;TZID=America/Los_Angeles:20220901T200000
DTSTAMP:20260424T014640
CREATED:20220105T205928Z
LAST-MODIFIED:20220811T191008Z
UID:10000001-1662058800-1662062400@cchmuseum.org
SUMMARY:Fourth Plain Forward: Building Community
DESCRIPTION:Clark County Historical Museum’s 2022 Speaker Series continues on Thursday\, September 1\, with “Fourth Plain Forward: Building Community” presented by Fourth Plain Forward director\, Paul Burgess\, CCHM public historian\, Katie Bush\, and CCHM public history intern\, Tanaka Axberg. The event will occur in-person at the Clark County Historical Museum. Doors open at 5 p.m. and the event begins at 7 p.m. \nWhen people think of Vancouver\, Washington\, the city is often associated with a 19th century military fort\, the Columbia River\, and a connection to the Hudson’s Bay Company and the fur trade. Rarely are the stories of the neighborhoods developed during and post-World War II provided the same focus. Yet the people who lived\, worked\, and created these new communities in places such as Vancouver’s Fourth Plain Corridor are as intrinsic to the mosaic that is Vancouver today as those who first made contact with the Indigenous people of the region nearly 125 years ago. \nPart of Clark County Stories\, the Fourth Plain project is a collaboration between Fourth Plain Forward (FPF)\, Washington State University Vancouver (WSUV)\, and the Clark County Historical Museum (CCHM) to shed light on these narratives. In this presentation\, Burgess\, Bush\, and Axberg discuss the community’s history as well as current and future plans for the project. \nPaul Burgess is the Executive Director for Fourth Plain Forward. He is an accomplished professional and leader in the social impact space with a successful track record of implementing and advancing complex development programs. \nWith five years of experience in the Global South managing complex international development programming\, Paul has brought comprehensive leadership expertise of cross functional implementation\, delivery and management to this role at Fourth Plain Forward. \nPaul conceived of\, and built the international consultancy www.cdvglobal.com/ to bring equity of opportunity to local communities and nonprofits and has 5 years experience of managing international leadership development programs for young people and over 4 years of middle and high school teaching education experience. Prior to leaving the UK in 2007\, he was a senior operations manager in the UK Prison service\, leading Safer Custody\, anti-bullying and foreign nationals policy at HMP Pentonville in London. \nOver his career\, Paul has lived and worked in 10 countries spanning Asia\, Europe\, Latin America and North America. \nKatie Bush joined CCHM as the museum’s public historian in April 2021. She holds a Masters in Public History from Portland State University (2021) and a Bachelors in History from Western Washington University (2012). Katie was the recipient of the 2020 Oregon Heritage Fellowship from the Oregon State Historic Preservation Office for her work on the policing of impoverished communities in Progressive era Portland. Katie is passionate about surfacing often overlooked or forgotten historical narratives\, and looks forward to bringing this enthusiasm to her work at CCHM. \nTanaka Axberg has been a Vancouver resident since 2016. She graduated from WSUV in May of 2021 with her BA in History and recently finished her first year in the History Master’s Program at Portland State University. Tanka has been involved in and contributing to the Fourth Plain Forward project since it’s inception in 2020. \nThe CCHM Speaker Series is sponsored by the Clark County Historic Preservation Commission and Versa Events (formerly Wager Audio). General admission is $5; seniors and students are $4; children under 18 are $3; and the evening is free for CCHM members\, veterans\, and active-duty military personnel. \nAttendees are encouraged to arrive early\, as seating is limited and available on a first-come-first-served basis. \nFor more information\, contact the museum at 360-993-5679 or outreach@cchmuseum.org.
URL:https://cchmuseum.org/calendar/cchm-speaker-series-7-2022-09-01/
LOCATION:Clark County Historical Museum\, 1511 Main St.\, Vancouver\, WA\, 98660\, United States
CATEGORIES:Speaker Series
ATTACH;FMTTYPE=image/png:https://cchmuseum.org/wp-content/uploads/2022/01/2022_SpeakerSeries_Sep_1920x1080.png
END:VEVENT
BEGIN:VEVENT
DTSTART;TZID=America/Los_Angeles:20220804T190000
DTEND;TZID=America/Los_Angeles:20220804T200000
DTSTAMP:20260424T014640
CREATED:20220105T205928Z
LAST-MODIFIED:20220726T191112Z
UID:10000013-1659639600-1659643200@cchmuseum.org
SUMMARY:"Vancouver Goes to the Movies" with Andy Gregg
DESCRIPTION:Since Vancouverites sat down together to watch a filming of Fitzsimmons and Corbel in 1897\, movies have held an important role as both entertainment and community connector. From the opening of the Palace Theater in 1909 to the Kiggins Theatre today\, the big screen continues to draw people from all backgrounds together for a singularly solitary and shared experience unmatched by other forms of media. Drawing on his research into the golden age of movie theaters in Vancouver\, Gregg explores Vancouver’s movie-going history with a look back at the rise and fall of the single screen theater as well the ways in which movies helped bridge social and racial divides. \nAndrew Gregg is a Vancouver native who saw his first big-screen movie at the Kiggins Theatre in 1961. After a K-12 education in Vancouver Public Schools\, Gregg graduated from Willamette University\, attended Gonzaga University School of Law\, and completed a master’s degree in public history at Washington State University. A National Board Certified teacher\, Gregg has served as Clark County Arts Commission’s chair\, and is currently a Clark County Historic Preservation Commissioner chair. Since 1973\, Gregg has written extensively about his hometown. \nThe CCHM Speaker Series is sponsored by the Clark County Historic Preservation Commission and Versa Events (formerly Wager Audio). General admission is $5; seniors and students are $4; children under 18 are $3; and the evening is free for CCHM members\, veterans\, and active-duty military personnel. \nDoors open at 5pm. Presentation begins at 7pm. Attendees are encouraged to arrive early\, as seating is limited and available on a first-come-first-served basis. \nFor more information\, contact the museum at 360-993-5679 or outreach@cchmuseum.org.
URL:https://cchmuseum.org/calendar/cchm-speaker-series-7-2022-08-04/
LOCATION:Clark County Historical Museum\, 1511 Main St.\, Vancouver\, WA\, 98660\, United States
CATEGORIES:Speaker Series
ATTACH;FMTTYPE=image/png:https://cchmuseum.org/wp-content/uploads/2022/01/2022_SpeakerSeries_Aug.png
END:VEVENT
BEGIN:VEVENT
DTSTART;TZID=America/Los_Angeles:20220707T190000
DTEND;TZID=America/Los_Angeles:20220707T200000
DTSTAMP:20260424T014640
CREATED:20220105T205928Z
LAST-MODIFIED:20220512T192236Z
UID:10000011-1657220400-1657224000@cchmuseum.org
SUMMARY:CCHM Speaker Series
DESCRIPTION:Tickets purchased at the door.
URL:https://cchmuseum.org/calendar/cchm-speaker-series-7-2022-07-07/2022-07-07/
LOCATION:Clark County Historical Museum\, 1511 Main St.\, Vancouver\, WA\, 98660\, United States
CATEGORIES:Speaker Series
ATTACH;FMTTYPE=image/png:https://cchmuseum.org/wp-content/uploads/2022/01/2022_SpeakerSeries_generic.png
END:VEVENT
BEGIN:VEVENT
DTSTART;TZID=America/Los_Angeles:20220602T190000
DTEND;TZID=America/Los_Angeles:20220602T200000
DTSTAMP:20260424T014640
CREATED:20220105T205928Z
LAST-MODIFIED:20220525T201342Z
UID:10000010-1654196400-1654200000@cchmuseum.org
SUMMARY:Pride: Clark County's LGBTQ+ Community Then & Now
DESCRIPTION:Clark County Historical Museum’s 2022 Speaker Series continues on Thursday\, June 2\, 2022\, with “PRIDE: Clark County’s LGBTQ+ Community Then & Now” a panel discussion facilitated by April Buzby (she/they). Doors open at 5 p.m. and the event begins at 7 p.m. \nIn this event\, we’ll explore Clark County’s LGBTQIA+ community’s history – their challenges\, experiences\, and how life for the community has changed through the years. Joining Buzby are leaders from Clark County Pride Clark County\, La Center’s Gay-Straight Alliance\, and Summer of Pride to discuss their own lives and experiences as leaders in their community. \nThe CCHM Speaker Series is sponsored by the Clark County Historic Preservation Commission and Versa Events (formerly Wager Audio). General admission is $5; seniors and students are $4; children under 18 are $3; and the evening is free for CCHM members\, veterans\, and active-duty military personnel. \nAttendees are encouraged to arrive early\, as seating is limited and available on a first-come-first-served basis. \nFor more information\, contact the museum at 360-993-5679 or outreach@cchmuseum.org.
URL:https://cchmuseum.org/calendar/cchm-speaker-series-7-2022-06-02/
LOCATION:Clark County Historical Museum\, 1511 Main St.\, Vancouver\, WA\, 98660\, United States
CATEGORIES:Speaker Series
ATTACH;FMTTYPE=image/png:https://cchmuseum.org/wp-content/uploads/2022/01/2022_SpeakerSeries_June_calendar.png
END:VEVENT
BEGIN:VEVENT
DTSTART;TZID=America/Los_Angeles:20220505T190000
DTEND;TZID=America/Los_Angeles:20220505T200000
DTSTAMP:20260424T014640
CREATED:20220105T205928Z
LAST-MODIFIED:20220504T205245Z
UID:10000009-1651777200-1651780800@cchmuseum.org
SUMMARY:From Water Wagons to Private Development: A History of Vancouver Water System
DESCRIPTION:Clark County Historical Museum’s 2022 Speaker Series continues on Thursday\, May 5th\, with “From Water Wagons to Private Development: A History of Vancouver Water System” presented by Jim Pestillo. The event will occur in-person at the Historic Covington House (4201 Main St\, Vancouver\, WA 98663). Doors open at 6 p.m. and the event begins at 7 p.m. \nClean water is key to a healthy and prosperous community. While the Pacific Northwest has an abundance of natural water sources\, as cities and townships grew so did their pressures on these natural systems. From pollution to distance\, adequate water access proved an increasingly more difficult puzzle for community leaders to solve. In this presentation\, Jim Pestillo explores the history of Vancouver’s water systems and the relationship between those systems and the City’s growth. \nJim Pestillo is a retired engineer with an interest in local history. His article “Vancouver Water Delivery 1824-1930: From Water Wagons to Private Development” (2019) and “From Stinky Streets to Sewers: An Overview of Vancouver’s Water and Sewer Systems” (2020) both appeared in Clark County (WA) History published by the Clark County Historical Society. \nThe CCHM Speaker Series is sponsored by the Clark County Historic Preservation Commission and Versa Events (formerly Wager Audio). This event will be free to the public. \nAttendees are encouraged to arrive early\, as seating is limited and available on a first-come-first-served basis. \nFor more information\, contact the museum at 360-993-5679 or outreach@cchmuseum.org.
URL:https://cchmuseum.org/calendar/cchm-speaker-series-7-2022-05-05/
LOCATION:Historic Covington House\, 4201 Main St\, Vancouver\, WA\, 98660\, United States
CATEGORIES:Speaker Series
ATTACH;FMTTYPE=image/png:https://cchmuseum.org/wp-content/uploads/2022/01/2022_SpeakerSeries_May_calendar.png
END:VEVENT
BEGIN:VEVENT
DTSTART;TZID=America/Los_Angeles:20220414T190000
DTEND;TZID=America/Los_Angeles:20220414T200000
DTSTAMP:20260424T014640
CREATED:20220105T205928Z
LAST-MODIFIED:20220322T172522Z
UID:10000008-1649962800-1649966400@cchmuseum.org
SUMMARY:From Pacific Shores to Columbia River Banks: Historical Traces of the Chinese Community in Vancouver\, Washington
DESCRIPTION:Join Music Fusian NW and CCHM as they welcome Dr. Xiuyu Wang for “From pacific Shores to Columbia River banks: Historical Traces of the Chinese Community in Vancouver\, Washington” during this month’s Speaker Series. \nSince the late 19th century\, Chinese immigrants to Vancouver and the Clark County in Washington have contributed to community life in various ways\, creating a legacy that has remained poignant but also sparsely documented and imperfectly known. While different immigration journeys to Vancouver reflected broader shifts in national immigration policies and international relations\, the immigrants themselves often had to rely on personal initiative and family resources in settling into business\, labor\, industry\, service\, education and other sectors. No two stories were exactly alike in this process of community adaptation and growth\, but all reflected some form of fusion between Asian and American lifeways. \nThis presentation offers glimpses of individual stories in their regional and international contexts based on materials from the Clark County Historical Museum and other sources. In recognition that many more facets of this history remain scattered in the community\, this presentation is intended both as a catalyst and an invitation for more community-driven discussions and connections around this local heritage going forward. \nAbout the Presenter \nXiuyu Wang is Associate Professor of History at Washington State University\, where he teaches courses on China and East Asia. His early life and education in Shandong Province coincided with China’s first two decades of reform. After immigrating to the US in the 1990s\, he pursued studies in intercultural communication and journalism before earning a doctorate in modern Chinese history at Carnegie Mellon. Dr. Wang’s research focuses on China’s late imperial and modern ethnic history\, with publications on state-local relations in its southwestern region\, including his book China’s Last Imperial Frontier: Late Qing Expansion in Sichuan’s Tibetan Borderlands. He lives with his family in Vancouver\, Washington. \nMusic Fusian NW is a 501(c)(3) non-profit based in Vancouver WA. It aims to use music to empower students\, inspire creativity and collaboration\, increase cultural awareness and build bridges between cultures. Music Fusian NW is excited to partner with the Clark County Historical Museum and Dr. Xiuyu Wang to present the stories and legacy of the Chinese immigrants in Clark County. \nFunding for the evening’s event comes in part from Humanities Washington. The CCHM Speaker Series is sponsored by the Clark County Historic Preservation Commission and Versa Events (formerly Wager Audio). General admission is $5; seniors and students are $4; children under 18 are $3; and the evening is free for CCHM members\, veterans\, and active-duty military personnel. \nAttendees are encouraged to arrive early\, as seating is limited and available on a first-come-first-served basis. \nFor more information\, contact the museum at 360-993-5679 or outreach@cchmuseum.org.
URL:https://cchmuseum.org/calendar/speaker-series-apr2022/
LOCATION:Clark County Historical Museum\, 1511 Main St.\, Vancouver\, WA\, 98660\, United States
CATEGORIES:Speaker Series
ATTACH;FMTTYPE=image/png:https://cchmuseum.org/wp-content/uploads/2022/01/2022_SpeakerSeries_Apr2022.png
END:VEVENT
BEGIN:VEVENT
DTSTART;TZID=America/Los_Angeles:20220303T190000
DTEND;TZID=America/Los_Angeles:20220303T200000
DTSTAMP:20260424T014640
CREATED:20220105T205928Z
LAST-MODIFIED:20220217T172336Z
UID:10000007-1646334000-1646337600@cchmuseum.org
SUMMARY:(Her)Story: Rebel Women of Clark County
DESCRIPTION:Clark County Historical Museum’s 2022 Speaker Series continues on Thursday\, Mar. 3\, with “(Her)Story: Rebel Women of Clark County” presented by April Buzby (she/they). The event will occur in-person at the Clark County Historical Museum. Doors open at 5 p.m. and the event begins at 7 p.m. \nJoin us as Buzby tells the stories of Elizabeth Jane Herrington Irwin and Mary Ellen Bates\, two extraordinary women who served during WWI & WWII. Hear about how Irwin’s story was nearly lost due to a clerical error. Experience the turmoil and concerns of Bates in the aftermath of Pearl Harbor. And learn about the legacy both women left behind. \nApril Buzby is a talented social impact strategist who has spent their career working to create more equitable policies and shine a light on the stories and challenges of marginalized communities. After 10 years in public policy on the national stage\, Buzby shifted their focus to local advocacy and the historical narrative. Currently serving as outreach and public programming manager at Clark County Historical Museum\, Buzby uses their skills and talent to support the organization’s effort to unearth the forgotten stories and communities of Clark County. They hold a BA in Geography from Keene State College and a Master of Community and Regional Planning from University of Oregon. \nThe CCHM Speaker Series is sponsored by the Clark County Historic Preservation Commission and Versa Events (formerly Wager Audio). General admission is $5; seniors and students are $4; children under 18 are $3; and the evening is free for CCHM members\, veterans\, and active-duty military personnel.  \nAttendees are encouraged to arrive early\, as seating is limited. For the safety of staff\, visitors\, and our families\, CCHM does require proof of vaccination for admission to all CCHM events. \nFor more information\, contact the museum at 360-993-5679 or outreach@cchmuseum.org.
URL:https://cchmuseum.org/calendar/speaker-series-mar2022/
LOCATION:Clark County Historical Museum\, 1511 Main St.\, Vancouver\, WA\, 98660\, United States
CATEGORIES:Speaker Series
ATTACH;FMTTYPE=image/png:https://cchmuseum.org/wp-content/uploads/2022/01/2022_SpeakerSeries_1920x1080.png
END:VEVENT
BEGIN:VEVENT
DTSTART;TZID=America/Los_Angeles:20220203T190000
DTEND;TZID=America/Los_Angeles:20220203T200000
DTSTAMP:20260424T014640
CREATED:20220105T205928Z
LAST-MODIFIED:20220204T010251Z
UID:10000006-1643914800-1643918400@cchmuseum.org
SUMMARY:First Families: The Next Generation
DESCRIPTION:Clark County Historical Museum will launch its 2022 Speaker Series on Thursday\, February 3\, with Melissa Williams’ presentation of “First Families: The Next Generation.” The event will occur in-person at the Clark County Historical Museum. Doors open at 5 p.m. and the event begins at 7 p.m. \nJoin us as historian\, Melissa Williams\, and Rites of Passages Youth Program director\, Charles Simmons\, explore the generation that came after the individuals featured in the Vancouver NAACP’s publication First Families of Vancouver’s African American Community. Learn about the events that shaped their lives and the impact they’ve had on Clark County. \nMelissa Williams (she/her) is a U.S. historian who focuses on African American history. Over the past 20 years\, she has contributed to several projects for organizations and institutions including the Center for Columbia River History\, Vancouver NAACP #1139\, U.S. Forest Service\, Clark County Historical Museum\, Washington State University Vancouver\, and Portland State University. Williams earned a B.A. in History from the University of Washington and an M.A. in Public History from Washington State University Vancouver. She is a doctoral student in Educational Leadership at Portland State University and currently serves as Policy Associate for Equity\, Diversity\, and Inclusion for the Washington State Board for Community and Technical Colleges. \nCharles LaRue Simmons is founder and director of Rites of Passage Youth Program\, a summer program dedicated to building skills and providing experiences for African-American Youth. Simmons earned Life-Time K-12 Teaching Certification with a Bachelor in Literature and minors in Black Studies and Political Science from the University of Washington. He is a life-long educator\, teaching for the Vancouver\, Evergreen\, and Washougal School Districts before founding Rites of Passage. Simmons has been a member of the Vancouver NAACP #1139 since 1964. \nThe CCHM Speaker Series is sponsored by the Clark County Historic Preservation Commission and Versa Events (formerly Wager Audio). General admission is $5; seniors and students are $4; children under 18 are $3; and the evening is free for CCHM members\, veterans\, and active-duty military personnel. \nAttendees are encouraged to arrive early\, as seating is limited. For the safety of staff\, visitors\, and our families\, CCHM does require proof of vaccination for admission to all CCHM events. \nFor more information\, contact the museum at 360-993-5679 or outreach@cchmuseum.org.
URL:https://cchmuseum.org/calendar/cchm-speaker-series-7/
LOCATION:Clark County Historical Museum\, 1511 Main St.\, Vancouver\, WA\, 98660\, United States
CATEGORIES:Speaker Series
ATTACH;FMTTYPE=image/png:https://cchmuseum.org/wp-content/uploads/2022/01/2022_SpeakerSeries_graphic.png
END:VEVENT
END:VCALENDAR