BEGIN:VCALENDAR
VERSION:2.0
PRODID:-//Clark County Historical Museum - ECPv6.15.20//NONSGML v1.0//EN
CALSCALE:GREGORIAN
METHOD:PUBLISH
X-ORIGINAL-URL:https://cchmuseum.org
X-WR-CALDESC:Events for Clark County Historical Museum
REFRESH-INTERVAL;VALUE=DURATION:PT1H
X-Robots-Tag:noindex
X-PUBLISHED-TTL:PT1H
BEGIN:VTIMEZONE
TZID:America/Los_Angeles
BEGIN:DAYLIGHT
TZOFFSETFROM:-0800
TZOFFSETTO:-0700
TZNAME:PDT
DTSTART:20220313T100000
END:DAYLIGHT
BEGIN:STANDARD
TZOFFSETFROM:-0700
TZOFFSETTO:-0800
TZNAME:PST
DTSTART:20221106T090000
END:STANDARD
BEGIN:DAYLIGHT
TZOFFSETFROM:-0800
TZOFFSETTO:-0700
TZNAME:PDT
DTSTART:20230312T100000
END:DAYLIGHT
BEGIN:STANDARD
TZOFFSETFROM:-0700
TZOFFSETTO:-0800
TZNAME:PST
DTSTART:20231105T090000
END:STANDARD
BEGIN:DAYLIGHT
TZOFFSETFROM:-0800
TZOFFSETTO:-0700
TZNAME:PDT
DTSTART:20240310T100000
END:DAYLIGHT
BEGIN:STANDARD
TZOFFSETFROM:-0700
TZOFFSETTO:-0800
TZNAME:PST
DTSTART:20241103T090000
END:STANDARD
END:VTIMEZONE
BEGIN:VEVENT
DTSTART;TZID=America/Los_Angeles:20230624T150000
DTEND;TZID=America/Los_Angeles:20230624T190000
DTSTAMP:20260425T041909
CREATED:20230620T173808Z
LAST-MODIFIED:20230620T174828Z
UID:10000537-1687618800-1687633200@cchmuseum.org
SUMMARY:CCHMuseum @ Heroes Night
DESCRIPTION:#CCHMuseum is excited to be part of this event celebrating our community’s veterans and first responders. Enjoy a free\, family-friendly time of music\, food\, and a car show! \nStop by our booth during the event to enter to win a History of Clark County gift basket. Basket includes an annual family-level membership.
URL:https://cchmuseum.org/calendar/cchmuseum-heroes-night/
LOCATION:Pearson Air Museum\, 1115 E 5th St\, Vancouver\, WA\, 98661\, United States
CATEGORIES:Community Events
ATTACH;FMTTYPE=image/png:https://cchmuseum.org/wp-content/uploads/2023/06/20230606HNflyerfinal.png
END:VEVENT
END:VCALENDAR