BEGIN:VCALENDAR
VERSION:2.0
PRODID:-//Clark County Historical Museum - ECPv6.15.20//NONSGML v1.0//EN
CALSCALE:GREGORIAN
METHOD:PUBLISH
X-WR-CALNAME:Clark County Historical Museum
X-ORIGINAL-URL:https://cchmuseum.org
X-WR-CALDESC:Events for Clark County Historical Museum
REFRESH-INTERVAL;VALUE=DURATION:PT1H
X-Robots-Tag:noindex
X-PUBLISHED-TTL:PT1H
BEGIN:VTIMEZONE
TZID:America/Los_Angeles
BEGIN:DAYLIGHT
TZOFFSETFROM:-0800
TZOFFSETTO:-0700
TZNAME:PDT
DTSTART:20210314T100000
END:DAYLIGHT
BEGIN:STANDARD
TZOFFSETFROM:-0700
TZOFFSETTO:-0800
TZNAME:PST
DTSTART:20211107T090000
END:STANDARD
BEGIN:DAYLIGHT
TZOFFSETFROM:-0800
TZOFFSETTO:-0700
TZNAME:PDT
DTSTART:20220313T100000
END:DAYLIGHT
BEGIN:STANDARD
TZOFFSETFROM:-0700
TZOFFSETTO:-0800
TZNAME:PST
DTSTART:20221106T090000
END:STANDARD
BEGIN:DAYLIGHT
TZOFFSETFROM:-0800
TZOFFSETTO:-0700
TZNAME:PDT
DTSTART:20230312T100000
END:DAYLIGHT
BEGIN:STANDARD
TZOFFSETFROM:-0700
TZOFFSETTO:-0800
TZNAME:PST
DTSTART:20231105T090000
END:STANDARD
END:VTIMEZONE
BEGIN:VEVENT
DTSTART;TZID=America/Los_Angeles:20220304T170000
DTEND;TZID=America/Los_Angeles:20220304T200000
DTSTAMP:20260424T210227
CREATED:20220105T214322Z
LAST-MODIFIED:20220217T220530Z
UID:10000027-1646413200-1646424000@cchmuseum.org
SUMMARY:Women's History Trivia Night
DESCRIPTION:Think you know the women who helped build Clark County? Team up and compete against other challengers to see who knows their women’s history best! Each game will last approximately 3 rounds and 30 minutes at 5:30\, 6:30\, and 7:30. The winning team for each game will receive a prize. Admission to the museum is free as part of VDA’s Art Walk. This is a family friendly event.
URL:https://cchmuseum.org/calendar/cchmuseum-after-hours-2022-03-04/
LOCATION:Clark County Historical Museum\, 1511 Main St.\, Vancouver\, WA\, 98660\, United States
CATEGORIES:First Friday
ATTACH;FMTTYPE=image/png:https://cchmuseum.org/wp-content/uploads/2022/01/CCHM-AfterHours_generic.png
END:VEVENT
END:VCALENDAR