BEGIN:VCALENDAR
VERSION:2.0
PRODID:-//Clark County Historical Museum - ECPv6.15.20//NONSGML v1.0//EN
CALSCALE:GREGORIAN
METHOD:PUBLISH
X-ORIGINAL-URL:https://cchmuseum.org
X-WR-CALDESC:Events for Clark County Historical Museum
REFRESH-INTERVAL;VALUE=DURATION:PT1H
X-Robots-Tag:noindex
X-PUBLISHED-TTL:PT1H
BEGIN:VTIMEZONE
TZID:America/Los_Angeles
BEGIN:DAYLIGHT
TZOFFSETFROM:-0800
TZOFFSETTO:-0700
TZNAME:PDT
DTSTART:20210314T100000
END:DAYLIGHT
BEGIN:STANDARD
TZOFFSETFROM:-0700
TZOFFSETTO:-0800
TZNAME:PST
DTSTART:20211107T090000
END:STANDARD
BEGIN:DAYLIGHT
TZOFFSETFROM:-0800
TZOFFSETTO:-0700
TZNAME:PDT
DTSTART:20220313T100000
END:DAYLIGHT
BEGIN:STANDARD
TZOFFSETFROM:-0700
TZOFFSETTO:-0800
TZNAME:PST
DTSTART:20221106T090000
END:STANDARD
BEGIN:DAYLIGHT
TZOFFSETFROM:-0800
TZOFFSETTO:-0700
TZNAME:PDT
DTSTART:20230312T100000
END:DAYLIGHT
BEGIN:STANDARD
TZOFFSETFROM:-0700
TZOFFSETTO:-0800
TZNAME:PST
DTSTART:20231105T090000
END:STANDARD
END:VTIMEZONE
BEGIN:VEVENT
DTSTART;TZID=America/Los_Angeles:20221029T180000
DTEND;TZID=America/Los_Angeles:20221029T193000
DTSTAMP:20260424T035608
CREATED:20220105T214018Z
LAST-MODIFIED:20221008T221654Z
UID:10000025-1667066400-1667071800@cchmuseum.org
SUMMARY:Haunted Walking Tour
DESCRIPTION:Tickets on Sale in September!
URL:https://cchmuseum.org/calendar/haunted-walking-tour/2022-10-29/
LOCATION:Clark County Historical Museum\, 1511 Main St.\, Vancouver\, WA\, 98660\, United States
CATEGORIES:Haunted Walking Tours
ATTACH;FMTTYPE=image/png:https://cchmuseum.org/wp-content/uploads/2021/08/HauntedTour_sponsor_soldout.png
END:VEVENT
BEGIN:VEVENT
DTSTART;TZID=America/Los_Angeles:20221028T180000
DTEND;TZID=America/Los_Angeles:20221028T193000
DTSTAMP:20260424T035608
CREATED:20220105T214018Z
LAST-MODIFIED:20221008T221654Z
UID:10000024-1666980000-1666985400@cchmuseum.org
SUMMARY:Haunted Walking Tour
DESCRIPTION:Tickets on Sale in September!
URL:https://cchmuseum.org/calendar/haunted-walking-tour/2022-10-28/
LOCATION:Clark County Historical Museum\, 1511 Main St.\, Vancouver\, WA\, 98660\, United States
CATEGORIES:Haunted Walking Tours
ATTACH;FMTTYPE=image/png:https://cchmuseum.org/wp-content/uploads/2021/08/HauntedTour_sponsor_soldout.png
END:VEVENT
BEGIN:VEVENT
DTSTART;TZID=America/Los_Angeles:20221022T180000
DTEND;TZID=America/Los_Angeles:20221022T193000
DTSTAMP:20260424T035608
CREATED:20220105T214018Z
LAST-MODIFIED:20221008T221654Z
UID:10000023-1666461600-1666467000@cchmuseum.org
SUMMARY:Haunted Walking Tour
DESCRIPTION:Tickets on Sale in September!
URL:https://cchmuseum.org/calendar/haunted-walking-tour/2022-10-22/
LOCATION:Clark County Historical Museum\, 1511 Main St.\, Vancouver\, WA\, 98660\, United States
CATEGORIES:Haunted Walking Tours
ATTACH;FMTTYPE=image/png:https://cchmuseum.org/wp-content/uploads/2021/08/HauntedTour_sponsor_soldout.png
END:VEVENT
BEGIN:VEVENT
DTSTART;TZID=America/Los_Angeles:20221021T180000
DTEND;TZID=America/Los_Angeles:20221021T193000
DTSTAMP:20260424T035608
CREATED:20220105T214018Z
LAST-MODIFIED:20221008T221654Z
UID:10000022-1666375200-1666380600@cchmuseum.org
SUMMARY:Haunted Walking Tour
DESCRIPTION:Tickets on Sale in September!
URL:https://cchmuseum.org/calendar/haunted-walking-tour/2022-10-21/
LOCATION:Clark County Historical Museum\, 1511 Main St.\, Vancouver\, WA\, 98660\, United States
CATEGORIES:Haunted Walking Tours
ATTACH;FMTTYPE=image/png:https://cchmuseum.org/wp-content/uploads/2021/08/HauntedTour_sponsor_soldout.png
END:VEVENT
BEGIN:VEVENT
DTSTART;TZID=America/Los_Angeles:20221015T180000
DTEND;TZID=America/Los_Angeles:20221015T193000
DTSTAMP:20260424T035608
CREATED:20220105T214018Z
LAST-MODIFIED:20221008T221654Z
UID:10000021-1665856800-1665862200@cchmuseum.org
SUMMARY:Haunted Walking Tour
DESCRIPTION:Tickets on Sale in September!
URL:https://cchmuseum.org/calendar/haunted-walking-tour/2022-10-15/
LOCATION:Clark County Historical Museum\, 1511 Main St.\, Vancouver\, WA\, 98660\, United States
CATEGORIES:Haunted Walking Tours
ATTACH;FMTTYPE=image/png:https://cchmuseum.org/wp-content/uploads/2021/08/HauntedTour_sponsor_soldout.png
END:VEVENT
BEGIN:VEVENT
DTSTART;TZID=America/Los_Angeles:20221014T180000
DTEND;TZID=America/Los_Angeles:20221014T193000
DTSTAMP:20260424T035608
CREATED:20220105T214018Z
LAST-MODIFIED:20221008T221654Z
UID:10000020-1665770400-1665775800@cchmuseum.org
SUMMARY:Haunted Walking Tour
DESCRIPTION:Tickets on Sale in September!
URL:https://cchmuseum.org/calendar/haunted-walking-tour/2022-10-14/
LOCATION:Clark County Historical Museum\, 1511 Main St.\, Vancouver\, WA\, 98660\, United States
CATEGORIES:Haunted Walking Tours
ATTACH;FMTTYPE=image/png:https://cchmuseum.org/wp-content/uploads/2021/08/HauntedTour_sponsor_soldout.png
END:VEVENT
BEGIN:VEVENT
DTSTART;TZID=America/Los_Angeles:20221008T180000
DTEND;TZID=America/Los_Angeles:20221008T193000
DTSTAMP:20260424T035608
CREATED:20220105T214018Z
LAST-MODIFIED:20221008T221654Z
UID:10000019-1665252000-1665257400@cchmuseum.org
SUMMARY:Haunted Walking Tour
DESCRIPTION:Tickets on Sale in September!
URL:https://cchmuseum.org/calendar/haunted-walking-tour/2022-10-08/
LOCATION:Clark County Historical Museum\, 1511 Main St.\, Vancouver\, WA\, 98660\, United States
CATEGORIES:Haunted Walking Tours
ATTACH;FMTTYPE=image/png:https://cchmuseum.org/wp-content/uploads/2021/08/HauntedTour_sponsor_soldout.png
END:VEVENT
BEGIN:VEVENT
DTSTART;TZID=America/Los_Angeles:20221007T180000
DTEND;TZID=America/Los_Angeles:20221007T193000
DTSTAMP:20260424T035608
CREATED:20220105T214018Z
LAST-MODIFIED:20221008T221654Z
UID:10000018-1665165600-1665171000@cchmuseum.org
SUMMARY:Haunted Walking Tour
DESCRIPTION:Tickets on Sale in September!
URL:https://cchmuseum.org/calendar/haunted-walking-tour/2022-10-07/
LOCATION:Clark County Historical Museum\, 1511 Main St.\, Vancouver\, WA\, 98660\, United States
CATEGORIES:Haunted Walking Tours
ATTACH;FMTTYPE=image/png:https://cchmuseum.org/wp-content/uploads/2021/08/HauntedTour_sponsor_soldout.png
END:VEVENT
BEGIN:VEVENT
DTSTART;TZID=America/Los_Angeles:20221001T180000
DTEND;TZID=America/Los_Angeles:20221001T193000
DTSTAMP:20260424T035608
CREATED:20220105T214018Z
LAST-MODIFIED:20221008T221654Z
UID:10000017-1664647200-1664652600@cchmuseum.org
SUMMARY:Haunted Walking Tour
DESCRIPTION:Tickets on Sale in September!
URL:https://cchmuseum.org/calendar/haunted-walking-tour/2022-10-01/
LOCATION:Clark County Historical Museum\, 1511 Main St.\, Vancouver\, WA\, 98660\, United States
CATEGORIES:Haunted Walking Tours
ATTACH;FMTTYPE=image/png:https://cchmuseum.org/wp-content/uploads/2021/08/HauntedTour_sponsor_soldout.png
END:VEVENT
END:VCALENDAR