BEGIN:VCALENDAR
VERSION:2.0
PRODID:-//Clark County Historical Museum - ECPv6.15.20//NONSGML v1.0//EN
CALSCALE:GREGORIAN
METHOD:PUBLISH
X-ORIGINAL-URL:https://cchmuseum.org
X-WR-CALDESC:Events for Clark County Historical Museum
REFRESH-INTERVAL;VALUE=DURATION:PT1H
X-Robots-Tag:noindex
X-PUBLISHED-TTL:PT1H
BEGIN:VTIMEZONE
TZID:America/Los_Angeles
BEGIN:DAYLIGHT
TZOFFSETFROM:-0800
TZOFFSETTO:-0700
TZNAME:PDT
DTSTART:20220313T100000
END:DAYLIGHT
BEGIN:STANDARD
TZOFFSETFROM:-0700
TZOFFSETTO:-0800
TZNAME:PST
DTSTART:20221106T090000
END:STANDARD
BEGIN:DAYLIGHT
TZOFFSETFROM:-0800
TZOFFSETTO:-0700
TZNAME:PDT
DTSTART:20230312T100000
END:DAYLIGHT
BEGIN:STANDARD
TZOFFSETFROM:-0700
TZOFFSETTO:-0800
TZNAME:PST
DTSTART:20231105T090000
END:STANDARD
BEGIN:DAYLIGHT
TZOFFSETFROM:-0800
TZOFFSETTO:-0700
TZNAME:PDT
DTSTART:20240310T100000
END:DAYLIGHT
BEGIN:STANDARD
TZOFFSETFROM:-0700
TZOFFSETTO:-0800
TZNAME:PST
DTSTART:20241103T090000
END:STANDARD
END:VTIMEZONE
BEGIN:VEVENT
DTSTART;TZID=America/Los_Angeles:20230202T190000
DTEND;TZID=America/Los_Angeles:20230202T203000
DTSTAMP:20260425T044150
CREATED:20221214T195807Z
LAST-MODIFIED:20230110T180644Z
UID:10000061-1675364400-1675369800@cchmuseum.org
SUMMARY:Chkalov’s Transpolar Flight to Vancouver
DESCRIPTION:Chkalov was a Soviet Pilot who\, when attempting to fly from Moscow to Oakland\, had to emergency land at Pearson Airfield in 1937. During this month’s presentation\, Columbia River High School student\, Luke Hildreth\, will be presenting the findings of his History Extended Essay\, in which he explores the question\, “How significant was Chkalov’s flight to Vancouver and what was its significance on politics\, culture\, and aviation in both the Soviet Union and America?”
URL:https://cchmuseum.org/calendar/speaker-series-2/
LOCATION:Clark County Historical Museum\, 1511 Main St.\, Vancouver\, WA\, 98660\, United States
CATEGORIES:Speaker Series
ATTACH;FMTTYPE=image/png:https://cchmuseum.org/wp-content/uploads/2022/12/Feb2023_SpeakerSeries_calendar.png
END:VEVENT
END:VCALENDAR