BEGIN:VCALENDAR
VERSION:2.0
PRODID:-//Clark County Historical Museum - ECPv6.15.20//NONSGML v1.0//EN
CALSCALE:GREGORIAN
METHOD:PUBLISH
X-ORIGINAL-URL:https://cchmuseum.org
X-WR-CALDESC:Events for Clark County Historical Museum
REFRESH-INTERVAL;VALUE=DURATION:PT1H
X-Robots-Tag:noindex
X-PUBLISHED-TTL:PT1H
BEGIN:VTIMEZONE
TZID:America/Los_Angeles
BEGIN:DAYLIGHT
TZOFFSETFROM:-0800
TZOFFSETTO:-0700
TZNAME:PDT
DTSTART:20250309T100000
END:DAYLIGHT
BEGIN:STANDARD
TZOFFSETFROM:-0700
TZOFFSETTO:-0800
TZNAME:PST
DTSTART:20251102T090000
END:STANDARD
BEGIN:DAYLIGHT
TZOFFSETFROM:-0800
TZOFFSETTO:-0700
TZNAME:PDT
DTSTART:20260308T100000
END:DAYLIGHT
BEGIN:STANDARD
TZOFFSETFROM:-0700
TZOFFSETTO:-0800
TZNAME:PST
DTSTART:20261101T090000
END:STANDARD
BEGIN:DAYLIGHT
TZOFFSETFROM:-0800
TZOFFSETTO:-0700
TZNAME:PDT
DTSTART:20270314T100000
END:DAYLIGHT
BEGIN:STANDARD
TZOFFSETFROM:-0700
TZOFFSETTO:-0800
TZNAME:PST
DTSTART:20271107T090000
END:STANDARD
END:VTIMEZONE
BEGIN:VEVENT
DTSTART;TZID=America/Los_Angeles:20260304T120000
DTEND;TZID=America/Los_Angeles:20260304T130000
DTSTAMP:20260423T160827
CREATED:20260206T201803Z
LAST-MODIFIED:20260206T201804Z
UID:10000771-1772625600-1772629200@cchmuseum.org
SUMMARY:Penguin Talks: How History Works - The Diary of a Local Historian
DESCRIPTION:Join Clark County Historical Museum Executive Director Brad Richardson on Wednesday\, March 4 at noon in the Columbia Room at the Fort Vancouver Regional Library for an engaging talk on what it means to serve as both a steward and storyteller of our community’s shared history. Brad will explore the responsibilities\, challenges\, and rewards of preserving the past while making it meaningful for today’s audiences. \nThis free program is open to the public and will be held at the library’s main branch\, 901 C Street\, Vancouver\, WA 98660.
URL:https://cchmuseum.org/calendar/penguin-talks-how-history-works-the-diary-of-a-local-historian/
LOCATION:Vancouver Community Library (Columbian Room)\, 901 C St\, Vancouver\, 98660\, United States
ATTACH;FMTTYPE=application/pdf:https://cchmuseum.org/wp-content/uploads/2026/02/26-02_VA_Penguin-Talks_LET.pdf
END:VEVENT
BEGIN:VEVENT
DTSTART;TZID=America/Los_Angeles:20260305T190000
DTEND;TZID=America/Los_Angeles:20260305T203000
DTSTAMP:20260423T160827
CREATED:20260207T212334Z
LAST-MODIFIED:20260207T212334Z
UID:10000772-1772737200-1772742600@cchmuseum.org
SUMMARY:CCHM Speaker Series: Hidden Layers: Women’s Undergarments and How They’ve Shaped Ladies’ Liberties
DESCRIPTION:What do corsets\, petticoats\, bloomers\, and modern foundations have in common? \nThey tell the story of women’s lives\, liberties\, and changing roles in society. \nJoin the Clark County Historical Museum for Hidden Layers: Women’s Undergarments and How They’ve Shaped Ladies’ Liberties\, an engaging and entertaining Speaker Series presentation that explores how fashion has both restricted and liberated the female body over time. \nFrom garments designed to constrain movement to innovations that prioritize comfort and freedom\, women’s undergarments have long reflected society’s expectations around modesty\, beauty\, and independence. Blending humor with historical insight\, this talk “pulls back the layers” to reveal how intimate apparel mirrors broader movements for gender equality and social change. \nThe program is presented by Diane Johnston\, a theatrical costume designer with more than 35 years of experience creating costumes for productions throughout the region. Johnston holds an MFA in costume design and is a member of the International Alliance of Theatrical Stage Employees. \nThis event is free and open to the public. Registration is required as seating is limited. Register here. \nThis program is made possible with generous support from Humanities Washington\, the Camas Public Library\, and the Clark County Historic Preservation Commission.
URL:https://cchmuseum.org/calendar/cchm-speaker-series-hidden-layers-womens-undergarments-and-how-theyve-shaped-ladies-liberties/
LOCATION:Camas Public Library\, 625 NE 4th Ave\, Camas\, WA\, 98607\, United States
CATEGORIES:Speaker Series
ATTACH;FMTTYPE=image/png:https://cchmuseum.org/wp-content/uploads/2026/02/Hidden-Layers-Asset.png
END:VEVENT
BEGIN:VEVENT
DTSTART;TZID=America/Los_Angeles:20260306T170000
DTEND;TZID=America/Los_Angeles:20260306T200000
DTSTAMP:20260423T160827
CREATED:20260207T221033Z
LAST-MODIFIED:20260207T221033Z
UID:10000773-1772816400-1772827200@cchmuseum.org
SUMMARY:CCHM After Hours: League of Women Voters
DESCRIPTION:Join us for CCHM After Hours at the Clark County Historical Museum! \nCelebrate community\, culture\, and connection during a special evening at the museum. On Friday\, March 6\, enjoy free admission from 5:00 to 8:00 PM and explore our exhibits after hours in a relaxed\, welcoming atmosphere. \nConnect with local organizations that are strengthening civic life in Southwest Washington\, and meet our featured community partner for the evening: the League of Women Voters. \nThe League of Women Voters is a nationally respected\, nonpartisan grassroots organization with a nearly 105-year legacy of empowering voters and defending democracy. Founded in 1920 to help newly enfranchised women exercise their right to vote\, the League continues today to encourage informed and active participation in government\, increase understanding of public policy issues\, expand voter access\, protect voting rights\, and promote civic engagement for people of all backgrounds without supporting any political party or candidate. \nAt this After Hours event\, representatives from the League will be onsite to share resources\, answer questions\, and highlight ways you can get involved in building a more informed and inclusive democracy right here in our community. \nCome learn more about the League’s work and how everyday citizens can engage in shaping our civic future!
URL:https://cchmuseum.org/calendar/cchm-after-hours-league-of-women-voters/
LOCATION:Clark County Historical Museum\, 1511 Main St.\, Vancouver\, WA\, 98660\, United States
ATTACH;FMTTYPE=image/png:https://cchmuseum.org/wp-content/uploads/2026/02/March-After-Hours-scaled.png
END:VEVENT
BEGIN:VEVENT
DTSTART;TZID=America/Los_Angeles:20260321T110000
DTEND;TZID=America/Los_Angeles:20260321T150000
DTSTAMP:20260423T160827
CREATED:20260226T212103Z
LAST-MODIFIED:20260226T212103Z
UID:10000775-1774090800-1774105200@cchmuseum.org
SUMMARY:Spring Equinox Native Art Market
DESCRIPTION:The Clark County Historical Museum is delighted to host the Spring Equinox Native Art Market on Saturday\, March 21\, 2026\, from 11:00 a.m. to 3:00 p.m. at the museum. \nThis dynamic community event will feature 17 gifted local Indigenous artists and vendors\, blending returning favorites with exciting new participants. Visitors can shop a wide selection of handcrafted pieces\, including original artwork\, jewelry\, beadwork\, crafts\, and other Indigenous-created goods. Whether you are looking for something meaningful for your home or a one of a kind gift\, the market offers an inspiring range of work rooted in tradition and creativity. \nThe afternoon will also include a live performance by internationally acclaimed Native American flutist Dr. Sherrie Davis\, whose music will add a powerful and uplifting element to the celebration. \nAdmission to the museum will be free during the event\, inviting guests to explore exhibits that share and preserve the stories of Southwest Washington’s diverse communities. \nThe Spring Equinox Native Art Market provides a welcoming space to support Indigenous artists\, celebrate cultural heritage\, and gather in community. \nFor more information\, please contact the museum at 360-993-5679.
URL:https://cchmuseum.org/calendar/spring-equinox-native-art-market-2/
LOCATION:Clark County Historical Museum\, 1511 Main St.\, Vancouver\, WA\, 98660\, United States
CATEGORIES:Community Events
ATTACH;FMTTYPE=image/png:https://cchmuseum.org/wp-content/uploads/2026/02/Spring-Native-Art-2026.png
END:VEVENT
BEGIN:VEVENT
DTSTART;TZID=America/Los_Angeles:20260328T120000
DTEND;TZID=America/Los_Angeles:20260328T133000
DTSTAMP:20260423T160827
CREATED:20260224T225503Z
LAST-MODIFIED:20260224T225503Z
UID:10000774-1774699200-1774704600@cchmuseum.org
SUMMARY:A Map Of Her Own: An Afternoon Author Talk With Dede Montgomery
DESCRIPTION:Join the Clark County Historical Museum for a special midday author talk at the historic Covington House.\n\n\n\nOn Saturday\, March 28 at noon\, sixth-generation Pacific Northwest author and blogger Dede Montgomery will share the stories\, history\, and family legacies that shape her writing and connect deeply to the Columbia River region. \nMontgomery’s latest novel\, A Map of Her Own\, moves between contemporary Astoria and early 1900s Camas\, weaving together personal discovery and regional history. Her talk will explore the historical threads behind her work\, including: \n• Early settlers who traveled up the Columbia River to Fort Vancouver\n• Connections to the Jason Lee missionaries\n• Early Oregon land claims\n• Maritime history and Pacific Northwest industry\n• The beginnings of the Camas paper mill\n• The role of place\, memory\, and heritage in storytelling \nMontgomery is the author of six books\, including My Music Man\, Humanity’s Grace\, Beyond the Ripples\, and Then\, Now and In-Between. Her work blends history\, memoir\, and fiction to illuminate the people and landscapes that define Oregon and Southwest Washington. \nBooks will be available for purchase following the program. \nThis event is free and open to the public. Registration is encouraged.
URL:https://cchmuseum.org/calendar/a-map-of-her-own-an-afternoon-author-talk-with-dede-montgomery/
LOCATION:Historic Covington House\, 4201 Main St\, Vancouver\, WA\, 98660\, United States
CATEGORIES:Community Events
ATTACH;FMTTYPE=image/png:https://cchmuseum.org/wp-content/uploads/2026/02/A-Map-Of-Her-Own-Asset.png
END:VEVENT
END:VCALENDAR