BEGIN:VCALENDAR
VERSION:2.0
PRODID:-//Clark County Historical Museum - ECPv6.15.20//NONSGML v1.0//EN
CALSCALE:GREGORIAN
METHOD:PUBLISH
X-WR-CALNAME:Clark County Historical Museum
X-ORIGINAL-URL:https://cchmuseum.org
X-WR-CALDESC:Events for Clark County Historical Museum
REFRESH-INTERVAL;VALUE=DURATION:PT1H
X-Robots-Tag:noindex
X-PUBLISHED-TTL:PT1H
BEGIN:VTIMEZONE
TZID:America/Los_Angeles
BEGIN:DAYLIGHT
TZOFFSETFROM:-0800
TZOFFSETTO:-0700
TZNAME:PDT
DTSTART:20220313T100000
END:DAYLIGHT
BEGIN:STANDARD
TZOFFSETFROM:-0700
TZOFFSETTO:-0800
TZNAME:PST
DTSTART:20221106T090000
END:STANDARD
BEGIN:DAYLIGHT
TZOFFSETFROM:-0800
TZOFFSETTO:-0700
TZNAME:PDT
DTSTART:20230312T100000
END:DAYLIGHT
BEGIN:STANDARD
TZOFFSETFROM:-0700
TZOFFSETTO:-0800
TZNAME:PST
DTSTART:20231105T090000
END:STANDARD
BEGIN:DAYLIGHT
TZOFFSETFROM:-0800
TZOFFSETTO:-0700
TZNAME:PDT
DTSTART:20240310T100000
END:DAYLIGHT
BEGIN:STANDARD
TZOFFSETFROM:-0700
TZOFFSETTO:-0800
TZNAME:PST
DTSTART:20241103T090000
END:STANDARD
END:VTIMEZONE
BEGIN:VEVENT
DTSTART;TZID=America/Los_Angeles:20231201T170000
DTEND;TZID=America/Los_Angeles:20231201T200000
DTSTAMP:20260425T052637
CREATED:20230110T194010Z
LAST-MODIFIED:20230310T163327Z
UID:10000094-1701450000-1701460800@cchmuseum.org
SUMMARY:#CCHM After Hours Open House
DESCRIPTION:Have you ever wondered where the PNW’s love for hops and IPAs began? Or who was the first female riverboat captain on the Columbia? Have fun and meet others every First Friday while exploring our community’s history during #CCHMuseum After Hours! \nEach monthly event showcases a different theme with experiences such as pop-up exhibits\, workshops\, live performances\, author readings\, and more. While you’re here\, be sure to explore our award winning exhibits to learn about the women who helped build the Clark County or dance through the history of music in our community.
URL:https://cchmuseum.org/calendar/cchmafterhours/2023-12-01/
LOCATION:Clark County Historical Museum\, 1511 Main St.\, Vancouver\, WA\, 98660\, United States
CATEGORIES:First Friday
ATTACH;FMTTYPE=image/png:https://cchmuseum.org/wp-content/uploads/2022/01/CCHM-AfterHours_generic.png
END:VEVENT
BEGIN:VEVENT
DTSTART;TZID=America/Los_Angeles:20231119T120000
DTEND;TZID=America/Los_Angeles:20231119T150000
DTSTAMP:20260425T052637
CREATED:20230513T164357Z
LAST-MODIFIED:20230513T164911Z
UID:10000301-1700395200-1700406000@cchmuseum.org
SUMMARY:Covington House Open House
DESCRIPTION:
URL:https://cchmuseum.org/calendar/covington-house-third-sundays/2023-11-19/
LOCATION:Historic Covington House\, 4201 Main St\, Vancouver\, WA\, 98660\, United States
CATEGORIES:Community Events
END:VEVENT
BEGIN:VEVENT
DTSTART;TZID=America/Los_Angeles:20231116T183000
DTEND;TZID=America/Los_Angeles:20231116T193000
DTSTAMP:20260425T052637
CREATED:20230214T194359Z
LAST-MODIFIED:20240118T185729Z
UID:10000111-1700159400-1700163000@cchmuseum.org
SUMMARY:Vancouver Writers Guild Workshop
DESCRIPTION:
URL:https://cchmuseum.org/calendar/vancouver-writers-guild-workshop/2023-11-16/
LOCATION:Clark County Historical Museum\, 1511 Main St.\, Vancouver\, WA\, 98660\, United States
END:VEVENT
BEGIN:VEVENT
DTSTART;TZID=America/Los_Angeles:20231103T170000
DTEND;TZID=America/Los_Angeles:20231103T200000
DTSTAMP:20260425T052637
CREATED:20230110T194010Z
LAST-MODIFIED:20230310T163327Z
UID:10000093-1699030800-1699041600@cchmuseum.org
SUMMARY:#CCHM After Hours Open House
DESCRIPTION:Have you ever wondered where the PNW’s love for hops and IPAs began? Or who was the first female riverboat captain on the Columbia? Have fun and meet others every First Friday while exploring our community’s history during #CCHMuseum After Hours! \nEach monthly event showcases a different theme with experiences such as pop-up exhibits\, workshops\, live performances\, author readings\, and more. While you’re here\, be sure to explore our award winning exhibits to learn about the women who helped build the Clark County or dance through the history of music in our community.
URL:https://cchmuseum.org/calendar/cchmafterhours/2023-11-03/
LOCATION:Clark County Historical Museum\, 1511 Main St.\, Vancouver\, WA\, 98660\, United States
CATEGORIES:First Friday
ATTACH;FMTTYPE=image/png:https://cchmuseum.org/wp-content/uploads/2022/01/CCHM-AfterHours_generic.png
END:VEVENT
BEGIN:VEVENT
DTSTART;TZID=America/Los_Angeles:20231102T190000
DTEND;TZID=America/Los_Angeles:20231102T203000
DTSTAMP:20260425T052637
CREATED:20231006T203344Z
LAST-MODIFIED:20231006T203347Z
UID:10000070-1698951600-1698957000@cchmuseum.org
SUMMARY:The Campbells and The Columbian: Searching for my Great-Grandfather\, Herbert J. Campbell
DESCRIPTION:Join Will Campbell\, as he presents the story of his great-grandfather\, newspaperman Herbert J. Campbell. Learn about the man that started the Campbell news legacy when he purchased The Columbian in 1921. Find out how The Columbian has changed and grown with Vancouver through the years. And discover what the future holds for the paper and the family. \nWill Campbell is a fourth-generation owner of The Columbian and is the Innovation Editor at The Columbian. He directs The Columbian’s special projects\, including Community Funded Journalism and the growing number of Columbian-hosted events. He graduated from the University of Oregon in 2017 with a degree in journalism and worked for The Spokesman-Review in Spokane for two years as a crime\, courts\, and public safety reporter. He joined The Columbian full-time in 2019 as an Assistant Metro Editor and Business Reporter. \nThe CCHM Speaker Series is sponsored by the Clark County Historic Preservation Commission. November’s presentation is brought to you with support from The Columbian and the Fort Vancouver Regional Library. This evening is free to the public. \nFor more information\, contact the museum at 360-993-5679 or outreach@cchmuseum.org.
URL:https://cchmuseum.org/calendar/speaker-series-11/
LOCATION:Vancouver Community Library (Columbian Room)\, 901 C St\, Vancouver\, 98660\, United States
CATEGORIES:Speaker Series
ATTACH;FMTTYPE=image/png:https://cchmuseum.org/wp-content/uploads/2022/12/Nov2023_wide.png
END:VEVENT
BEGIN:VEVENT
DTSTART;TZID=America/Los_Angeles:20231028T190000
DTEND;TZID=America/Los_Angeles:20231028T203000
DTSTAMP:20260425T052637
CREATED:20230322T205658Z
LAST-MODIFIED:20230322T210049Z
UID:10000172-1698519600-1698525000@cchmuseum.org
SUMMARY:Haunted Walking Tours
DESCRIPTION:Tickets on sale August 7th! For more information go to https://cchmuseum.org/programs-events/haunted-walking-tours/
URL:https://cchmuseum.org/calendar/haunted-walking-tours/2023-10-28/
LOCATION:Clark County Historical Museum\, 1511 Main St.\, Vancouver\, WA\, 98660\, United States
CATEGORIES:Haunted Walking Tours
END:VEVENT
BEGIN:VEVENT
DTSTART;TZID=America/Los_Angeles:20231027T190000
DTEND;TZID=America/Los_Angeles:20231027T203000
DTSTAMP:20260425T052637
CREATED:20230322T205658Z
LAST-MODIFIED:20230322T210049Z
UID:10000171-1698433200-1698438600@cchmuseum.org
SUMMARY:Haunted Walking Tours
DESCRIPTION:Tickets on sale August 7th! For more information go to https://cchmuseum.org/programs-events/haunted-walking-tours/
URL:https://cchmuseum.org/calendar/haunted-walking-tours/2023-10-27/
LOCATION:Clark County Historical Museum\, 1511 Main St.\, Vancouver\, WA\, 98660\, United States
CATEGORIES:Haunted Walking Tours
END:VEVENT
BEGIN:VEVENT
DTSTART;TZID=America/Los_Angeles:20231021T190000
DTEND;TZID=America/Los_Angeles:20231021T203000
DTSTAMP:20260425T052637
CREATED:20230322T205658Z
LAST-MODIFIED:20230322T210049Z
UID:10000170-1697914800-1697920200@cchmuseum.org
SUMMARY:Haunted Walking Tours
DESCRIPTION:Tickets on sale August 7th! For more information go to https://cchmuseum.org/programs-events/haunted-walking-tours/
URL:https://cchmuseum.org/calendar/haunted-walking-tours/2023-10-21/
LOCATION:Clark County Historical Museum\, 1511 Main St.\, Vancouver\, WA\, 98660\, United States
CATEGORIES:Haunted Walking Tours
END:VEVENT
BEGIN:VEVENT
DTSTART;TZID=America/Los_Angeles:20231020T190000
DTEND;TZID=America/Los_Angeles:20231020T203000
DTSTAMP:20260425T052637
CREATED:20230322T205658Z
LAST-MODIFIED:20230322T210049Z
UID:10000169-1697828400-1697833800@cchmuseum.org
SUMMARY:Haunted Walking Tours
DESCRIPTION:Tickets on sale August 7th! For more information go to https://cchmuseum.org/programs-events/haunted-walking-tours/
URL:https://cchmuseum.org/calendar/haunted-walking-tours/2023-10-20/
LOCATION:Clark County Historical Museum\, 1511 Main St.\, Vancouver\, WA\, 98660\, United States
CATEGORIES:Haunted Walking Tours
END:VEVENT
BEGIN:VEVENT
DTSTART;TZID=America/Los_Angeles:20231019T183000
DTEND;TZID=America/Los_Angeles:20231019T193000
DTSTAMP:20260425T052637
CREATED:20230214T194359Z
LAST-MODIFIED:20240118T185729Z
UID:10000110-1697740200-1697743800@cchmuseum.org
SUMMARY:Vancouver Writers Guild Workshop
DESCRIPTION:
URL:https://cchmuseum.org/calendar/vancouver-writers-guild-workshop/2023-10-19/
LOCATION:Clark County Historical Museum\, 1511 Main St.\, Vancouver\, WA\, 98660\, United States
END:VEVENT
BEGIN:VEVENT
DTSTART;TZID=America/Los_Angeles:20231018T190000
DTEND;TZID=America/Los_Angeles:20231018T210000
DTSTAMP:20260425T052637
CREATED:20230725T190410Z
LAST-MODIFIED:20230725T190410Z
UID:10000540-1697655600-1697662800@cchmuseum.org
SUMMARY:Campfire Tales 5: Little Couve of Horror
DESCRIPTION:Clark County Historical Museum wraps up its 2023 History on Tap season at the Kiggins Theatre on Wednesday\, Oct. 18\, with the fifth and final year of “Campfire Tales: Little Couve of Horror.” Doors open at 6:00 p.m. and the event begins at 7 p.m. \nFor this final rendition of Campfire Tales\, local historians Pat Jollota\, Brad Richardson\, and Jeff Davis bring their spookiest and creepiest stories from Clark County’s past – including never before heard haunting accounts as well as tales of vice and crime. \nBefore the main event\, see if you can figure out which tidbits of history are true and which ones are fake in our newest segment\, One History and A Lie. And learn who is the true King or Queen of trivia as we conclude this year’s head-to-head battle between the husband-and-wife duo behind our season sponsor\, My Family Guide\, Ben and Angela Surrat\, during Clark County Trivia. \nAdmission to History on Tap is $12 for CCHM members\, $15 in advance for non-members\, and $18 at the door. Tickets can be purchased at the Kiggins Theatre Box Office or online at https://www.kigginstheatre.com/movie/history-on-tap—campfire-tales-5/. \nThe History on Tap season is brought to you by My Family Guide. Special thanks to our show sponsors: the Historic Music Preservation Project and Realvest. Program support provided by Versa Events. \nFor more information\, contact the museum at 360-993-5679 or outreach@cchmuseum.org.
URL:https://cchmuseum.org/calendar/campfire-tales-5-little-couve-of-horror/
LOCATION:Clark County Historical Museum\, 1511 Main St.\, Vancouver\, WA\, 98660\, United States
CATEGORIES:History on Tap
ATTACH;FMTTYPE=image/png:https://cchmuseum.org/wp-content/uploads/2023/01/Oct2023_HoT_wide.png
END:VEVENT
BEGIN:VEVENT
DTSTART;TZID=America/Los_Angeles:20231015T120000
DTEND;TZID=America/Los_Angeles:20231015T150000
DTSTAMP:20260425T052637
CREATED:20230513T164357Z
LAST-MODIFIED:20230513T164911Z
UID:10000300-1697371200-1697382000@cchmuseum.org
SUMMARY:Covington House Open House
DESCRIPTION:
URL:https://cchmuseum.org/calendar/covington-house-third-sundays/2023-10-15/
LOCATION:Historic Covington House\, 4201 Main St\, Vancouver\, WA\, 98660\, United States
CATEGORIES:Community Events
END:VEVENT
BEGIN:VEVENT
DTSTART;TZID=America/Los_Angeles:20231014T190000
DTEND;TZID=America/Los_Angeles:20231014T203000
DTSTAMP:20260425T052637
CREATED:20230322T205658Z
LAST-MODIFIED:20230322T210049Z
UID:10000168-1697310000-1697315400@cchmuseum.org
SUMMARY:Haunted Walking Tours
DESCRIPTION:Tickets on sale August 7th! For more information go to https://cchmuseum.org/programs-events/haunted-walking-tours/
URL:https://cchmuseum.org/calendar/haunted-walking-tours/2023-10-14/
LOCATION:Clark County Historical Museum\, 1511 Main St.\, Vancouver\, WA\, 98660\, United States
CATEGORIES:Haunted Walking Tours
END:VEVENT
BEGIN:VEVENT
DTSTART;TZID=America/Los_Angeles:20231013T190000
DTEND;TZID=America/Los_Angeles:20231013T203000
DTSTAMP:20260425T052637
CREATED:20230322T205658Z
LAST-MODIFIED:20230322T210049Z
UID:10000167-1697223600-1697229000@cchmuseum.org
SUMMARY:Haunted Walking Tours
DESCRIPTION:Tickets on sale August 7th! For more information go to https://cchmuseum.org/programs-events/haunted-walking-tours/
URL:https://cchmuseum.org/calendar/haunted-walking-tours/2023-10-13/
LOCATION:Clark County Historical Museum\, 1511 Main St.\, Vancouver\, WA\, 98660\, United States
CATEGORIES:Haunted Walking Tours
END:VEVENT
BEGIN:VEVENT
DTSTART;TZID=America/Los_Angeles:20231007T190000
DTEND;TZID=America/Los_Angeles:20231007T203000
DTSTAMP:20260425T052637
CREATED:20230322T205658Z
LAST-MODIFIED:20230322T210049Z
UID:10000166-1696705200-1696710600@cchmuseum.org
SUMMARY:Haunted Walking Tours
DESCRIPTION:Tickets on sale August 7th! For more information go to https://cchmuseum.org/programs-events/haunted-walking-tours/
URL:https://cchmuseum.org/calendar/haunted-walking-tours/2023-10-07/
LOCATION:Clark County Historical Museum\, 1511 Main St.\, Vancouver\, WA\, 98660\, United States
CATEGORIES:Haunted Walking Tours
END:VEVENT
BEGIN:VEVENT
DTSTART;TZID=America/Los_Angeles:20231006T190000
DTEND;TZID=America/Los_Angeles:20231006T203000
DTSTAMP:20260425T052637
CREATED:20230322T205658Z
LAST-MODIFIED:20230322T210049Z
UID:10000165-1696618800-1696624200@cchmuseum.org
SUMMARY:Haunted Walking Tours
DESCRIPTION:Tickets on sale August 7th! For more information go to https://cchmuseum.org/programs-events/haunted-walking-tours/
URL:https://cchmuseum.org/calendar/haunted-walking-tours/2023-10-06/
LOCATION:Clark County Historical Museum\, 1511 Main St.\, Vancouver\, WA\, 98660\, United States
CATEGORIES:Haunted Walking Tours
END:VEVENT
BEGIN:VEVENT
DTSTART;TZID=America/Los_Angeles:20231006T080000
DTEND;TZID=America/Los_Angeles:20231006T170000
DTSTAMP:20260425T052637
CREATED:20241003T175154Z
LAST-MODIFIED:20241003T175154Z
UID:10000664-1696579200-1696611600@cchmuseum.org
SUMMARY:Community Take-over: League of Women Voters of Clark County
DESCRIPTION:Come to a Celebration of Voting First Friday on October 4\, 5 – 8pm\, at the Clark County Historical Museum!  Discover why voting is key to democracy through fun activities and games. Join a team to play Spin the Wheel or the Election Night Game. Vote for the winning Fat Bear at the Contest on Alaska’s Katmai Peninsula on our Voting Machine! Explore how to unpack what the various initiatives on the ballot mean\, VoteWA.gov\, find info on your candidates and redrawn district lines. Sip a beer taste at the History of Brewing. Naturally we will register you to vote!
URL:https://cchmuseum.org/calendar/community-take-over-league-of-women-voters-of-clark-county-2/
LOCATION:Clark County Historical Museum\, 1511 Main St.\, Vancouver\, WA\, 98660\, United States
CATEGORIES:First Friday
ATTACH;FMTTYPE=image/png:https://cchmuseum.org/wp-content/uploads/2023/03/CCHM-AfterHours_LWVCC.png
END:VEVENT
BEGIN:VEVENT
DTSTART;TZID=America/Los_Angeles:20231006T080000
DTEND;TZID=America/Los_Angeles:20231006T170000
DTSTAMP:20260425T052637
CREATED:20230310T163554Z
LAST-MODIFIED:20230310T163554Z
UID:10000158-1696579200-1696611600@cchmuseum.org
SUMMARY:Community Take-over: League of Women Voters of Clark County
DESCRIPTION:Have you ever wondered where the PNW’s love for hops and IPAs began? Or who was the first female riverboat captain on the Columbia? Have fun and meet others every First Friday while exploring our community’s history during #CCHMuseum AfterHours! \nIt’s Community takeover time! This month the League of Women Voters of Clark County is taking over the museum. Join us from 5pm to 8pm to meet great people and learn more about one of our many amazing community partners.
URL:https://cchmuseum.org/calendar/community-take-over-league-of-women-voters-of-clark-county/
LOCATION:Clark County Historical Museum\, 1511 Main St.\, Vancouver\, WA\, 98660\, United States
CATEGORIES:First Friday
ATTACH;FMTTYPE=image/png:https://cchmuseum.org/wp-content/uploads/2023/03/CCHM-AfterHours_LWVCC.png
END:VEVENT
BEGIN:VEVENT
DTSTART;TZID=America/Los_Angeles:20231005T190000
DTEND;TZID=America/Los_Angeles:20231005T203000
DTSTAMP:20260425T052637
CREATED:20230518T222843Z
LAST-MODIFIED:20230518T222845Z
UID:10000069-1696532400-1696537800@cchmuseum.org
SUMMARY:Double Crossed: The American Missionary Spies of World War II
DESCRIPTION:Clark County Historical Museum and Humanities Washington are excited to welcome Matthew Avery Sutton’s remarkable presentation\, “Double Crossed: The American Missionary Spies of World War II.” The event will occur on Thursday\, October 5\, 2023 in person at the Clark County Historical Museum (1511 Main Street\, Vancouver\, WA 98660). Doors open at 6 p.m. and the event begins at 7 p.m.  \nWhat made a good missionary also made a good spy\, or so thought American intelligence agencies in World War II. These religious men and women carried out covert operations\, bombings\, and assassinations—confident that their nefarious deeds would eventually help them achieve their mission by expanding the kingdom of God. \nHistorian Matthew Avery Sutton tells the extraordinary story of these missionaries\, priests\, and rabbis who played an outsized role in leading the United States to victory in World War II. This talk is an untold story of wartime spy craft and a profound account of the compromises and doubts that war forces on those who wage it. \nMatthew Avery Sutton (he/him) is the Berry Family Distinguished Professor in Liberal Arts and the chair of the Department of History at Washington State University. He has authored several books\, the most recent of which is Double Crossed: The Missionaries Who Spied for the United States During the Second World War (2019)\, off which his talk is based. He has written for the New York Times and Washington Post. In 2016\, he was appointed a Guggenheim Foundation Fellow. \nThe CCHM Speaker Series is sponsored by the Humanities Washington and Clark County Historic Preservation Commission. Thanks to support from Humanities Washington this event is free to the public.  \nFor more information\, contact the museum at 360-993-5679 or outreach@cchmuseum.org.  \nAbout Humanities Washington\nHumanities Washington is a nonprofit organization dedicated to opening minds and bridging divides by creating spaces to explore different perspectives. For more about Humanities Washington\, visit www.humanities.org. \nAbout the Speakers Bureau Program\nIn communities throughout Washington State\, Speakers Bureau presenters give free public presentations on history\, politics\, music\, philosophy\, spiritual traditions\, and everything in between. \nTheir roster of over 30 Speakers Bureau presenters is made up of professors\, artists\, activists\, historians\, performers\, journalists\, and others—all chosen not only for their expertise\, but also for their ability to  \ninspire discussion with people of all ages and backgrounds. Hundreds of Speakers Bureau events take place each year. Find a Speakers Bureau event near you. \nTo reach as many Washingtonians as possible\, Humanities Washington partners with a wide range of organizations\, including libraries\, schools\, museums\, historical societies\, community centers\, and civic organizations. Qualifying nonprofit organizations are encouraged to host a speaker. \nThe Speakers Bureau program is made possible with support from the National Endowment for the Humanities\, the State of Washington via the Office of the Secretary of State\, the Thomas S. Foley Institute for Public Policy and Public Service at Washington State University\, and generous contributions from other businesses\, foundations\, and individuals.
URL:https://cchmuseum.org/calendar/speaker-series-10/
LOCATION:Clark County Historical Museum\, 1511 Main St.\, Vancouver\, WA\, 98660\, United States
CATEGORIES:Speaker Series
ATTACH;FMTTYPE=image/png:https://cchmuseum.org/wp-content/uploads/2022/12/Oct2023_wide.png
END:VEVENT
BEGIN:VEVENT
DTSTART;TZID=America/Los_Angeles:20230930T190000
DTEND;TZID=America/Los_Angeles:20230930T203000
DTSTAMP:20260425T052637
CREATED:20230322T205658Z
LAST-MODIFIED:20230322T210049Z
UID:10000164-1696100400-1696105800@cchmuseum.org
SUMMARY:Haunted Walking Tours
DESCRIPTION:Tickets on sale August 7th! For more information go to https://cchmuseum.org/programs-events/haunted-walking-tours/
URL:https://cchmuseum.org/calendar/haunted-walking-tours/2023-09-30/
LOCATION:Clark County Historical Museum\, 1511 Main St.\, Vancouver\, WA\, 98660\, United States
CATEGORIES:Haunted Walking Tours
END:VEVENT
BEGIN:VEVENT
DTSTART;TZID=America/Los_Angeles:20230929T190000
DTEND;TZID=America/Los_Angeles:20230929T203000
DTSTAMP:20260425T052637
CREATED:20230322T205658Z
LAST-MODIFIED:20230322T210049Z
UID:10000163-1696014000-1696019400@cchmuseum.org
SUMMARY:Haunted Walking Tours
DESCRIPTION:Tickets on sale August 7th! For more information go to https://cchmuseum.org/programs-events/haunted-walking-tours/
URL:https://cchmuseum.org/calendar/haunted-walking-tours/2023-09-29/
LOCATION:Clark County Historical Museum\, 1511 Main St.\, Vancouver\, WA\, 98660\, United States
CATEGORIES:Haunted Walking Tours
END:VEVENT
BEGIN:VEVENT
DTSTART;TZID=America/Los_Angeles:20230923T190000
DTEND;TZID=America/Los_Angeles:20230923T203000
DTSTAMP:20260425T052637
CREATED:20230322T205658Z
LAST-MODIFIED:20230322T210049Z
UID:10000162-1695495600-1695501000@cchmuseum.org
SUMMARY:Haunted Walking Tours
DESCRIPTION:Tickets on sale August 7th! For more information go to https://cchmuseum.org/programs-events/haunted-walking-tours/
URL:https://cchmuseum.org/calendar/haunted-walking-tours/2023-09-23/
LOCATION:Clark County Historical Museum\, 1511 Main St.\, Vancouver\, WA\, 98660\, United States
CATEGORIES:Haunted Walking Tours
END:VEVENT
BEGIN:VEVENT
DTSTART;TZID=America/Los_Angeles:20230922T190000
DTEND;TZID=America/Los_Angeles:20230922T203000
DTSTAMP:20260425T052637
CREATED:20230322T205658Z
LAST-MODIFIED:20230322T210049Z
UID:10000161-1695409200-1695414600@cchmuseum.org
SUMMARY:Haunted Walking Tours
DESCRIPTION:Tickets on sale August 7th! For more information go to https://cchmuseum.org/programs-events/haunted-walking-tours/
URL:https://cchmuseum.org/calendar/haunted-walking-tours/2023-09-22/
LOCATION:Clark County Historical Museum\, 1511 Main St.\, Vancouver\, WA\, 98660\, United States
CATEGORIES:Haunted Walking Tours
END:VEVENT
BEGIN:VEVENT
DTSTART;TZID=America/Los_Angeles:20230921T183000
DTEND;TZID=America/Los_Angeles:20230921T193000
DTSTAMP:20260425T052637
CREATED:20230214T194359Z
LAST-MODIFIED:20240118T185729Z
UID:10000109-1695321000-1695324600@cchmuseum.org
SUMMARY:Vancouver Writers Guild Workshop
DESCRIPTION:
URL:https://cchmuseum.org/calendar/vancouver-writers-guild-workshop/2023-09-21/
LOCATION:Clark County Historical Museum\, 1511 Main St.\, Vancouver\, WA\, 98660\, United States
END:VEVENT
BEGIN:VEVENT
DTSTART;TZID=America/Los_Angeles:20230917T120000
DTEND;TZID=America/Los_Angeles:20230917T150000
DTSTAMP:20260425T052637
CREATED:20230513T164357Z
LAST-MODIFIED:20230513T164911Z
UID:10000299-1694952000-1694962800@cchmuseum.org
SUMMARY:Covington House Open House
DESCRIPTION:
URL:https://cchmuseum.org/calendar/covington-house-third-sundays/2023-09-17/
LOCATION:Historic Covington House\, 4201 Main St\, Vancouver\, WA\, 98660\, United States
CATEGORIES:Community Events
END:VEVENT
BEGIN:VEVENT
DTSTART;TZID=America/Los_Angeles:20230916T183000
DTEND;TZID=America/Los_Angeles:20230916T200000
DTSTAMP:20260425T052637
CREATED:20230322T205852Z
LAST-MODIFIED:20230322T210122Z
UID:10000187-1694889000-1694894400@cchmuseum.org
SUMMARY:Haunted Walking Tours
DESCRIPTION:Tickets on sale August 7th! For more information go to https://cchmuseum.org/programs-events/haunted-walking-tours/
URL:https://cchmuseum.org/calendar/haunted-walking-tours-2/2023-09-16/
LOCATION:Clark County Historical Museum\, 1511 Main St.\, Vancouver\, WA\, 98660\, United States
CATEGORIES:Haunted Walking Tours
END:VEVENT
BEGIN:VEVENT
DTSTART;TZID=America/Los_Angeles:20230916T090000
DTEND;TZID=America/Los_Angeles:20230916T150000
DTSTAMP:20260425T052637
CREATED:20230513T163003Z
LAST-MODIFIED:20230513T163015Z
UID:10000193-1694854800-1694876400@cchmuseum.org
SUMMARY:CCHM @ Vancouver Peace & Justice Fair
DESCRIPTION:
URL:https://cchmuseum.org/calendar/vancouver-peace-justice-fair/
LOCATION:Esther Short Park\, 605 Esther St\, Vancouver\, WA\, 98660\, United States
CATEGORIES:Out & About
END:VEVENT
BEGIN:VEVENT
DTSTART;TZID=America/Los_Angeles:20230915T183000
DTEND;TZID=America/Los_Angeles:20230915T200000
DTSTAMP:20260425T052637
CREATED:20230322T205852Z
LAST-MODIFIED:20230322T210122Z
UID:10000189-1694802600-1694808000@cchmuseum.org
SUMMARY:Haunted Walking Tours
DESCRIPTION:Tickets on sale August 7th! For more information go to https://cchmuseum.org/programs-events/haunted-walking-tours/
URL:https://cchmuseum.org/calendar/haunted-walking-tours-2/2023-09-15/
LOCATION:Clark County Historical Museum\, 1511 Main St.\, Vancouver\, WA\, 98660\, United States
CATEGORIES:Haunted Walking Tours
END:VEVENT
BEGIN:VEVENT
DTSTART;TZID=America/Los_Angeles:20230909T190000
DTEND;TZID=America/Los_Angeles:20230909T203000
DTSTAMP:20260425T052637
CREATED:20230322T205658Z
LAST-MODIFIED:20230322T210049Z
UID:10000159-1694286000-1694291400@cchmuseum.org
SUMMARY:Haunted Walking Tours
DESCRIPTION:Tickets on sale August 7th! For more information go to https://cchmuseum.org/programs-events/haunted-walking-tours/
URL:https://cchmuseum.org/calendar/haunted-walking-tours/2023-09-09/
LOCATION:Clark County Historical Museum\, 1511 Main St.\, Vancouver\, WA\, 98660\, United States
CATEGORIES:Haunted Walking Tours
END:VEVENT
BEGIN:VEVENT
DTSTART;TZID=America/Los_Angeles:20230907T190000
DTEND;TZID=America/Los_Angeles:20230907T203000
DTSTAMP:20260425T052637
CREATED:20230518T222637Z
LAST-MODIFIED:20230518T222638Z
UID:10000068-1694113200-1694118600@cchmuseum.org
SUMMARY:The Cowlitz Tribe: An Enduring Legacy
DESCRIPTION:Clark County Historical Museum is excited to welcome Cowlitz Tanna Engdahl\, as she presents “The Cowlitz Tribe: An Enduring Legacy” for September’s CCHM Speaker Series. The event will occur on Thursday\, September 7\, 2023 in person at the Clark County Historical Museum (1511 Main Street\, Vancouver\, WA 98660). Doors open at 6 p.m. and the event begins at 7 p.m.  \nJoin Cowlitz Tribe Elder and Spiritual Leader\, Tanna Engdahl\, as she presents the history of the Cowlitz Tribe\, their struggles both before and after the Treaty Era\, and the ongoing legacy of their stewardship of their traditional lands. \nSince the beginning of time\, the Cowlitz Tribe have nurtured the lands and waters throughout major parts of Southwest Washington. Like many of this country’s First People\, the Cowlitz have dealt with significant challenges since initial contact with the Europeans and the Americans that came after them. Despite all this\, the People endure and remain a vibrant part of Southwest Washington. Their contribution to the natural and cultural landscape continues today through their charitable giving\, environmental expertise\, and the sharing of their stories and knowledge.  \nTanna Engdahl is an Elder and Spiritual Leader in the Cowlitz Indian Tribe. At the beginning of her career\, Tanna competed for a special scholarship to Columbia University and was hired by KIRO-TV as the first major-market American Indian TV news reporter in the U.S. At the same time\, she served as the Tribe’s Vice-President. \nShe left the newsroom to engage in a thirty-year career in public land agencies: Bureau of Indian Affairs\, Bureau of Land Management and the National Park Service. During that time\, she was selected to a Federal Leadership Academy and spent many years in management positions.  \nIn this role\, she encouraged Federal sensitivity to tribal sacred sites and was in the forefront of a movement to establish Indian cultural committees within the Government. Upon retirement\, she joined Mike Iyall\, the Tribe’s senior historian\, in presenting Cowlitz history to schools\, colleges\, community organizations\, Federal and State agencies and other public venues. She also champions conservation projects and health programs for which the Cowlitz Tribe is known for.   \nAs a volunteer\, Tanna serves on the Ridgefield National Wildlife Refuge Board and Washington State University’s Native American Board Community Advisory Board. Her spiritual work is dedicated to Tribal activities and events. She also officiates at weddings\, funerals and other lifeway celebrations.    \nThe CCHM Speaker Series is sponsored by the Clark County Historic Preservation Commission and League of Women Voters of Clark County. General admission is $5; seniors and students are $4; children under 18 are $3; and the evening is free for CCHM members\, veterans\, and active-duty military personnel.  \nFor more information\, contact the museum at 360-993-5679 or outreach@cchmuseum.org.
URL:https://cchmuseum.org/calendar/speaker-series-9/
LOCATION:Clark County Historical Museum\, 1511 Main St.\, Vancouver\, WA\, 98660\, United States
CATEGORIES:Speaker Series
ATTACH;FMTTYPE=image/png:https://cchmuseum.org/wp-content/uploads/2022/12/Sep2023_SpkrSeries_wide.png
END:VEVENT
END:VCALENDAR