BEGIN:VCALENDAR
VERSION:2.0
PRODID:-//Clark County Historical Museum - ECPv6.15.20//NONSGML v1.0//EN
CALSCALE:GREGORIAN
METHOD:PUBLISH
X-WR-CALNAME:Clark County Historical Museum
X-ORIGINAL-URL:https://cchmuseum.org
X-WR-CALDESC:Events for Clark County Historical Museum
REFRESH-INTERVAL;VALUE=DURATION:PT1H
X-Robots-Tag:noindex
X-PUBLISHED-TTL:PT1H
BEGIN:VTIMEZONE
TZID:America/Los_Angeles
BEGIN:DAYLIGHT
TZOFFSETFROM:-0800
TZOFFSETTO:-0700
TZNAME:PDT
DTSTART:20250309T100000
END:DAYLIGHT
BEGIN:STANDARD
TZOFFSETFROM:-0700
TZOFFSETTO:-0800
TZNAME:PST
DTSTART:20251102T090000
END:STANDARD
BEGIN:DAYLIGHT
TZOFFSETFROM:-0800
TZOFFSETTO:-0700
TZNAME:PDT
DTSTART:20260308T100000
END:DAYLIGHT
BEGIN:STANDARD
TZOFFSETFROM:-0700
TZOFFSETTO:-0800
TZNAME:PST
DTSTART:20261101T090000
END:STANDARD
BEGIN:DAYLIGHT
TZOFFSETFROM:-0800
TZOFFSETTO:-0700
TZNAME:PDT
DTSTART:20270314T100000
END:DAYLIGHT
BEGIN:STANDARD
TZOFFSETFROM:-0700
TZOFFSETTO:-0800
TZNAME:PST
DTSTART:20271107T090000
END:STANDARD
END:VTIMEZONE
BEGIN:VEVENT
DTSTART;TZID=America/Los_Angeles:20260501T170000
DTEND;TZID=America/Los_Angeles:20260501T200000
DTSTAMP:20260423T161108
CREATED:20260403T221711Z
LAST-MODIFIED:20260403T221711Z
UID:10000779-1777654800-1777665600@cchmuseum.org
SUMMARY:CCHM After Hours - Vietnamese Community of Clark County
DESCRIPTION:Join us during Vancouver’s First Friday Art Walk for a special evening at the Clark County Historical Museum! Enjoy free admission from 5–8 PM\, explore the exhibits\, and connect with local organizations. \nThis month\, we’re excited to welcome the Vietnamese Community of Clark County (VCCC) as our featured community partner. Founded in 1992\, VCCC supports Vietnamese immigrants and families through language and culture classes\, youth mentorship\, and community programs. Stop by their table to learn how they’re enriching Clark County’s multicultural landscape and empowering the next generation.
URL:https://cchmuseum.org/calendar/cchm-after-hours-vietnamese-community-of-clark-county-2/
LOCATION:Clark County Historical Museum\, 1511 Main St.\, Vancouver\, WA\, 98660\, United States
ATTACH;FMTTYPE=image/png:https://cchmuseum.org/wp-content/uploads/2025/04/May-2025-VCCC-After-Hours-scaled.png
END:VEVENT
BEGIN:VEVENT
DTSTART;TZID=America/Los_Angeles:20260507T190000
DTEND;TZID=America/Los_Angeles:20260507T203000
DTSTAMP:20260423T161108
CREATED:20260403T213805Z
LAST-MODIFIED:20260403T213805Z
UID:10000778-1778180400-1778185800@cchmuseum.org
SUMMARY:Speaker Series: The American Revolution's End and an Empire's Beginning
DESCRIPTION:The Clark County Historical Society presents Humanities Washington speaker Lawrence B. A. Hatter for the May installment of its Speaker Series. \n“Could the American Revolution have been both a fight for human liberty—and for empire and dominance?” \nHistorian Lawrence Hatter explores the striking duality at the heart of the Revolutionary era. Audiences will encounter a generation that secured historic victories for universal human rights while simultaneously pursuing conquest and expansion. The program examines pivotal moments such as the Battle of Fallen Timbers\, where a U.S. victory over a Native confederacy opened the door to continued invasion of Indigenous lands. \nAs the 250th anniversary of the Declaration of Independence approaches\, this program invites reflection on how the nation can celebrate the Founders’ achievements while reckoning with the complexities of their legacy. \nPresented by the Clark County Historical Society in partnership with the National Park Service. \nSponsored by Humanities Washington and the Historic Preservation Commission.\nMedia sponsor: The Columbian. \nDate: Thursday\, May 7\, 2026Doors Open: 6:00 PMProgram Begins: 7:00 PM \nLocation:Fort Vancouver Visitor Center1501 E Evergreen BlvdVancouver\, WA 98661 \nAdmission: Free (Registration required) \n 
URL:https://cchmuseum.org/calendar/speaker-series-the-american-revolutions-end-and-an-empires-beginning/
LOCATION:Fort Vancouver Visitor Center\, 1501 E Evergreen Blvd\, Vancouver\, WA\, 98661
CATEGORIES:Speaker Series
ATTACH;FMTTYPE=image/png:https://cchmuseum.org/wp-content/uploads/2026/04/May-2026-Speaker-Series-Image.png
END:VEVENT
BEGIN:VEVENT
DTSTART;TZID=America/Los_Angeles:20260521T190000
DTEND;TZID=America/Los_Angeles:20260521T210000
DTSTAMP:20260423T161108
CREATED:20260404T170259Z
LAST-MODIFIED:20260404T215502Z
UID:10000780-1779390000-1779397200@cchmuseum.org
SUMMARY:History On Tap: Our Mr. Matsura - Documentary Screening and Talk
DESCRIPTION:A powerful documentary on immigrant photographer Frank Matsura\, followed by a talk exploring identity\, community\, and the American West. \n\n\n\n\nJoin the Clark County Historical Museum for an engaging evening of film and discussion at the historic Liberty Theater in Ridgefield. \nThis installment of History on Tap features a screening of Our Mr. Matsura\, a compelling documentary that tells the story of Frank (Sakae) Matsura\, a Japanese-born photographer who made his home in rural Washington State in the early 1900s. \nOrphaned at a young age and raised in Tokyo\, Matsura immigrated to the United States and eventually settled in Okanogan County. There\, he became deeply embedded in a diverse community of Native people\, settlers\, and working-class residents\, including cowboys\, miners\, ranchers\, and shopkeepers. Through his photography\, Matsura documented everyday life in the American West with warmth\, humor\, and an unusual sense of intimacy. \nUnlike the rigid and formal portraits typical of the era\, Matsura’s work often featured playful self-portraits and collaborative images that challenged conventional ideas about identity\, gender roles\, and representation. His photographs continue to shape how we understand the region’s history today. \nFollowing the screening\, attendees will have the opportunity to engage in a discussion exploring Matsura’s legacy\, the power of photography in storytelling\, and how immigrant voices have shaped the history of the Pacific Northwest. \nThis installment of History on Tap is made possible through the generosity of our season sponsors\, the Old Liberty Theater and Ridgefield Main Street\, with media sponsorship through The Columbian\, and program support from Enspire Arts and Silver Keys Media. \nEvent Details\nDate: Thursday\, May 21\, 2026\nTime: \n\nDoors open: 6:00 PM\nPresentation: 7:00 PM\n\nLocation:\nOld Liberty Theater\n115 N Main Ave\nRidgefield\, WA 98642 \nCost: \n\nFree for Clark County Historical Museum Members\n(Use member discount code at checkout that was sent in members’ only email)\n$5 for Non-Members
URL:https://cchmuseum.org/calendar/history-on-tap-our-mr-matsura-documentary-screening-and-talk/
LOCATION:Old Liberty Theater\, 115 Main Ave\, Ridgefield\, WA\, 98642\, United States
CATEGORIES:History on Tap
ATTACH;FMTTYPE=image/png:https://cchmuseum.org/wp-content/uploads/2026/04/May_Hot.png
END:VEVENT
BEGIN:VEVENT
DTSTART;TZID=America/Los_Angeles:20260604T190000
DTEND;TZID=America/Los_Angeles:20260604T203000
DTSTAMP:20260423T161108
CREATED:20260404T214238Z
LAST-MODIFIED:20260404T214238Z
UID:10000781-1780599600-1780605000@cchmuseum.org
SUMMARY:Speaker Series: The Struggle for Gay and Lesbian Adoption Rights
DESCRIPTION:
URL:https://cchmuseum.org/calendar/speaker-series-the-struggle-for-gay-and-lesbian-adoption-rights/
LOCATION:Clark County Historical Museum\, 1511 Main St.\, Vancouver\, WA\, 98660\, United States
CATEGORIES:Speaker Series
ATTACH;FMTTYPE=image/png:https://cchmuseum.org/wp-content/uploads/2026/04/June_2026_Speaker_Series.png
END:VEVENT
BEGIN:VEVENT
DTSTART;TZID=America/Los_Angeles:20260605T170000
DTEND;TZID=America/Los_Angeles:20260605T200000
DTSTAMP:20260423T161108
CREATED:20260404T214750Z
LAST-MODIFIED:20260404T214750Z
UID:10000783-1780678800-1780689600@cchmuseum.org
SUMMARY:CCHM After Hours: QYRC\, Evoke Cascadia\, and Alcoholics Anonymous Vancouver
DESCRIPTION:
URL:https://cchmuseum.org/calendar/cchm-after-hours-qyrc-evoke-cascadia-and-alcoholics-anonymous-vancouver/
LOCATION:Clark County Historical Museum\, 1511 Main St.\, Vancouver\, WA\, 98660\, United States
ATTACH;FMTTYPE=image/png:https://cchmuseum.org/wp-content/uploads/2026/04/June-After-Hours-scaled.png
END:VEVENT
BEGIN:VEVENT
DTSTART;TZID=America/Los_Angeles:20260627T110000
DTEND;TZID=America/Los_Angeles:20260627T150000
DTSTAMP:20260423T161108
CREATED:20260404T214505Z
LAST-MODIFIED:20260404T214506Z
UID:10000782-1782558000-1782572400@cchmuseum.org
SUMMARY:Summer Native Art Market
DESCRIPTION:
URL:https://cchmuseum.org/calendar/summer-native-art-market/
LOCATION:Clark County Historical Museum\, 1511 Main St.\, Vancouver\, WA\, 98660\, United States
ATTACH;FMTTYPE=image/png:https://cchmuseum.org/wp-content/uploads/2026/04/Summer_Native_Art_Market_2026.png
END:VEVENT
BEGIN:VEVENT
DTSTART;TZID=America/Los_Angeles:20260926T170000
DTEND;TZID=America/Los_Angeles:20260926T203000
DTSTAMP:20260423T161108
CREATED:20250726T021142Z
LAST-MODIFIED:20260319T221336Z
UID:10000735-1790442000-1790454600@cchmuseum.org
SUMMARY:2026 CCHM Fundraising Dinner and Auction
DESCRIPTION:🎃 Spooky Soirée: An Evening of Eerie Elegance & Clark County History \nPresented by the Clark County Historical Museum & Society🗓️ Saturday\, September 26\, 2026🕰️ 5:00 PM – 8:30 PM📍 Historic Summit Grove Lodge | La Center\, WA \nThe veil is thin… and the past is calling. \nJoin the Clark County Historical Museum & Society for our 2026 Spooky Soirée\, an evening steeped in eerie elegance\, macabre amusements\, and the company of those who appreciate the exquisite charm of the past. \nSet within the hauntingly beautiful Historic Summit Grove Lodge\, this unforgettable fundraising event brings together community members\, history lovers\, and local leaders for a night that is as meaningful as it is delightfully chilling. \nYour evening will include: \n🔹 A hauntingly curated program rooted in local history🔹 A sinfully sumptuous dinner🔹 Silent and live auctions featuring unique and exciting packages🔹 The chance to connect with fellow supporters\, dignitaries\, and lovers of the past🔹 A touch of mystery… and a great deal of fun \nAt the Clark County Historical Museum\, we are the custodians of memory—preserving the stories that define our community. Thanks to supporters like you\, more than 85% of our annual operating budget is sustained through events like this\, ensuring that Clark County’s history remains vivid and alive for generations to come. \nWhether you come for the atmosphere\, the cause\, or the company\, this is your invitation to step into the past and help protect its future. \n👻 Costumes encouraged\, but not required. \nCan’t attend but still wish to support the museum?Visit cchmuseum.org/2026cchmfund to make a contribution. \nLet us make 2026 a year to remember—as together we haunt the corridors of the past and protect the future of history. \n#CCHMSpookySoiree #SaveHistory #ClarkCoHistory #MuseumFundraiser2026 \nOur event is currently sold out\, but please fill out the form below to join our waiting list. \n\n\n  \n\n\n\nName*\n\n \nEmail*\n\n \nPhone Number*\n\n \nStreet Address*\n\n \nCity*\n\n \nState*\n\n \nZip Code*\n\n \nAnything you'd like to share?
URL:https://cchmuseum.org/calendar/fund2026/
LOCATION:Summit Grove Lodge
ATTACH;FMTTYPE=image/png:https://cchmuseum.org/wp-content/uploads/2025/07/2026_CCHM-Spooky-Soiree-Logo-Web-Banner-Small_1.png
END:VEVENT
END:VCALENDAR