BEGIN:VCALENDAR
VERSION:2.0
PRODID:-//Clark County Historical Museum - ECPv6.15.20//NONSGML v1.0//EN
CALSCALE:GREGORIAN
METHOD:PUBLISH
X-WR-CALNAME:Clark County Historical Museum
X-ORIGINAL-URL:https://cchmuseum.org
X-WR-CALDESC:Events for Clark County Historical Museum
REFRESH-INTERVAL;VALUE=DURATION:PT1H
X-Robots-Tag:noindex
X-PUBLISHED-TTL:PT1H
BEGIN:VTIMEZONE
TZID:America/Los_Angeles
BEGIN:DAYLIGHT
TZOFFSETFROM:-0800
TZOFFSETTO:-0700
TZNAME:PDT
DTSTART:20210314T100000
END:DAYLIGHT
BEGIN:STANDARD
TZOFFSETFROM:-0700
TZOFFSETTO:-0800
TZNAME:PST
DTSTART:20211107T090000
END:STANDARD
BEGIN:DAYLIGHT
TZOFFSETFROM:-0800
TZOFFSETTO:-0700
TZNAME:PDT
DTSTART:20220313T100000
END:DAYLIGHT
BEGIN:STANDARD
TZOFFSETFROM:-0700
TZOFFSETTO:-0800
TZNAME:PST
DTSTART:20221106T090000
END:STANDARD
BEGIN:DAYLIGHT
TZOFFSETFROM:-0800
TZOFFSETTO:-0700
TZNAME:PDT
DTSTART:20230312T100000
END:DAYLIGHT
BEGIN:STANDARD
TZOFFSETFROM:-0700
TZOFFSETTO:-0800
TZNAME:PST
DTSTART:20231105T090000
END:STANDARD
BEGIN:DAYLIGHT
TZOFFSETFROM:-0800
TZOFFSETTO:-0700
TZNAME:PDT
DTSTART:20240310T100000
END:DAYLIGHT
BEGIN:STANDARD
TZOFFSETFROM:-0700
TZOFFSETTO:-0800
TZNAME:PST
DTSTART:20241103T090000
END:STANDARD
END:VTIMEZONE
BEGIN:VEVENT
DTSTART;TZID=America/Los_Angeles:20230715T090000
DTEND;TZID=America/Los_Angeles:20230715T110000
DTSTAMP:20260424T064951
CREATED:20230308T001143Z
LAST-MODIFIED:20230526T195120Z
UID:10000139-1689411600-1689418800@cchmuseum.org
SUMMARY:Wander Clark County: Washougal Memorial Cemetery
DESCRIPTION:Summer is the right time to wander through and learn the stories of people who have lived\, worked\, and carved out their place in Clark County. Our history tours offer a fascinating glimpse through the windows of time\, offering a mix of memories\, research\, and architectural details.\nFor each tour\, guides will lead up to 25 people for approximately a mile\, making frequent stops along the way to view buildings\, tell stories\, and answer questions. Good walking shoes and balance aids are recommended; terrain varies and consists mostly of city sidewalks.\nTours happen rain or shine\, so please dress for the weather. Comfortable shoes and water are recommended. There are no restroom stops on the tours.\n\nTour are held most Saturdays throughout the summer. Each weekend highlights a different destination.
URL:https://cchmuseum.org/calendar/washougal-cemetery/
LOCATION:Washougal Memorial Cemetery\, 3329 Q Street\, Washougal\, WA\, United States
CATEGORIES:Summer Walking Tours
ATTACH;FMTTYPE=image/png:https://cchmuseum.org/wp-content/uploads/2023/03/06_Washougal-Memorial-Cemetery.png
END:VEVENT
BEGIN:VEVENT
DTSTART;TZID=America/Los_Angeles:20230708T090000
DTEND;TZID=America/Los_Angeles:20230708T110000
DTSTAMP:20260424T064951
CREATED:20230308T000927Z
LAST-MODIFIED:20230629T190641Z
UID:10000138-1688806800-1688814000@cchmuseum.org
SUMMARY:Wander Clark County: Parkersville SOLD OUT
DESCRIPTION:One of the oldest incorporated communities\, Parker’s Landing began in 1845 when David C. Parker staked his claim amongst the Chinook-speaking Indigenous community and named the area Parkersville. By the 1870s\, merchants had purchased much of the land neighboring Parkersville\, giving rise to the community known today as Washougal.\n\nWander Clark County summer walking tour series occurs most Saturdays from June thru August at 9am. For a full list of tours go to cchmuseum.org/programs-events/walking-tours.
URL:https://cchmuseum.org/calendar/parkersville/
LOCATION:Parker’s Landing National Historic Site\, 24 S A St\, Washougal\, WA\, 98671
CATEGORIES:Summer Walking Tours
ATTACH;FMTTYPE=image/png:https://cchmuseum.org/wp-content/uploads/2023/03/5-1.png
END:VEVENT
BEGIN:VEVENT
DTSTART;TZID=America/Los_Angeles:20230701T090000
DTEND;TZID=America/Los_Angeles:20230701T110000
DTSTAMP:20260424T064951
CREATED:20230308T000538Z
LAST-MODIFIED:20230629T190633Z
UID:10000129-1688202000-1688209200@cchmuseum.org
SUMMARY:Wander Clark County: Esther Short Neighborhood SOLD OUT
DESCRIPTION:From beautiful Craftsman homes to towering Gothic churches\, the residential neighborhoods of downtown Vancouver are full of wondrous sights and stories. This Saturday we’ll explore one of Vancouver’s oldest neighborhoods\, Esther Short. \nWander Clark County summer walking tour series occurs most Saturdays from June thru August at 9am. For a full list of tours go to cchmuseum.org/programs-events/walking-tours.
URL:https://cchmuseum.org/calendar/esther-short/
LOCATION:Slocum House\, 605 Esther Street\, Vancouver\, WA\, 98660\, United States
CATEGORIES:Summer Walking Tours
ATTACH;FMTTYPE=image/png:https://cchmuseum.org/wp-content/uploads/2023/03/4.png
END:VEVENT
BEGIN:VEVENT
DTSTART;TZID=America/Los_Angeles:20230624T090000
DTEND;TZID=America/Los_Angeles:20230624T110000
DTSTAMP:20260424T064951
CREATED:20230308T000303Z
LAST-MODIFIED:20230629T190653Z
UID:10000128-1687597200-1687604400@cchmuseum.org
SUMMARY:Wander Clark County: Downtown Vancouver (WA) SOLD OUT
DESCRIPTION:Take a tour through the notable buildings and events in the history of Downtown Vancouver\, Washington. \nWander Clark County summer walking tour series occurs most Saturdays from June thru August at 9am. For a full list of tours go to cchmuseum.org/programs-events/walking-tours.
URL:https://cchmuseum.org/calendar/downtown-vancouver/
LOCATION:Corner of 5th & Main Streets\, 500 Main St\, Vancouver\, WA\, 98660\, United States
CATEGORIES:Summer Walking Tours
ATTACH;FMTTYPE=image/png:https://cchmuseum.org/wp-content/uploads/2023/03/3.png
END:VEVENT
BEGIN:VEVENT
DTSTART;TZID=America/Los_Angeles:20230617T090000
DTEND;TZID=America/Los_Angeles:20230617T110000
DTSTAMP:20260424T064951
CREATED:20230308T000052Z
LAST-MODIFIED:20230629T190659Z
UID:10000127-1686992400-1686999600@cchmuseum.org
SUMMARY:Wander Clark County: Old City Cemetery SOLD OUT
DESCRIPTION:Whether you are a history buff\, love funerary art\, or are just curious about the people who shaped this community\, a visit to historic Old City Cemetery is a treat! Join Clark County Historical Museum as we explore one of the city’s earliest cemeteries. Hear the stories of the visionaries who built Vancouver – their struggles and triumphs in building a new life for their families. \nWander Clark County summer walking tour series occurs most Saturdays from June thru August at 9am. For a full list of tours go to Wander Clark County: Historic Walking Tours.
URL:https://cchmuseum.org/calendar/old-city-cemetery/
LOCATION:Old City Cemetery\, 2700 E Mill Plain Blvd\, Vancouver\, WA\, 98661
CATEGORIES:Summer Walking Tours
ATTACH;FMTTYPE=image/png:https://cchmuseum.org/wp-content/uploads/2023/03/2.png
END:VEVENT
BEGIN:VEVENT
DTSTART;TZID=America/Los_Angeles:20220827T090000
DTEND;TZID=America/Los_Angeles:20220827T110000
DTSTAMP:20260424T064952
CREATED:20220105T213726Z
LAST-MODIFIED:20220628T152929Z
UID:10000016-1661590800-1661598000@cchmuseum.org
SUMMARY:Wander Clark County: Battle Ground
DESCRIPTION:Learn about Battle Ground’s quirky history\, from its beginnings as an immigrant community to an infamous bank robbery in 1946. Discover architectural gems designed by prolific architect Day Hillborn\, and hear stories about the people that settled in the communities which eventually became the City of Battle Ground.\n\nTour will meet in front of Hidden River Roasters – Old Town.\n\nWANDER CLARK COUNTY\nSummer is the right time to wander through and learn the stories of people who have lived\, worked\, and carved out their place in Clark County. Our history tours offer a fascinating glimpse through the windows of time\, offering a mix of memories\, research\, and architectural details.\nFor each tour\, guides will lead up to 25 people for approximately a mile\, making frequent stops along the way to view buildings\, tell stories\, and answer questions. Good walking shoes and balance aids are recommended; terrain varies and consists mostly of city sidewalks.\nTours happen rain or shine\, so please dress for the weather. Comfortable shoes and water are recommended. There are no restroom stops on the tours.\n\n\nTour are held most Saturdays throughout the summer. Each weekend highlights a different destination.\n\n\nMembers please use code Summer2022 when purchasing your tour. Membership will be confirmed the morning of the tour. \n\nPurchase your ticket now!
URL:https://cchmuseum.org/calendar/walking-tours-battle-ground/
LOCATION:Dev’s Coffee Bar\, 316 E Main St.\, Battle Ground\, WA\, 98604\, United States
CATEGORIES:Summer Walking Tours
ATTACH;FMTTYPE=image/png:https://cchmuseum.org/wp-content/uploads/2021/04/2021WanderClarkCounty_1920x1080.png
END:VEVENT
BEGIN:VEVENT
DTSTART;TZID=America/Los_Angeles:20220820T090000
DTEND;TZID=America/Los_Angeles:20220820T110000
DTSTAMP:20260424T064952
CREATED:20220105T213726Z
LAST-MODIFIED:20220628T152957Z
UID:10000015-1660986000-1660993200@cchmuseum.org
SUMMARY:Wander Clark County: (Her)Story
DESCRIPTION:Vancouver has a long history of powerful\, prominent women both in and out of politics. Spend time with us learning about key female figures in Vancouver’s history – their accomplishments\, disappointments\, and the lasting mark they left on this community. Follow up the tour with a visit to our exhibit (Her)story: Founders\, Leaders\, and Visionaries which explores the women who have shaped Clark County. \nTour will meet in front of the Clark County Historical Museum. \nWANDER CLARK COUNTY\nSummer is the right time to wander through and learn the stories of people who have lived\, worked\, and carved out their place in Clark County. Our history tours offer a fascinating glimpse through the windows of time\, offering a mix of memories\, research\, and architectural details.\nFor each tour\, guides will lead up to 25 people for approximately a mile\, making frequent stops along the way to view buildings\, tell stories\, and answer questions. Good walking shoes and balance aids are recommended; terrain varies and consists mostly of city sidewalks.\nTours happen rain or shine\, so please dress for the weather. Comfortable shoes and water are recommended. There are no restroom stops on the tours. \nTour are held most Saturdays throughout the summer. Each weekend highlights a different destination. \nMembers please use code Summer2022 when purchasing your tour. Membership will be confirmed the morning of the tour. \nPurchase your ticket now!
URL:https://cchmuseum.org/calendar/walking-tours-herstory/
LOCATION:Clark County Historical Museum\, 1511 Main St.\, Vancouver\, WA\, 98660\, United States
CATEGORIES:Summer Walking Tours
ATTACH;FMTTYPE=image/png:https://cchmuseum.org/wp-content/uploads/2021/04/2021WanderClarkCounty_1920x1080.png
END:VEVENT
BEGIN:VEVENT
DTSTART;TZID=America/Los_Angeles:20220813T090000
DTEND;TZID=America/Los_Angeles:20220813T110000
DTSTAMP:20260424T064952
CREATED:20220105T213726Z
LAST-MODIFIED:20220628T153033Z
UID:10000055-1660381200-1660388400@cchmuseum.org
SUMMARY:Wander Clark County: Old Town Ridgefield
DESCRIPTION:This week we’re celebrating Main Streets with a look at Old Town Ridgefield!. We’ll begin at Overlook Park and enjoy a tour of the sites of the early businesses and landmarks that are still the heart of the community. \nSpecial thanks to this week’s tour sponsors\, the Olde Library Inn and the City of Ridgefield. \n***This year’s tour is free for Ridgefield residents.*** \nWANDER CLARK COUNTY\nSummer is the right time to wander through and learn the stories of people who have lived\, worked\, and carved out their place in Clark County. Our history tours offer a fascinating glimpse through the windows of time\, offering a mix of memories\, research\, and architectural details.\nFor each tour\, guides will lead up to 25 people for approximately a mile\, making frequent stops along the way to view buildings\, tell stories\, and answer questions. Good walking shoes and balance aids are recommended; terrain varies and consists mostly of city sidewalks.\nTours happen rain or shine\, so please dress for the weather. Comfortable shoes and water are recommended. There are no restroom stops on the tours. \nTour are held most Saturdays throughout the summer. Each weekend highlights a different destination. \nRidgefield residents\, please select the “Residents Only” ticket when purchasing your free tour. Residency will be confirmed the morning of the tour. \nMembers please use code Summer2022 when purchasing your tour. Membership will be confirmed the morning of the tour. \nPurchase Your Ticket Today!
URL:https://cchmuseum.org/calendar/walking-tours-ridgefield/
LOCATION:Overlook Park\, 113-131 S Main Ave\, Ridgefield\, WA\, 98642\, United States
CATEGORIES:Summer Walking Tours
ATTACH;FMTTYPE=image/png:https://cchmuseum.org/wp-content/uploads/2022/01/WanderClarkCounty_Ridgefield.png
END:VEVENT
BEGIN:VEVENT
DTSTART;TZID=America/Los_Angeles:20220723T090000
DTEND;TZID=America/Los_Angeles:20220723T110000
DTSTAMP:20260424T064952
CREATED:20220105T213726Z
LAST-MODIFIED:20220628T153123Z
UID:10000053-1658566800-1658574000@cchmuseum.org
SUMMARY:Wander Clark County: Washougal Memorial Cemetery
DESCRIPTION:This tour is sponsored by the Camas-Washougal Community Chest. The tour is free for Camas-Washougal residents.\n\nSummer is the right time to wander through and learn the stories of people who have lived\, worked\, and carved out their place in Clark County. Our history tours offer a fascinating glimpse through the windows of time\, offering a mix of memories\, research\, and architectural details.\nFor each tour\, guides will lead up to 25 people for approximately a mile\, making frequent stops along the way to view buildings\, tell stories\, and answer questions. Good walking shoes and balance aids are recommended; terrain varies and consists mostly of city sidewalks.\nTours happen rain or shine\, so please dress for the weather. Comfortable shoes and water are recommended. There are no restroom stops on the tours.\n\nTour are held most Saturdays throughout the summer. Each weekend highlights a different destination.\n\n\nCamas and Washougal residents\, please select the “Residents Only” ticket when purchasing your free tour. Residency will be confirmed the morning of the tour. \nMembers please use code Summer2022 when purchasing your tour. Membership will be confirmed the morning of the tour. \n\nPurchase Your Ticket Now!
URL:https://cchmuseum.org/calendar/walking-tours-washougal-cemetery/
LOCATION:Washougal Memorial Cemetery\, 3329 Q Street\, Washougal\, WA\, United States
CATEGORIES:Summer Walking Tours
ATTACH;FMTTYPE=image/png:https://cchmuseum.org/wp-content/uploads/2022/01/WanderClarkCounty_Camas-Washougal.png
END:VEVENT
BEGIN:VEVENT
DTSTART;TZID=America/Los_Angeles:20220716T090000
DTEND;TZID=America/Los_Angeles:20220716T110000
DTSTAMP:20260424T064952
CREATED:20220105T213726Z
LAST-MODIFIED:20220628T153209Z
UID:10000052-1657962000-1657969200@cchmuseum.org
SUMMARY:Wander Clark County: Parkersville
DESCRIPTION:One of the oldest incorporated communities\, Parker’s Landing began in 1845 when David C. Parker staked his claim amongst the Chinook-speaking Indigenous community and named the area Parkersville. By the 1870s\, merchants had purchased much of the land neighboring Parkersville\, giving rise to the community known today as Washougal. \nSpecial thanks to this week’s sponsor\, the Camas-Washougal Community Chest. ***This tour is free to Camas-Washougal residents*** \n\nSummer is the right time to wander through and learn the stories of people who have lived\, worked\, and carved out their place in Clark County. Our history tours offer a fascinating glimpse through the windows of time\, offering a mix of memories\, research\, and architectural details.\nFor each tour\, guides will lead up to 25 people for approximately a mile\, making frequent stops along the way to view buildings\, tell stories\, and answer questions. Good walking shoes and balance aids are recommended; terrain varies and consists mostly of city sidewalks.\nTours happen rain or shine\, so please dress for the weather. Comfortable shoes and water are recommended. There are no restroom stops on the tours.\n\nTour are held most Saturdays throughout the summer. Each weekend highlights a different destination.\n\n\nCamas and Washougal residents\, please select the “Residents Only” ticket when purchasing your free tour. Residency will be confirmed the morning of the tour. \nMembers please use code Summer2022 when purchasing your tour. Membership will be confirmed the morning of the tour. \n\n\nPurchase your ticket today!
URL:https://cchmuseum.org/calendar/walking-tours-parkersville/
LOCATION:Parker’s Landing National Historic Site\, 24 S A St\, Washougal\, WA\, 98671
CATEGORIES:Summer Walking Tours
ATTACH;FMTTYPE=image/png:https://cchmuseum.org/wp-content/uploads/2022/01/WanderClarkCounty_Camas-Washougal.png
END:VEVENT
BEGIN:VEVENT
DTSTART;TZID=America/Los_Angeles:20220709T090000
DTEND;TZID=America/Los_Angeles:20220709T110000
DTSTAMP:20260424T064952
CREATED:20220105T213726Z
LAST-MODIFIED:20220628T153234Z
UID:10000051-1657357200-1657364400@cchmuseum.org
SUMMARY:Wander Clark County: Esther Short Neighborhood
DESCRIPTION:From beautiful Craftsman homes to towering Gothic churches\, the residential neighborhoods of downtown Vancouver are full of wondrous sights and stories. This Saturday we’ll explore one of Vancouver’s oldest neighborhood\, Esther Short. \nTour will meet in front of the Slocum House. \nWANDER CLARK COUNTY\nSummer is the right time to wander through and learn the stories of people who have lived\, worked\, and carved out their place in Clark County. Our history tours offer a fascinating glimpse through the windows of time\, offering a mix of memories\, research\, and architectural details.\nFor each tour\, guides will lead up to 25 people for approximately a mile\, making frequent stops along the way to view buildings\, tell stories\, and answer questions. Good walking shoes and balance aids are recommended; terrain varies and consists mostly of city sidewalks.\nTours happen rain or shine\, so please dress for the weather. Comfortable shoes and water are recommended. There are no restroom stops on the tours.\n\nTour are held most Saturdays throughout the summer. Each weekend highlights a different destination.\n\n\nMembers please use code Summer2022 when purchasing your tour. Membership will be confirmed the morning of the tour. \n\n\nPurchase your ticket today!
URL:https://cchmuseum.org/calendar/walking-tours-esther-short/
LOCATION:Slocum House\, 605 Esther Street\, Vancouver\, WA\, 98660\, United States
CATEGORIES:Summer Walking Tours
ATTACH;FMTTYPE=image/png:https://cchmuseum.org/wp-content/uploads/2021/04/2021WanderClarkCounty_1920x1080.png
END:VEVENT
BEGIN:VEVENT
DTSTART;TZID=America/Los_Angeles:20220625T090000
DTEND;TZID=America/Los_Angeles:20220625T110000
DTSTAMP:20260424T064952
CREATED:20220105T213726Z
LAST-MODIFIED:20220628T153255Z
UID:10000050-1656147600-1656154800@cchmuseum.org
SUMMARY:Wander Clark County: Downtown Vancouver
DESCRIPTION:Take a tour through through the notable buildings and events in the history of Downtown Vancouver. Along the way\, we’ll stop at historic downtown establishments and learn about their current offerings. \nTour will meet in front of the Clark County Historical Museum. \nWANDER CLARK COUNTY \nSummer is the right time to wander through and learn the stories of people who have lived\, worked\, and carved out their place in Clark County. Our history tours offer a fascinating glimpse through the windows of time\, offering a mix of memories\, research\, and architectural details. \nFor each tour\, guides will lead up to 25 people for approximately a mile\, making frequent stops along the way to view buildings\, tell stories\, and answer questions. Good walking shoes and balance aids are recommended; terrain varies and consists mostly of city sidewalks. \nTours happen rain or shine\, so please dress for the weather. Comfortable shoes and water are recommended. There are no restroom stops on the tours. \nTour are held most Saturdays throughout the summer. Each weekend highlights a different destination. \nMembers please use code Summer2022 when purchasing your tour. Membership will be confirmed the morning of the tour. \nPurchase your ticket today!
URL:https://cchmuseum.org/calendar/walking-tours-vancouverwa/
LOCATION:Clark County Historical Museum\, 1511 Main St.\, Vancouver\, WA\, 98660\, United States
CATEGORIES:Summer Walking Tours
ATTACH;FMTTYPE=image/png:https://cchmuseum.org/wp-content/uploads/2021/04/2021WanderClarkCounty_1920x1080.png
END:VEVENT
BEGIN:VEVENT
DTSTART;TZID=America/Los_Angeles:20220618T090000
DTEND;TZID=America/Los_Angeles:20220618T110000
DTSTAMP:20260424T064952
CREATED:20220105T213726Z
LAST-MODIFIED:20220628T153335Z
UID:10000005-1655542800-1655550000@cchmuseum.org
SUMMARY:Wander Clark County: Old City Cemetery
DESCRIPTION:Whether you are a history buff\, love funerary art\, or are just curious about the people who shaped this community\, a visit to historic Old City Cemetery is a treat! Hear stories of the leaders and visionaries of Vancouver\, learn about their struggles and triumphs in building a new life for their families\, as we explore one of the city’s earliest cemeteries. \nTour will meet near the cemetery entrance at NE 13th St. \nWANDER CLARK COUNTY\nSummer is the right time to wander through and learn the stories of people who have lived\, worked\, and carved out their place in Clark County. Our history tours offer a fascinating glimpse through the windows of time\, offering a mix of memories\, research\, and architectural details.\nFor each tour\, guides will lead up to 25 people for approximately a mile\, making frequent stops along the way to view buildings\, tell stories\, and answer questions. Good walking shoes and balance aids are recommended; terrain varies and consists mostly of city sidewalks.\nTours happen rain or shine\, so please dress for the weather. Comfortable shoes and water are recommended. There are no restroom stops on the tours. \nTour are held most Saturdays throughout the summer. Each weekend highlights a different destination. \nMembers please use code Summer2022 when purchasing your tour. Membership will be confirmed the morning of the tour. \nPurchase your ticket today!
URL:https://cchmuseum.org/calendar/walking-tours-occ/
LOCATION:Old City Cemetery\, 2700 E Mill Plain Blvd\, Vancouver\, WA\, 98661
CATEGORIES:Summer Walking Tours
ATTACH;FMTTYPE=image/png:https://cchmuseum.org/wp-content/uploads/2021/04/2021WanderClarkCounty_1920x1080.png
END:VEVENT
END:VCALENDAR