BEGIN:VCALENDAR
VERSION:2.0
PRODID:-//Clark County Historical Museum - ECPv6.15.20//NONSGML v1.0//EN
CALSCALE:GREGORIAN
METHOD:PUBLISH
X-ORIGINAL-URL:https://cchmuseum.org
X-WR-CALDESC:Events for Clark County Historical Museum
REFRESH-INTERVAL;VALUE=DURATION:PT1H
X-Robots-Tag:noindex
X-PUBLISHED-TTL:PT1H
BEGIN:VTIMEZONE
TZID:America/Los_Angeles
BEGIN:DAYLIGHT
TZOFFSETFROM:-0800
TZOFFSETTO:-0700
TZNAME:PDT
DTSTART:20240310T100000
END:DAYLIGHT
BEGIN:STANDARD
TZOFFSETFROM:-0700
TZOFFSETTO:-0800
TZNAME:PST
DTSTART:20241103T090000
END:STANDARD
BEGIN:DAYLIGHT
TZOFFSETFROM:-0800
TZOFFSETTO:-0700
TZNAME:PDT
DTSTART:20250309T100000
END:DAYLIGHT
BEGIN:STANDARD
TZOFFSETFROM:-0700
TZOFFSETTO:-0800
TZNAME:PST
DTSTART:20251102T090000
END:STANDARD
BEGIN:DAYLIGHT
TZOFFSETFROM:-0800
TZOFFSETTO:-0700
TZNAME:PDT
DTSTART:20260308T100000
END:DAYLIGHT
BEGIN:STANDARD
TZOFFSETFROM:-0700
TZOFFSETTO:-0800
TZNAME:PST
DTSTART:20261101T090000
END:STANDARD
END:VTIMEZONE
BEGIN:VEVENT
DTSTART;TZID=America/Los_Angeles:20250911T190000
DTEND;TZID=America/Los_Angeles:20250911T200000
DTSTAMP:20260425T041238
CREATED:20250812T222255Z
LAST-MODIFIED:20250812T222256Z
UID:10000752-1757617200-1757620800@cchmuseum.org
SUMMARY:CCHM Speaker Series: Fort Vancouver’s First Centennial & Its Coin with Martin Middlewood
DESCRIPTION:Fort Vancouver’s First Centennial & Its CoinDate: Thursday\, September 11\, 2025Time: Doors open at 6 PM | Talk begins at 7 PMLocation: Clark County Historical Museum\, 1511 Main Street\, Vancouver\, WA 98660Cost: Free for CCHM Members | $5 for Non-Member \nJoin historian and award-winning writer Martin Middlewood for a fascinating journey into the chaotic\, ambitious\, and little-known story of Fort Vancouver’s 1925 Centennial celebration—a commemoration powered by community pride\, political wrangling\, and a special 50-cent commemorative coin. \nLearn how forgotten history was revived\, coins were flown in on a daring one-day trip to San Francisco\, and last-minute challenges reshaped the celebration. Middlewood will place the event in its national context and reveal what happened after the fanfare faded.
URL:https://cchmuseum.org/calendar/cchm-speaker-series-fort-vancouvers-first-centennial-its-coin-with-martin-middlewood/
LOCATION:Clark County Historical Museum\, 1511 Main St.\, Vancouver\, WA\, 98660\, United States
CATEGORIES:Speaker Series
ATTACH;FMTTYPE=image/png:https://cchmuseum.org/wp-content/uploads/2025/08/Sep_2025_Speaker_Series.png
END:VEVENT
END:VCALENDAR