BEGIN:VCALENDAR
VERSION:2.0
PRODID:-//Clark County Historical Museum - ECPv6.15.20//NONSGML v1.0//EN
CALSCALE:GREGORIAN
METHOD:PUBLISH
X-WR-CALNAME:Clark County Historical Museum
X-ORIGINAL-URL:https://cchmuseum.org
X-WR-CALDESC:Events for Clark County Historical Museum
REFRESH-INTERVAL;VALUE=DURATION:PT1H
X-Robots-Tag:noindex
X-PUBLISHED-TTL:PT1H
BEGIN:VTIMEZONE
TZID:America/Los_Angeles
BEGIN:DAYLIGHT
TZOFFSETFROM:-0800
TZOFFSETTO:-0700
TZNAME:PDT
DTSTART:20240310T100000
END:DAYLIGHT
BEGIN:STANDARD
TZOFFSETFROM:-0700
TZOFFSETTO:-0800
TZNAME:PST
DTSTART:20241103T090000
END:STANDARD
BEGIN:DAYLIGHT
TZOFFSETFROM:-0800
TZOFFSETTO:-0700
TZNAME:PDT
DTSTART:20250309T100000
END:DAYLIGHT
BEGIN:STANDARD
TZOFFSETFROM:-0700
TZOFFSETTO:-0800
TZNAME:PST
DTSTART:20251102T090000
END:STANDARD
BEGIN:DAYLIGHT
TZOFFSETFROM:-0800
TZOFFSETTO:-0700
TZNAME:PDT
DTSTART:20260308T100000
END:DAYLIGHT
BEGIN:STANDARD
TZOFFSETFROM:-0700
TZOFFSETTO:-0800
TZNAME:PST
DTSTART:20261101T090000
END:STANDARD
END:VTIMEZONE
BEGIN:VEVENT
DTSTART;TZID=America/Los_Angeles:20250807T190000
DTEND;TZID=America/Los_Angeles:20250807T200000
DTSTAMP:20260425T065723
CREATED:20250719T155530Z
LAST-MODIFIED:20250807T195800Z
UID:10000734-1754593200-1754596800@cchmuseum.org
SUMMARY:CCHM Speaker Series: Martha's Pantry - Serving Southwest Washington Since 1986
DESCRIPTION:Martha’s Pantry: Serving Clark County Since 1986\nThursday\, August 7\, 2025\nClark County Historical Museum\n1511 Main Street\, Vancouver\, WA 98660\nFree for CCHM Members | $5 for Non-Members\nDoors Open: 6:00 PM\nTalk Begins: 7:00 PM \nJoin us for an evening with Vicki Smith\, retired Air Force Lt. Colonel and longtime Executive Director of Martha’s Pantry\, as she shares the powerful and deeply personal history of one of Clark County’s most compassionate organizations. \nFounded during the height of the AIDS crisis in the 1980s\, Martha’s Pantry began as a grassroots effort—neighbors helping neighbors by distributing food from car trunks. Today\, under Vicki’s 20+ years of leadership\, the pantry has grown into a vital resource serving over 100 families a month\, with expanded services including: \n\nPersonal hygiene and toiletry items\nDonated clothing through Michele’s Closet\nPet food and cleaning supplies\nFood pantry staples with client choice menus\n\nThis program will explore the pantry’s past\, present\, and future—and what role each of us can play in supporting dignity\, survival\, and community for those facing crisis. \n🎤 About the Presenter\nVicki Smith has led a multifaceted life—from serving in the U.S. Air Force to directing one of Clark County’s most impactful nonprofits. Since taking the helm at Martha’s Pantry\, a mission of MCC of the Gentle Shepherd Church\, she has transformed the all-volunteer organization from a 10×10 room with no budget into a 3\,000-square-foot community lifeline. \nTickets available here: https://www.eventbrite.com/e/cchm-speaker-series-marthas-pantry-serving-clark-county-since-1986-tickets-1505838666989?aff=oddtdtcreator \n 
URL:https://cchmuseum.org/calendar/cchm-speaker-series-marthas-pantry-serving-clark-county-since-1986/
LOCATION:Clark County Historical Museum\, 1511 Main St.\, Vancouver\, WA\, 98660\, United States
CATEGORIES:Speaker Series
ATTACH;FMTTYPE=image/png:https://cchmuseum.org/wp-content/uploads/2025/08/Augu2025.png
END:VEVENT
END:VCALENDAR