BEGIN:VCALENDAR
VERSION:2.0
PRODID:-//Clark County Historical Museum - ECPv6.15.20//NONSGML v1.0//EN
CALSCALE:GREGORIAN
METHOD:PUBLISH
X-ORIGINAL-URL:https://cchmuseum.org
X-WR-CALDESC:Events for Clark County Historical Museum
REFRESH-INTERVAL;VALUE=DURATION:PT1H
X-Robots-Tag:noindex
X-PUBLISHED-TTL:PT1H
BEGIN:VTIMEZONE
TZID:America/Los_Angeles
BEGIN:DAYLIGHT
TZOFFSETFROM:-0800
TZOFFSETTO:-0700
TZNAME:PDT
DTSTART:20210314T100000
END:DAYLIGHT
BEGIN:STANDARD
TZOFFSETFROM:-0700
TZOFFSETTO:-0800
TZNAME:PST
DTSTART:20211107T090000
END:STANDARD
BEGIN:DAYLIGHT
TZOFFSETFROM:-0800
TZOFFSETTO:-0700
TZNAME:PDT
DTSTART:20220313T100000
END:DAYLIGHT
BEGIN:STANDARD
TZOFFSETFROM:-0700
TZOFFSETTO:-0800
TZNAME:PST
DTSTART:20221106T090000
END:STANDARD
BEGIN:DAYLIGHT
TZOFFSETFROM:-0800
TZOFFSETTO:-0700
TZNAME:PDT
DTSTART:20230312T100000
END:DAYLIGHT
BEGIN:STANDARD
TZOFFSETFROM:-0700
TZOFFSETTO:-0800
TZNAME:PST
DTSTART:20231105T090000
END:STANDARD
BEGIN:DAYLIGHT
TZOFFSETFROM:-0800
TZOFFSETTO:-0700
TZNAME:PDT
DTSTART:20240310T100000
END:DAYLIGHT
BEGIN:STANDARD
TZOFFSETFROM:-0700
TZOFFSETTO:-0800
TZNAME:PST
DTSTART:20241103T090000
END:STANDARD
BEGIN:DAYLIGHT
TZOFFSETFROM:-0800
TZOFFSETTO:-0700
TZNAME:PDT
DTSTART:20250309T100000
END:DAYLIGHT
BEGIN:STANDARD
TZOFFSETFROM:-0700
TZOFFSETTO:-0800
TZNAME:PST
DTSTART:20251102T090000
END:STANDARD
BEGIN:DAYLIGHT
TZOFFSETFROM:-0800
TZOFFSETTO:-0700
TZNAME:PDT
DTSTART:20260308T100000
END:DAYLIGHT
BEGIN:STANDARD
TZOFFSETFROM:-0700
TZOFFSETTO:-0800
TZNAME:PST
DTSTART:20261101T090000
END:STANDARD
END:VTIMEZONE
BEGIN:VEVENT
DTSTART;TZID=America/Los_Angeles:20251122T160000
DTEND;TZID=America/Los_Angeles:20251122T173000
DTSTAMP:20260424T014912
CREATED:20251011T222025Z
LAST-MODIFIED:20251015T193755Z
UID:10000758-1763827200-1763832600@cchmuseum.org
SUMMARY:MEMBERS ONLY - Horrible Homicides Vs. Early Churches + Revival Grounds Walking Tour
DESCRIPTION:The area around Vancouver’s Courthouse is a study in opposites: at the same crossroads were Saints + Sinners. See where the early churches in Vancouver were located\, and hear about the famous Tabernacle and church revival grounds. Just across the street walk around where all three of Vancouver’s Courthouses were erected learn about the numerous jail escapes – as well as some horrific criminals brought to justice! \nRegister here.
URL:https://cchmuseum.org/calendar/horrible-homicides-vs-early-churches-revival-grounds-walking-tour/
LOCATION:Clark County Historical Museum\, 1511 Main St.\, Vancouver\, WA\, 98660\, United States
CATEGORIES:Members Only Events
ATTACH;FMTTYPE=image/png:https://cchmuseum.org/wp-content/uploads/2025/10/2025-Website-Members-Events-1.png
END:VEVENT
BEGIN:VEVENT
DTSTART;TZID=America/Los_Angeles:20251120T180000
DTEND;TZID=America/Los_Angeles:20251120T190000
DTSTAMP:20260424T014912
CREATED:20251011T220134Z
LAST-MODIFIED:20251015T192449Z
UID:10000757-1763661600-1763665200@cchmuseum.org
SUMMARY:2025 Annual Members Meeting
DESCRIPTION:Current members\,  join the Clark County Historical Museum at 6 pm Thursday\, Nov. 20\, for our annual membership meeting and awards ceremony. Brad Richardson\, Executive Director of the Clark County Historical Museum\, will share our accomplishments of 2025\, and highlight the exciting programs\, events\, and exhibits of 2026. \nDuring the event\, awards will also be presented to community members for their service in support of gathering\, saving\, and sharing Clark County history. \nRegister here.
URL:https://cchmuseum.org/calendar/2025-annual-members-meeting/
LOCATION:Clark County Historical Museum\, 1511 Main St.\, Vancouver\, WA\, 98660\, United States
CATEGORIES:Members Only Events
ATTACH;FMTTYPE=image/png:https://cchmuseum.org/wp-content/uploads/2025/10/2025-Website-Members-Events-.png
END:VEVENT
BEGIN:VEVENT
DTSTART;TZID=America/Los_Angeles:20251115T160000
DTEND;TZID=America/Los_Angeles:20251115T173000
DTSTAMP:20260424T014912
CREATED:20251011T222458Z
LAST-MODIFIED:20251015T195037Z
UID:10000760-1763222400-1763227800@cchmuseum.org
SUMMARY:MEMBERS ONLY - The Story of the Old Apple Tree
DESCRIPTION:Join us on Saturday\, November 15\, for an exclusive evening with Executive Director Brad Richardson as he explores the remarkable story of Washington State’s very first apple tree. Planted by the Hudson’s Bay Company in 1826\, this humble tree took root in more ways than one—its legacy and descendants have become symbols of Clark County’s heritage and Washington’s enduring identity. \nThis special event will be held at the historic Covington House (4201 Main Street\, Vancouver\, WA 98663). Enjoy a selection of wine and hard cider as you take in this fascinating journey through local history. \nSpace is limited—reserve your spot today! \nRegister here.
URL:https://cchmuseum.org/calendar/members-only-the-story-of-the-old-apple-tree/
LOCATION:Historic Covington House\, 4201 Main St\, Vancouver\, WA\, 98660\, United States
CATEGORIES:Members Only Events
ATTACH;FMTTYPE=image/png:https://cchmuseum.org/wp-content/uploads/2025/10/2025-Website-Members-Events-2.png
END:VEVENT
BEGIN:VEVENT
DTSTART;TZID=America/Los_Angeles:20251108T160000
DTEND;TZID=America/Los_Angeles:20251108T173000
DTSTAMP:20260424T014912
CREATED:20251011T222245Z
LAST-MODIFIED:20251015T202832Z
UID:10000759-1762617600-1762623000@cchmuseum.org
SUMMARY:MEMBERS ONLY - Headstone and Memorial Cleaning and Care Workshop
DESCRIPTION:November is Members Month at the Clark County Historical Museum! \nJoin us on Saturday\, November 8\, as longtime CCHM volunteer and local historian Peri Muhich leads a hands-on workshop on memorial cleaning and care. Learn what supplies to bring to the cemetery and the proper techniques for cleaning and preserving headstones with respect and care. Space is limited to 25 participants\, and registration is required to reserve your spot. \nRegister here.
URL:https://cchmuseum.org/calendar/members-only-headstone-and-memorial-cleaning-and-care-workshop/
LOCATION:Clark County Historical Museum\, 1511 Main St.\, Vancouver\, WA\, 98660\, United States
CATEGORIES:Members Only Events,Workshops
ATTACH;FMTTYPE=image/png:https://cchmuseum.org/wp-content/uploads/2025/10/2025-Website-Members-Events-3.png
END:VEVENT
BEGIN:VEVENT
DTSTART;TZID=America/Los_Angeles:20221119T180000
DTEND;TZID=America/Los_Angeles:20221119T200000
DTSTAMP:20260424T014912
CREATED:20221026T021346Z
LAST-MODIFIED:20221026T192439Z
UID:10000060-1668880800-1668888000@cchmuseum.org
SUMMARY:Slocum House Exhibit Preview
DESCRIPTION:When: November 19th\, 2022 from 6:00 pm to 8:00 pm (Opening remarks at 6 pm.) \nWhere: Slocum House (605 Esther Street\, Vancouver\, WA 98660) \nCost: Free for CCHS Members (Limit 40 people) \nWhat: Overshadowed by a concrete enclosure of modern developments\, the Slocum House represents two moments in our city’s history. First\, it is a dazzling vestige of a once wealthy residential neighborhood\, busy with the city’s early elite. Second\, the home\, whose foundation is no longer situated on its original locale\, stands as a haunting reminder of what happens when history stands in the path of revitalization and development. In our latest exhibit\, to be located at the Slocum House\, we explore the effect of Urban Renewal in the 1960s movement on the city’s story and character through the lens of the house. \nOpening remarks at 6 pm. Limit 40 people. \n\n\nSlocum House Exhibit Preview \nFree \nBuy now \n\n 
URL:https://cchmuseum.org/calendar/slocum-house-exhibit-preview/
LOCATION:Slocum House\, 605 Esther Street\, Vancouver\, WA\, 98660\, United States
CATEGORIES:Members Only Events
ATTACH;FMTTYPE=image/png:https://cchmuseum.org/wp-content/uploads/2022/10/Tasting.png
END:VEVENT
BEGIN:VEVENT
DTSTART;TZID=America/Los_Angeles:20221117T180000
DTEND;TZID=America/Los_Angeles:20221117T190000
DTSTAMP:20260424T014912
CREATED:20221026T014328Z
LAST-MODIFIED:20221026T014329Z
UID:10000057-1668708000-1668711600@cchmuseum.org
SUMMARY:2022 Annual Membership Meeting
DESCRIPTION:Join Clark County historical Museum at 6 p.m. Thursday\, Nov. 17\, for our annual membership meeting and awards ceremony. CCHM Executive Director Brad Richardson will reflect on this year’s exhibits\, programs\, and events\, and discuss what’s in store for 2022. \nDuring the event\, awards will also be presented to community members for their service in support of gathering\, saving\, and sharing Clark County history.
URL:https://cchmuseum.org/calendar/2022-annual-membership-meeting/
LOCATION:Clark County Historical Museum\, 1511 Main St.\, Vancouver\, WA\, 98660\, United States
CATEGORIES:Members Only Events
ATTACH;FMTTYPE=image/png:https://cchmuseum.org/wp-content/uploads/2022/10/2021ANNUAl-Members-Meeting.png
END:VEVENT
BEGIN:VEVENT
DTSTART;TZID=America/Los_Angeles:20221105T130000
DTEND;TZID=America/Los_Angeles:20221105T143000
DTSTAMP:20260424T014912
CREATED:20221026T020844Z
LAST-MODIFIED:20221104T221139Z
UID:10000058-1667653200-1667658600@cchmuseum.org
SUMMARY:"That's Entertainment" Walking Tour *Members Only Event*
DESCRIPTION:When: November 5th\, 2022 from 1:00 pm to 2:30 pm \nWhere: Slocum House (605 Esther St\, Vancouver\, WA 98660) \nCost: Free for CCHS Members (Limit 25 people) \nWhat: Downtown Vancouver has a long history of music\, theater\, and art. In our newest tour\, join CCHM as we explore a few of the stories and locations connected to this history. \nFYI – This tour is open to members only and is limited to 25 people. The walking tour is approximately a mile\, with frequent stops along the way to view buildings\, tell stories\, and answer questions. Good walking shoes and balance aids are recommended; terrain varies and consists mostly of city sidewalks. \nTours happen rain or shine\, so please dress for the weather. Comfortable shoes and water are recommended. There are no restroom stops on the tours. \n. \n\n\n“That’s Entertainment” Walking Tour *Members Only Event* \nFree \nBuy now \n\n 
URL:https://cchmuseum.org/calendar/thats-entertainment-walking-tour-members-only-event/
LOCATION:Slocum House\, 605 Esther Street\, Vancouver\, WA\, 98660\, United States
CATEGORIES:Members Only Events
ATTACH;FMTTYPE=image/png:https://cchmuseum.org/wp-content/uploads/2022/10/ArtWalkingTour.png
END:VEVENT
END:VCALENDAR