BEGIN:VCALENDAR
VERSION:2.0
PRODID:-//Clark County Historical Museum - ECPv6.15.20//NONSGML v1.0//EN
CALSCALE:GREGORIAN
METHOD:PUBLISH
X-WR-CALNAME:Clark County Historical Museum
X-ORIGINAL-URL:https://cchmuseum.org
X-WR-CALDESC:Events for Clark County Historical Museum
REFRESH-INTERVAL;VALUE=DURATION:PT1H
X-Robots-Tag:noindex
X-PUBLISHED-TTL:PT1H
BEGIN:VTIMEZONE
TZID:America/Los_Angeles
BEGIN:DAYLIGHT
TZOFFSETFROM:-0800
TZOFFSETTO:-0700
TZNAME:PDT
DTSTART:20210314T100000
END:DAYLIGHT
BEGIN:STANDARD
TZOFFSETFROM:-0700
TZOFFSETTO:-0800
TZNAME:PST
DTSTART:20211107T090000
END:STANDARD
BEGIN:DAYLIGHT
TZOFFSETFROM:-0800
TZOFFSETTO:-0700
TZNAME:PDT
DTSTART:20220313T100000
END:DAYLIGHT
BEGIN:STANDARD
TZOFFSETFROM:-0700
TZOFFSETTO:-0800
TZNAME:PST
DTSTART:20221106T090000
END:STANDARD
BEGIN:DAYLIGHT
TZOFFSETFROM:-0800
TZOFFSETTO:-0700
TZNAME:PDT
DTSTART:20230312T100000
END:DAYLIGHT
BEGIN:STANDARD
TZOFFSETFROM:-0700
TZOFFSETTO:-0800
TZNAME:PST
DTSTART:20231105T090000
END:STANDARD
BEGIN:DAYLIGHT
TZOFFSETFROM:-0800
TZOFFSETTO:-0700
TZNAME:PDT
DTSTART:20240310T100000
END:DAYLIGHT
BEGIN:STANDARD
TZOFFSETFROM:-0700
TZOFFSETTO:-0800
TZNAME:PST
DTSTART:20241103T090000
END:STANDARD
BEGIN:DAYLIGHT
TZOFFSETFROM:-0800
TZOFFSETTO:-0700
TZNAME:PDT
DTSTART:20250309T100000
END:DAYLIGHT
BEGIN:STANDARD
TZOFFSETFROM:-0700
TZOFFSETTO:-0800
TZNAME:PST
DTSTART:20251102T090000
END:STANDARD
BEGIN:DAYLIGHT
TZOFFSETFROM:-0800
TZOFFSETTO:-0700
TZNAME:PDT
DTSTART:20260308T100000
END:DAYLIGHT
BEGIN:STANDARD
TZOFFSETFROM:-0700
TZOFFSETTO:-0800
TZNAME:PST
DTSTART:20261101T090000
END:STANDARD
END:VTIMEZONE
BEGIN:VEVENT
DTSTART;TZID=America/Los_Angeles:20250830T110000
DTEND;TZID=America/Los_Angeles:20250830T150000
DTSTAMP:20260424T082752
CREATED:20250813T232541Z
LAST-MODIFIED:20250815T184931Z
UID:10000753-1756551600-1756566000@cchmuseum.org
SUMMARY:Clark County Historical Museum Super Fun Sale of Books!
DESCRIPTION:Join us once again this year on Saturday\, August 30th\, from 11 AM to 3 PM for a special book sale at the Clark County Historical Museum! This sale features a diverse selection of vintage books\, journals\, posters\, and texts. From Pacific Northwest history to novels\, magazines\, and academic non-fiction\, there’s something for every interest. All books are available on a “pay what you will” donation basis\, with a suggested donation of $2 per book and just 25 cents for journals. \nProceeds from the sale will benefit the museum’s Collections Department\, helping fund the purchase of preservation materials like boxes\, folders\, and other essential supplies to safeguard our local history. The museum will be open to the public for free\, so come browse the collection\, support a great cause\, and take home a piece of history. \nThe museum will be free and open to the public all day!\nSaturday\, August 30\n11 AM – 3 PM\n1511 Main Street\, Vancouver WA 98660
URL:https://cchmuseum.org/calendar/22178/
LOCATION:Clark County Historical Museum\, 1511 Main St.\, Vancouver\, WA\, 98660\, United States
CATEGORIES:Community Events,Fundraisers
ATTACH;FMTTYPE=image/jpeg:https://cchmuseum.org/wp-content/uploads/2025/08/Book-Sale-Aug-30-scaled.jpg
END:VEVENT
BEGIN:VEVENT
DTSTART;TZID=America/Los_Angeles:20230610T170000
DTEND;TZID=America/Los_Angeles:20230610T200000
DTSTAMP:20260424T082752
CREATED:20230414T190947Z
LAST-MODIFIED:20230418T220930Z
UID:10000190-1686416400-1686427200@cchmuseum.org
SUMMARY:2023 CCHM Gala & Fundraiser: Casino Royale
DESCRIPTION:
URL:https://cchmuseum.org/calendar/2023-gala/
LOCATION:Summit Grove Lodge
CATEGORIES:Fundraisers
ATTACH;FMTTYPE=image/png:https://cchmuseum.org/wp-content/uploads/2023/04/Front-Cover.png
END:VEVENT
BEGIN:VEVENT
DTSTART;VALUE=DATE:20230502
DTEND;VALUE=DATE:20230504
DTSTAMP:20260424T082752
CREATED:20230419T194559Z
LAST-MODIFIED:20230419T194600Z
UID:10000191-1682985600-1683158399@cchmuseum.org
SUMMARY:GiveBig!
DESCRIPTION:History is a part of us all.  It can help us understand where the world around us began and how it influences us today. It gives us understanding. The events\, workshops\, programs\, and exhibits that our museum hosts go beyond just the artifacts. \nHelp us keep history alive to share with generations to come. Donate today!
URL:https://cchmuseum.org/calendar/givebig/
LOCATION:Clark County Historical Museum\, 1511 Main St.\, Vancouver\, WA\, 98660\, United States
CATEGORIES:Fundraisers
ATTACH;FMTTYPE=image/png:https://cchmuseum.org/wp-content/uploads/2023/04/28f6834c-1d87-bd8b-9d99-9f6b6fa752a7.png
END:VEVENT
BEGIN:VEVENT
DTSTART;TZID=America/Los_Angeles:20220922T000000
DTEND;TZID=America/Los_Angeles:20220922T233000
DTSTAMP:20260424T082752
CREATED:20220902T195605Z
LAST-MODIFIED:20220902T195623Z
UID:10000046-1663804800-1663889400@cchmuseum.org
SUMMARY:Give More 24!
DESCRIPTION:
URL:https://cchmuseum.org/calendar/give-more-24/
LOCATION:Clark County Historical Museum\, 1511 Main St.\, Vancouver\, WA\, 98660\, United States
CATEGORIES:Fundraisers
ATTACH;FMTTYPE=image/png:https://cchmuseum.org/wp-content/uploads/2022/09/GM2022_Standifer.png
END:VEVENT
BEGIN:VEVENT
DTSTART;TZID=America/Los_Angeles:20220805T193000
DTEND;TZID=America/Los_Angeles:20220805T230000
DTSTAMP:20260424T082752
CREATED:20220105T215037Z
LAST-MODIFIED:20220404T163657Z
UID:10000038-1659727800-1659740400@cchmuseum.org
SUMMARY:CCHMuseum presents "Night at the Museum"
DESCRIPTION:The Clark County Historical Museum is so excited to be participating in YEAR TWO of Friday Night Flicks! \nDoors open on August 5th at 7:30pm and after you park your car\, we will have activities for you to participate in and food you can buy. Remember this is a night to not only enjoy each other’s company\, but to also fundraise some dollars for the Clark County Historical Museum. \nAs the sun sets\, you’ll be encouraged to return to your car and tune your radio to our audio station for the movie. Then CCHM will offer an opportunity to donate directly to them right before we will launch into our showing of Night at the Museum at dusk! \n[All movies for Friday Night Flicks will have captioning on so as to be as accessible as possible] \nIncluded with your ticket purchase is a movie snack pack thanks to Corwin and Frito Lay. \nDon’t forget to also buy your tickets for other nights as well. Below are the links to their pages so you can support some other incredible local nonprofits: \n\nJuly 8th: PAL’s Night\, showing Soul\nJuly 15th: Hough’s Night\, showing Mr. Holland’s Opus\nJuly 22nd: Ridgefield Main Street’s Night\, showing A League of Their Own\nJuly 29th: Rocksolid’s Night\, showing Rock Dog\n\nWe hope you’ll join us on August 5th for our outdoor screening of Night at the Museum AND come every Friday night for the series! \nCCHM’s Friday Night Flicks is presented by the Southwest Washington Contractors Association. We also want to thank our additional sponsors Riverview Community Bank\, City of Ridgefield\, and Brickhouse Bar and Grill.
URL:https://cchmuseum.org/calendar/friday-night-flicks-cchm/
LOCATION:Port of Ridgefield\, 111 W Division St\, Ridgefield\, WA\, 98642\, United States
CATEGORIES:Friday Night Flicks,Fundraisers
ATTACH;FMTTYPE=image/png:https://cchmuseum.org/wp-content/uploads/2022/01/CCHM-FNF-banner-2022_All-Sponsors.png
END:VEVENT
BEGIN:VEVENT
DTSTART;TZID=America/Los_Angeles:20220729T193000
DTEND;TZID=America/Los_Angeles:20220729T230000
DTSTAMP:20260424T082752
CREATED:20220105T215037Z
LAST-MODIFIED:20220404T154903Z
UID:10000037-1659123000-1659135600@cchmuseum.org
SUMMARY:Rocksolid presents "Rock Dog"
DESCRIPTION:Rocksolid is so excited to be participating in YEAR TWO of Friday Night Flicks! \nDoors open at 7:30pm and after you park your car\, we will have activities for you to participate in and food you can buy. Remember this is a night to not only enjoy each other’s company\, but to also fundraise some dollars for Rocksolid. \nAs the sun sets\, you’ll be encouraged to return to your car and tune your radio to our audio station for the movie. Then Rocksolid will offer an opportunity to donate directly to them right before we will launch into our showing of Rock Dog at dusk! \n[All movies for Friday Night Flicks will have captioning on so as to be as accessible as possible] \nIncluded with your ticket purchase is a movie snack pack thanks to Corwin and Frito Lay. \nDon’t forget to also buy your tickets for other nights as well. Below are the links to their pages so you can support some other incredible local nonprofits: \n\nJuly 8th: PAL’s Night\, showing Soul\nJuly 15th: Hough’s Night\, showing Mr. Holland’s Opus\nJuly 22nd: Ridgefield Main Street’s Night\, showing A League of their Own\nAugust 5th: Clark County Historical Museum’s Night\, showing Night at the Museum\n\nWe hope you’ll join us on July 29th for our outdoor screening of Rock Dog AND come every Friday night for the series!
URL:https://cchmuseum.org/calendar/friday-night-flicks-2022-07-29/
LOCATION:Port of Ridgefield\, 111 W Division St\, Ridgefield\, WA\, 98642\, United States
CATEGORIES:Friday Night Flicks,Fundraisers
ATTACH;FMTTYPE=image/png:https://cchmuseum.org/wp-content/uploads/2022/01/4.png
END:VEVENT
BEGIN:VEVENT
DTSTART;TZID=America/Los_Angeles:20220722T193000
DTEND;TZID=America/Los_Angeles:20220722T230000
DTSTAMP:20260424T082752
CREATED:20220105T215037Z
LAST-MODIFIED:20220404T155155Z
UID:10000036-1658518200-1658530800@cchmuseum.org
SUMMARY:Ridgefield Main Street presents "A League of Their Own"
DESCRIPTION:Ridgefield Main Street is so excited to be participating in YEAR TWO of Friday Night Flicks! \nDoors open at 7:30pm and after you park your car\, we will have activities for you to participate in and food you can buy. Remember this is a night to not only enjoy each other’s company\, but to also fundraise some dollars for Ridgefield Main Street. \nAs the sun sets\, you’ll be encouraged to return to your car and tune your radio to our audio station for the movie. Then RMS will offer an opportunity to donate directly to them right before we will launch into our showing of A League of their Own at dusk! \n[All movies for Friday Night Flicks will have captioning on so as to be as accessible as possible] \nIncluded with your ticket purchase is a movie snack pack thanks to Corwin and Frito Lay. \nDon’t forget to also buy your tickets for other nights as well. Below are the links to their pages so you can support some other incredible local nonprofits: \n\nJuly 15th: Hough’s Night\, showing Mr. Holland’s Opus\nJuly 22nd: Ridgefield Main Street’s Night\, showing A League of Their Own\nJuly 29th: Rocksolid’s Night\, showing Rock Dog\nAugust 5th: Clark County Historical Museum’s Night\, showing Night at the Museum\n\nWe hope you’ll join us on July 22nd for our outdoor screening of A League of their Own AND come every Friday night for the series!
URL:https://cchmuseum.org/calendar/friday-night-flicks-rms/
LOCATION:Port of Ridgefield\, 111 W Division St\, Ridgefield\, WA\, 98642\, United States
CATEGORIES:Friday Night Flicks,Fundraisers
ATTACH;FMTTYPE=image/png:https://cchmuseum.org/wp-content/uploads/2022/01/3.png
END:VEVENT
BEGIN:VEVENT
DTSTART;TZID=America/Los_Angeles:20220715T193000
DTEND;TZID=America/Los_Angeles:20220715T230000
DTSTAMP:20260424T082752
CREATED:20220105T215037Z
LAST-MODIFIED:20220404T155310Z
UID:10000035-1657913400-1657926000@cchmuseum.org
SUMMARY:Hough Foundation presents "Mr. Holland's Opus"
DESCRIPTION:The Hough Foundation is so excited to be participating in YEAR TWO of Friday Night Flicks! \nDoors open at 7:30pm and after you park your car\, we will have activities for you to participate in and food you can buy. Remember this is a night to not only enjoy each other’s company\, but to also fundraise some dollars for Hough. \nAs the sun sets\, you’ll be encouraged to return to your car and tune your radio to our audio station for the movie. Then Hough will offer an opportunity to donate directly to them right before we will launch into our showing of Mr. Holland’s Opus at dusk! \n[All movies for Friday Night Flicks will have captioning on so as to be as accessible as possible] \nIncluded with your ticket purchase is a movie snack pack thanks to Corwin and Frito Lay. \nDon’t forget to also buy your tickets for other nights as well. Below are the links to their pages so you can support some other incredible local nonprofits: \n\nJuly 8th: PAL’s Night\, showing Soul\nJuly 22nd: Ridgefield Main Street’s Night\, showing A League of their Own\nJuly 29th: Rocksolid’s Night\, showing Rock Dog\nAugust 5th: Clark County Historical Museum’s Night\, showing Night at the Museum\n\nWe hope you’ll join us on July 15th for our outdoor screening of Mr. Holland’s Opus AND come every Friday night for the series!
URL:https://cchmuseum.org/calendar/friday-night-flicks-hough/
LOCATION:Port of Ridgefield\, 111 W Division St\, Ridgefield\, WA\, 98642\, United States
CATEGORIES:Friday Night Flicks,Fundraisers
ATTACH;FMTTYPE=image/png:https://cchmuseum.org/wp-content/uploads/2022/01/2.png
END:VEVENT
BEGIN:VEVENT
DTSTART;TZID=America/Los_Angeles:20220708T193000
DTEND;TZID=America/Los_Angeles:20220708T230000
DTSTAMP:20260424T082752
CREATED:20220105T215037Z
LAST-MODIFIED:20220404T155341Z
UID:10000034-1657308600-1657321200@cchmuseum.org
SUMMARY:PAL of SWWA presents "Soul"
DESCRIPTION:The Police Activities League of Southwest Washington is so excited to be participating in YEAR TWO of Friday Night Flicks! Our evening is brought to you by Waste Connections and together we will be providing an evening of fun. \nDoors open at 7:30pm and after you park your car\, you’ll be able to tour police vehicles\, buy some food from local vendors\, and play yard games. Remember this is a night to not only enjoy each other’s company\, but to also fundraise some dollars for PAL of SWWA. \nAs the sun sets\, you’ll be encouraged to return to your car and tune your radio to our audio station for the movie. Then PAL of SWWA will offer an opportunity to donate directly to them right before we will launch into our showing of Soul at dusk! \n[All movies for Friday Night Flicks will have captioning on so as to be as accessible as possible] \nIncluded with your ticket purchase is a movie snack pack thanks to Corwin and Frito Lay. \nDon’t forget to also buy your tickets for other nights as well. Below are the links to their pages so you can support some other incredible local nonprofits: \n\nJuly 15th: Hough’s Night\, showing Mr. Holland’s Opus\nJuly 22nd: Ridgefield Main Street’s Night\, showing A League of Their Own\nJuly 29th: Rocksolid’s Night\, showing Rock Dog\nAugust 5th: Clark County Historical Museum’s Night\, showing Night at the Museum\n\nWe hope you’ll join us on July 8th for our outdoor screening of Soul AND come every Friday night for the series!
URL:https://cchmuseum.org/calendar/friday-night-flicks-pal/
LOCATION:Port of Ridgefield\, 111 W Division St\, Ridgefield\, WA\, 98642\, United States
CATEGORIES:Friday Night Flicks,Fundraisers
ATTACH;FMTTYPE=image/png:https://cchmuseum.org/wp-content/uploads/2022/01/1.png
END:VEVENT
BEGIN:VEVENT
DTSTART;TZID=America/Los_Angeles:20220611T100000
DTEND;TZID=America/Los_Angeles:20220611T160000
DTSTAMP:20260424T082752
CREATED:20220406T161315Z
LAST-MODIFIED:20220406T170206Z
UID:10000041-1654941600-1654963200@cchmuseum.org
SUMMARY:Amazing History Race
DESCRIPTION:Clark County Historical Museum and the Police activities League of Southwest Washington have joined up to bring back the Amazing History Race for another year! Huge shout out to Columbia Bank for being this year’s presenting sponsor. We have an exciting scavenger hunt planned for 2022 and we hope you will join us as we “race” through history. \nTeams can have up to four people and we have two levels of difficulty: “History Buffs” for those who dabble in history and “Hardcore Historians” who believe they really know their history. Both routes will offer tons of fun and it is a great family activity as well. Each team registration includes a race shirt for each member\, a historic medal courtesy of WHY Racing for each member\, and an after-race picnic. \nYou can learn more about the event and even register today on Eventbrite (link below). \nWe want to thank all our sponsors who are supporting this event: Columbia Bank\, WHY Racing\, Trap Door Brewing\, Brickhouse\, Cruise the Couve\, Source Climbing\, & the Old Library Inn.
URL:https://cchmuseum.org/calendar/amazing-history-race/
LOCATION:Clark County Historical Museum\, 1511 Main St.\, Vancouver\, WA\, 98660\, United States
CATEGORIES:Fundraisers
ATTACH;FMTTYPE=image/png:https://cchmuseum.org/wp-content/uploads/2022/04/FB-Event-Headers-2022.png
END:VEVENT
BEGIN:VEVENT
DTSTART;TZID=America/Los_Angeles:20220512T190000
DTEND;TZID=America/Los_Angeles:20220512T200000
DTSTAMP:20260424T082752
CREATED:20220402T222555Z
LAST-MODIFIED:20220402T222555Z
UID:10000039-1652382000-1652385600@cchmuseum.org
SUMMARY:Virtual night at the Museum
DESCRIPTION:Have you ever wanted to explore the unseen and restricted depths of a museum? Search through history-lined shelves for the unique and\, at times\, strange remnants of our past? Found a desire to peek behind the curtain into the spaces where only a few can go? If so\, join us for a private\, behind-the-scenes tour of the Museum and local historic sites. “A Virtual Night at the Museum” fundraising program will provide a glimpse into the creation of our pop-up exhibits\, let you explore fashion through the years with a peek at clothing from our collection\, and give you a private viewing of unseen places at Kiggins Theatre\, Schofield Building\, and Donegan Building (formerly Lucky Loans). \nAs part of the program\, our virtual tour-goers will have the opportunity to bid on exclusive museum and history-related experiences via an online auction and invest in our work during a special appeal segment. All funds raised will help support our work to gather\, save\, and share the pieces and stories of Clark County history. Auction opens April 21st. Bidding closes May 12th after the show. \nThis event is only possible thanks to our generous presenting sponsor Squires Electric\, Inc and additional sponsors Brickhouse Bar and Grill\, Blooming Wand\, Bright Indirect Light Social Club\, and Kindred Homestead Supply.
URL:https://cchmuseum.org/calendar/virtual-night-at-the-museum/
LOCATION:Clark County Historical Museum\, 1511 Main St.\, Vancouver\, WA\, 98660\, United States
CATEGORIES:Fundraisers
ATTACH;FMTTYPE=image/png:https://cchmuseum.org/wp-content/uploads/2022/03/2022-Virtual-Night-VNAM_1920x1080.png
END:VEVENT
END:VCALENDAR