BEGIN:VCALENDAR
VERSION:2.0
PRODID:-//Clark County Historical Museum - ECPv6.15.20//NONSGML v1.0//EN
CALSCALE:GREGORIAN
METHOD:PUBLISH
X-WR-CALNAME:Clark County Historical Museum
X-ORIGINAL-URL:https://cchmuseum.org
X-WR-CALDESC:Events for Clark County Historical Museum
REFRESH-INTERVAL;VALUE=DURATION:PT1H
X-Robots-Tag:noindex
X-PUBLISHED-TTL:PT1H
BEGIN:VTIMEZONE
TZID:America/Los_Angeles
BEGIN:DAYLIGHT
TZOFFSETFROM:-0800
TZOFFSETTO:-0700
TZNAME:PDT
DTSTART:20210314T100000
END:DAYLIGHT
BEGIN:STANDARD
TZOFFSETFROM:-0700
TZOFFSETTO:-0800
TZNAME:PST
DTSTART:20211107T090000
END:STANDARD
BEGIN:DAYLIGHT
TZOFFSETFROM:-0800
TZOFFSETTO:-0700
TZNAME:PDT
DTSTART:20220313T100000
END:DAYLIGHT
BEGIN:STANDARD
TZOFFSETFROM:-0700
TZOFFSETTO:-0800
TZNAME:PST
DTSTART:20221106T090000
END:STANDARD
BEGIN:DAYLIGHT
TZOFFSETFROM:-0800
TZOFFSETTO:-0700
TZNAME:PDT
DTSTART:20230312T100000
END:DAYLIGHT
BEGIN:STANDARD
TZOFFSETFROM:-0700
TZOFFSETTO:-0800
TZNAME:PST
DTSTART:20231105T090000
END:STANDARD
BEGIN:DAYLIGHT
TZOFFSETFROM:-0800
TZOFFSETTO:-0700
TZNAME:PDT
DTSTART:20240310T100000
END:DAYLIGHT
BEGIN:STANDARD
TZOFFSETFROM:-0700
TZOFFSETTO:-0800
TZNAME:PST
DTSTART:20241103T090000
END:STANDARD
END:VTIMEZONE
BEGIN:VEVENT
DTSTART;TZID=America/Los_Angeles:20230407T170000
DTEND;TZID=America/Los_Angeles:20230407T200000
DTSTAMP:20260424T013652
CREATED:20230310T161747Z
LAST-MODIFIED:20230310T162754Z
UID:10000086-1680886800-1680897600@cchmuseum.org
SUMMARY:Community Takeover: Summer of Pride
DESCRIPTION:Have you ever wondered where the PNW’s love for hops and IPAs began? Or who was the first female riverboat captain on the Columbia? Have fun and meet others every First Friday while exploring our community’s history during #CCHMuseum AfterHours! \nIt’s Community takeover time! This month Summer of Pride Clark County is taking over the museum with an evening of music\, food\, and trivia. Join us from 5pm to 8pm to meet great people and learn more about one of our many amazing community partners.
URL:https://cchmuseum.org/calendar/cchmafterhours-2/
LOCATION:Clark County Historical Museum\, 1511 Main St.\, Vancouver\, WA\, 98660\, United States
CATEGORIES:First Friday
ATTACH;FMTTYPE=image/png:https://cchmuseum.org/wp-content/uploads/2022/01/CCHMAfterHours_Jun2022.png
END:VEVENT
BEGIN:VEVENT
DTSTART;TZID=America/Los_Angeles:20230303T170000
DTEND;TZID=America/Los_Angeles:20230303T200000
DTSTAMP:20260424T013652
CREATED:20230110T194010Z
LAST-MODIFIED:20230310T163327Z
UID:10000085-1677862800-1677873600@cchmuseum.org
SUMMARY:#CCHM After Hours Open House
DESCRIPTION:Have you ever wondered where the PNW’s love for hops and IPAs began? Or who was the first female riverboat captain on the Columbia? Have fun and meet others every First Friday while exploring our community’s history during #CCHMuseum After Hours! \nEach monthly event showcases a different theme with experiences such as pop-up exhibits\, workshops\, live performances\, author readings\, and more. While you’re here\, be sure to explore our award winning exhibits to learn about the women who helped build the Clark County or dance through the history of music in our community.
URL:https://cchmuseum.org/calendar/cchmafterhours/2023-03-03/
LOCATION:Clark County Historical Museum\, 1511 Main St.\, Vancouver\, WA\, 98660\, United States
CATEGORIES:First Friday
ATTACH;FMTTYPE=image/png:https://cchmuseum.org/wp-content/uploads/2022/01/CCHM-AfterHours_generic.png
END:VEVENT
BEGIN:VEVENT
DTSTART;TZID=America/Los_Angeles:20230203T170000
DTEND;TZID=America/Los_Angeles:20230203T200000
DTSTAMP:20260424T013652
CREATED:20230110T194010Z
LAST-MODIFIED:20230310T163327Z
UID:10000084-1675443600-1675454400@cchmuseum.org
SUMMARY:#CCHM After Hours Open House
DESCRIPTION:Have you ever wondered where the PNW’s love for hops and IPAs began? Or who was the first female riverboat captain on the Columbia? Have fun and meet others every First Friday while exploring our community’s history during #CCHMuseum After Hours! \nEach monthly event showcases a different theme with experiences such as pop-up exhibits\, workshops\, live performances\, author readings\, and more. While you’re here\, be sure to explore our award winning exhibits to learn about the women who helped build the Clark County or dance through the history of music in our community.
URL:https://cchmuseum.org/calendar/cchmafterhours/2023-02-03/
LOCATION:Clark County Historical Museum\, 1511 Main St.\, Vancouver\, WA\, 98660\, United States
CATEGORIES:First Friday
ATTACH;FMTTYPE=image/png:https://cchmuseum.org/wp-content/uploads/2022/01/CCHM-AfterHours_generic.png
END:VEVENT
BEGIN:VEVENT
DTSTART;TZID=America/Los_Angeles:20221007T170000
DTEND;TZID=America/Los_Angeles:20221007T200000
DTSTAMP:20260424T013652
CREATED:20220105T214322Z
LAST-MODIFIED:20221001T202201Z
UID:10000033-1665162000-1665172800@cchmuseum.org
SUMMARY:CCHMuseum After Hours
DESCRIPTION:Every First Friday!
URL:https://cchmuseum.org/calendar/cchmuseum-after-hours-2022-10-07/
LOCATION:Clark County Historical Museum\, 1511 Main St.\, Vancouver\, WA\, 98660\, United States
CATEGORIES:First Friday
ATTACH;FMTTYPE=image/png:https://cchmuseum.org/wp-content/uploads/2022/01/CCHM-AfterHours_generic.png
END:VEVENT
BEGIN:VEVENT
DTSTART;TZID=America/Los_Angeles:20220902T170000
DTEND;TZID=America/Los_Angeles:20220902T200000
DTSTAMP:20260424T013652
CREATED:20220105T214322Z
LAST-MODIFIED:20220811T190936Z
UID:10000032-1662138000-1662148800@cchmuseum.org
SUMMARY:Meet the Author: Jeff Davis
DESCRIPTION:Have you ever wondered where the PNW’s love for hops and IPAs began? Or who was the first female riverboat captain on the Columbia? Have fun and meet others every First Friday while exploring our community’s history during #CCHMuseum AfterHours! \nThis month we’re welcoming historian and author\, Jeff Davis\, for a meet the author and book signing. Davis has written\, edited\, or contributed to several books on military history and pop culture. He is the author of Custer’s Other Brother-in-Law: The Orders Book of Lieutenant Frederick S. Calhoun as well as several books on paranormal lore in the Pacific Northwest. \nEach AfterHours event showcases a different theme with experiences such as pop-up exhibits\, workshops\, live performances\, author readings\, and more. While you’re here\, be sure to explore our award winning exhibits to learn about the women who helped build Clark County or dance through the history of music in our community. \nCheck out our website for detailed information on each month’s theme and activity.
URL:https://cchmuseum.org/calendar/cchmuseum-after-hours-2022-09-02/
LOCATION:Clark County Historical Museum\, 1511 Main St.\, Vancouver\, WA\, 98660\, United States
CATEGORIES:First Friday
ATTACH;FMTTYPE=image/png:https://cchmuseum.org/wp-content/uploads/2022/01/CCHMAfterHours_Sep2022.png
END:VEVENT
BEGIN:VEVENT
DTSTART;TZID=America/Los_Angeles:20220701T170000
DTEND;TZID=America/Los_Angeles:20220701T200000
DTSTAMP:20260424T013652
CREATED:20220105T214322Z
LAST-MODIFIED:20220701T150815Z
UID:10000049-1656694800-1656705600@cchmuseum.org
SUMMARY:CCHMuseum After Hours
DESCRIPTION:Haven’t checked out the museum lately? This month is an Open House! No fuss\, no admission. Just a chance wander the exhibits and see what’s new.
URL:https://cchmuseum.org/calendar/cchmuseum-after-hours-2022-07-01/
LOCATION:Clark County Historical Museum\, 1511 Main St.\, Vancouver\, WA\, 98660\, United States
CATEGORIES:First Friday
ATTACH;FMTTYPE=image/png:https://cchmuseum.org/wp-content/uploads/2022/01/CCHM-AfterHours_generic.png
END:VEVENT
BEGIN:VEVENT
DTSTART;TZID=America/Los_Angeles:20220603T170000
DTEND;TZID=America/Los_Angeles:20220603T200000
DTSTAMP:20260424T013652
CREATED:20220105T214322Z
LAST-MODIFIED:20220520T195221Z
UID:10000048-1654275600-1654286400@cchmuseum.org
SUMMARY:CCHMuseum After Hours Community Take-Over
DESCRIPTION:It’s a community take-over! For our June #CCHMuseum AfterHours\, community partner\, Summer of Pride Clark County\, is taking over the museum for a Community art show. Members of the LGBTQIA+ community will be displaying their finished work and working on projects all evening. \nDoors open at 5pm. This is a free\, family friendly event. \nHave you ever wondered where the PNW’s love for hops and IPAs began? Or who was the first female riverboat captain on the Columbia? Have fun and meet others every First Friday while exploring our community’s history during #CCHMuseum AfterHours! \nEach monthly event showcases a different theme with experiences such as pop-up exhibits\, workshops\, live performances\, author readings\, and more. While you’re here\, be sure to explore our award winning exhibits to learn about the women who helped build the Clark County or dance through the history of music in our community. \nCheck out our website for detailed information on each month’s theme and activity.
URL:https://cchmuseum.org/calendar/cchmuseum-after-hours-2022-06-03/
LOCATION:Clark County Historical Museum\, 1511 Main St.\, Vancouver\, WA\, 98660\, United States
CATEGORIES:First Friday
ATTACH;FMTTYPE=image/png:https://cchmuseum.org/wp-content/uploads/2022/01/CCHMAfterHours_Jun2022.png
END:VEVENT
BEGIN:VEVENT
DTSTART;TZID=America/Los_Angeles:20220506T170000
DTEND;TZID=America/Los_Angeles:20220506T200000
DTSTAMP:20260424T013652
CREATED:20220105T214322Z
LAST-MODIFIED:20220407T214218Z
UID:10000031-1651856400-1651867200@cchmuseum.org
SUMMARY:Our Changing Landscape Pop-Up Exhibit
DESCRIPTION:Have you ever wondered where the PNW’s love for hops and IPAs began? Or who was the first female riverboat captain on the Columbia? Have fun and meet others every First Friday while exploring our community’s history during #CCHMuseum AfterHours! \nEach monthly event showcases a different theme with experiences such as pop-up exhibits\, workshops\, live performances\, author readings\, and more. While you’re here\, be sure to explore our award winning exhibits to learn about the women who helped build the Clark County or dance through the history of music in our community. \nFarming and agriculture have contributed to the development of Clark County throughout it’s history. In this month’s AfterHours pop-up exhibit\, curated by CCHM’s WSU-V History intern\, we’ll looks at how farming has changed\, from the 1840s to the present day\, using historic artifacts photos\, and maps.
URL:https://cchmuseum.org/calendar/after-hours-may2022/
LOCATION:Clark County Historical Museum\, 1511 Main St.\, Vancouver\, WA\, 98660\, United States
CATEGORIES:First Friday
ATTACH;FMTTYPE=image/png:https://cchmuseum.org/wp-content/uploads/2022/01/CCHM-AfterHours_generic.png
END:VEVENT
BEGIN:VEVENT
DTSTART;TZID=America/Los_Angeles:20220401T170000
DTEND;TZID=America/Los_Angeles:20220401T200000
DTSTAMP:20260424T013652
CREATED:20220105T214322Z
LAST-MODIFIED:20221025T170414Z
UID:10000028-1648832400-1648843200@cchmuseum.org
SUMMARY:VBMA Community Takeover
DESCRIPTION:The Vancouver Barracks Military Association will descend upon the Clark County Historical Museum; bringing military history “goodies” for patrons to enjoy. There will be historic images from the Vancouver Barracks\, maps\, and interpreters to answer your questions. The VBMA will also unveil their 2023 military history talk schedule. These talks will take place from February through June of 2023\, at the Vancouver Barracks. Come down with your military memorabilia\, and maybe we can answer some of your questions about it. You can support the VBMA by buying their 2023 historic Vancouver/Vancouver Barracks calendar.
URL:https://cchmuseum.org/calendar/cchmuseum-after-hours-2022-04-01/
LOCATION:Clark County Historical Museum\, 1511 Main St.\, Vancouver\, WA\, 98660\, United States
CATEGORIES:First Friday
ATTACH;FMTTYPE=image/png:https://cchmuseum.org/wp-content/uploads/2022/01/CCHM-AfterHours_generic.png
END:VEVENT
BEGIN:VEVENT
DTSTART;TZID=America/Los_Angeles:20220304T170000
DTEND;TZID=America/Los_Angeles:20220304T200000
DTSTAMP:20260424T013652
CREATED:20220105T214322Z
LAST-MODIFIED:20220217T220530Z
UID:10000027-1646413200-1646424000@cchmuseum.org
SUMMARY:Women's History Trivia Night
DESCRIPTION:Think you know the women who helped build Clark County? Team up and compete against other challengers to see who knows their women’s history best! Each game will last approximately 3 rounds and 30 minutes at 5:30\, 6:30\, and 7:30. The winning team for each game will receive a prize. Admission to the museum is free as part of VDA’s Art Walk. This is a family friendly event.
URL:https://cchmuseum.org/calendar/cchmuseum-after-hours-2022-03-04/
LOCATION:Clark County Historical Museum\, 1511 Main St.\, Vancouver\, WA\, 98660\, United States
CATEGORIES:First Friday
ATTACH;FMTTYPE=image/png:https://cchmuseum.org/wp-content/uploads/2022/01/CCHM-AfterHours_generic.png
END:VEVENT
BEGIN:VEVENT
DTSTART;TZID=America/Los_Angeles:20220204T170000
DTEND;TZID=America/Los_Angeles:20220204T200000
DTSTAMP:20260424T013652
CREATED:20220105T214322Z
LAST-MODIFIED:20220202T211823Z
UID:10000026-1643994000-1644004800@cchmuseum.org
SUMMARY:Archivist in a Backpack Workshop
DESCRIPTION:Have you ever wondered where the PNW’s love for hops and IPAs began? Or who was the first female riverboat captain on the Columbia? Have fun and meet others every #FirstFriday while exploring our community’s history during #CCHMuseum AfterHours!\n\nThis month we’ll be discussing Archivist in a Backpack\, our latest initiative designed to help collect the stories of our community. Learn how to collect your family stories and add them to our growing collection of oral histories! Workshop starts at 5:15 and 6:15.\n\nThis event is free to the public. CCHMuseum requires all patrons to be masked\, vaccinated\, and remain socially distanced during indoor events. For more information on our COVID protocols and upcoming events\, see our website at cchmuseum.org.
URL:https://cchmuseum.org/calendar/cchmuseum-after-hours-2022-02-04/
LOCATION:Clark County Historical Museum\, 1511 Main St.\, Vancouver\, WA\, 98660\, United States
CATEGORIES:First Friday
ATTACH;FMTTYPE=image/png:https://cchmuseum.org/wp-content/uploads/2022/01/CCHM-AfterHours_generic.png
END:VEVENT
END:VCALENDAR