BEGIN:VCALENDAR
VERSION:2.0
PRODID:-//Clark County Historical Museum - ECPv6.15.20//NONSGML v1.0//EN
CALSCALE:GREGORIAN
METHOD:PUBLISH
X-WR-CALNAME:Clark County Historical Museum
X-ORIGINAL-URL:https://cchmuseum.org
X-WR-CALDESC:Events for Clark County Historical Museum
REFRESH-INTERVAL;VALUE=DURATION:PT1H
X-Robots-Tag:noindex
X-PUBLISHED-TTL:PT1H
BEGIN:VTIMEZONE
TZID:America/Los_Angeles
BEGIN:DAYLIGHT
TZOFFSETFROM:-0800
TZOFFSETTO:-0700
TZNAME:PDT
DTSTART:20240310T100000
END:DAYLIGHT
BEGIN:STANDARD
TZOFFSETFROM:-0700
TZOFFSETTO:-0800
TZNAME:PST
DTSTART:20241103T090000
END:STANDARD
BEGIN:DAYLIGHT
TZOFFSETFROM:-0800
TZOFFSETTO:-0700
TZNAME:PDT
DTSTART:20250309T100000
END:DAYLIGHT
BEGIN:STANDARD
TZOFFSETFROM:-0700
TZOFFSETTO:-0800
TZNAME:PST
DTSTART:20251102T090000
END:STANDARD
BEGIN:DAYLIGHT
TZOFFSETFROM:-0800
TZOFFSETTO:-0700
TZNAME:PDT
DTSTART:20260308T100000
END:DAYLIGHT
BEGIN:STANDARD
TZOFFSETFROM:-0700
TZOFFSETTO:-0800
TZNAME:PST
DTSTART:20261101T090000
END:STANDARD
END:VTIMEZONE
BEGIN:VEVENT
DTSTART;TZID=America/Los_Angeles:20251003T170000
DTEND;TZID=America/Los_Angeles:20251003T200000
DTSTAMP:20260425T085429
CREATED:20250718T191537Z
LAST-MODIFIED:20250718T191537Z
UID:10000732-1759510800-1759521600@cchmuseum.org
SUMMARY:CCHM After Hours - Columbia Springs
DESCRIPTION:Join us for First Friday at the Clark County Historical Museum!Celebrate Vancouver’s vibrant community with a special evening of nature\, science\, and connection during the First Friday Art Walk. \nOn Friday\, October 3\, enjoy free museum admission from 5:00 to 8:00 PM. Explore our exhibits after hours and engage with local environmental leaders during a special After Hours Takeover in partnership with Columbia Springs—a nonprofit organization dedicated to inspiring stewardship through hands-on science education and outdoor experiences. \nCome discover how Columbia Springs is helping thousands of students and families connect with the natural world through programs like Salmon in the Classroom\, Repair Clark County\, and guided nature walks—all while enjoying a unique evening at the museum!
URL:https://cchmuseum.org/calendar/cchm-after-hours-columbia-springs/
LOCATION:Clark County Historical Museum\, 1511 Main St.\, Vancouver\, WA\, 98660\, United States
CATEGORIES:Community Events,First Friday
ATTACH;FMTTYPE=image/png:https://cchmuseum.org/wp-content/uploads/2025/07/Colubia-Springs-FB-Cover.png
END:VEVENT
END:VCALENDAR