BEGIN:VCALENDAR
VERSION:2.0
PRODID:-//Clark County Historical Museum - ECPv6.15.20//NONSGML v1.0//EN
CALSCALE:GREGORIAN
METHOD:PUBLISH
X-WR-CALNAME:Clark County Historical Museum
X-ORIGINAL-URL:https://cchmuseum.org
X-WR-CALDESC:Events for Clark County Historical Museum
REFRESH-INTERVAL;VALUE=DURATION:PT1H
X-Robots-Tag:noindex
X-PUBLISHED-TTL:PT1H
BEGIN:VTIMEZONE
TZID:America/Los_Angeles
BEGIN:DAYLIGHT
TZOFFSETFROM:-0800
TZOFFSETTO:-0700
TZNAME:PDT
DTSTART:20240310T100000
END:DAYLIGHT
BEGIN:STANDARD
TZOFFSETFROM:-0700
TZOFFSETTO:-0800
TZNAME:PST
DTSTART:20241103T090000
END:STANDARD
BEGIN:DAYLIGHT
TZOFFSETFROM:-0800
TZOFFSETTO:-0700
TZNAME:PDT
DTSTART:20250309T100000
END:DAYLIGHT
BEGIN:STANDARD
TZOFFSETFROM:-0700
TZOFFSETTO:-0800
TZNAME:PST
DTSTART:20251102T090000
END:STANDARD
BEGIN:DAYLIGHT
TZOFFSETFROM:-0800
TZOFFSETTO:-0700
TZNAME:PDT
DTSTART:20260308T100000
END:DAYLIGHT
BEGIN:STANDARD
TZOFFSETFROM:-0700
TZOFFSETTO:-0800
TZNAME:PST
DTSTART:20261101T090000
END:STANDARD
END:VTIMEZONE
BEGIN:VEVENT
DTSTART;TZID=America/Los_Angeles:20250924T180000
DTEND;TZID=America/Los_Angeles:20250924T200000
DTSTAMP:20260425T071812
CREATED:20250920T171712Z
LAST-MODIFIED:20250920T171712Z
UID:10000756-1758736800-1758744000@cchmuseum.org
SUMMARY:Historic Monuments in Washington State: Follow-Up Conversation
DESCRIPTION:Wednesday\, September 24\, 2025\nDoors open at 5:15pm | Discussion starts at 6:00pm\nVancouver Arts Hub (former FVRL building) 1007 E Mill Plain Blvd\, Vancouver\, WA 98663 \nFREE (Registration strongly encouraged) \nThe Clark County Historical Museum is proud to once again partner with the Washington State Historical Society to host Historic Monuments in Washington State: Community Conversation. This important follow-up event builds on last year’s dialogue and will take place at the Clark County Historical Museum on Wednesday\, September 24\, at 6 PM. \nContinuing the ConversationIn fall 2024\, our community gathered to discuss the “Firsts” monument located along Officers Row in the Vancouver Historic Reserve. Together\, we explored how this monument reflects local history and the ways monuments can shape our understanding of the past. \nThis year’s session will dig deeper into the issues raised in that first conversation. Attendees will engage in dialogue about the monument’s role in representing our community’s history and consider how monuments like this can—or should—help us learn about the past. \nThe Importance of Contextualizing HistoryBetween 1900 and 1950\, the Washington State Historical Society installed over 40 monuments to commemorate white settlers. Many of these markers lack historical context\, contain outdated or harmful language\, and often ignore Indigenous perspectives. \nIn 2020\, WSHS committed to addressing these legacies. With guidance from public historians\, Indigenous historians\, and Tribal representatives\, the Society continues to evaluate these monuments and create opportunities for inclusive\, community-driven dialogue. \nYour Voice MattersThe insights gathered during these community conversations will help guide future actions regarding the “Firsts” monument and others across Washington State. Options under consideration include removal\, redesign\, or the addition of new interpretive signage. \nBy participating\, you help ensure that the stories we tell in public spaces reflect the full breadth of our shared history. \nAbout the ProjectThis initiative is part of the Dialogue in Place project\, funded by the Institute for Museum and Library Services. The project seeks to reassess 42 historical monuments across Washington State through community conversations and government-to-government consultation with Tribal Nations. The goal is to develop new tools for understanding and engaging with our state’s complex history. \nJoin UsWe invite community members to attend and lend their voices to this vital conversation. Together\, we can shape how our region remembers the past and imagines the future. \nThis program is part of the Washington State Historical Society’s Dialogue in Place project\, presented in partnership with the Clark County Historical Museum. \nRegister here: https://forms.office.com/Pages/ResponsePage.aspx?id=r5nFoiwDuUqxPukepzmCw3mG4k2YG85FgBIHGPibE-FUN0Y3ODBXQUdRN1MxUFJOTThSWEs0UE1MTCQlQCN0PWcu \n 
URL:https://cchmuseum.org/calendar/historic-monuments-in-washington-state-follow-up-conversation/
LOCATION:Vancouver Arts Hub\, 1007 E Mill Plain Blvd\, Vancouver\, WA\, 98663\, United States
CATEGORIES:Community Events
ATTACH;FMTTYPE=image/png:https://cchmuseum.org/wp-content/uploads/2025/09/DIP_FBEvent_Firsts_Sept-2025.png
END:VEVENT
END:VCALENDAR