BEGIN:VCALENDAR
VERSION:2.0
PRODID:-//Clark County Historical Museum - ECPv6.15.20//NONSGML v1.0//EN
CALSCALE:GREGORIAN
METHOD:PUBLISH
X-ORIGINAL-URL:https://cchmuseum.org
X-WR-CALDESC:Events for Clark County Historical Museum
REFRESH-INTERVAL;VALUE=DURATION:PT1H
X-Robots-Tag:noindex
X-PUBLISHED-TTL:PT1H
BEGIN:VTIMEZONE
TZID:America/Los_Angeles
BEGIN:DAYLIGHT
TZOFFSETFROM:-0800
TZOFFSETTO:-0700
TZNAME:PDT
DTSTART:20240310T100000
END:DAYLIGHT
BEGIN:STANDARD
TZOFFSETFROM:-0700
TZOFFSETTO:-0800
TZNAME:PST
DTSTART:20241103T090000
END:STANDARD
BEGIN:DAYLIGHT
TZOFFSETFROM:-0800
TZOFFSETTO:-0700
TZNAME:PDT
DTSTART:20250309T100000
END:DAYLIGHT
BEGIN:STANDARD
TZOFFSETFROM:-0700
TZOFFSETTO:-0800
TZNAME:PST
DTSTART:20251102T090000
END:STANDARD
BEGIN:DAYLIGHT
TZOFFSETFROM:-0800
TZOFFSETTO:-0700
TZNAME:PDT
DTSTART:20260308T100000
END:DAYLIGHT
BEGIN:STANDARD
TZOFFSETFROM:-0700
TZOFFSETTO:-0800
TZNAME:PST
DTSTART:20261101T090000
END:STANDARD
END:VTIMEZONE
BEGIN:VEVENT
DTSTART;TZID=America/Los_Angeles:20250801T170000
DTEND;TZID=America/Los_Angeles:20250801T200000
DTSTAMP:20260425T043046
CREATED:20250718T151226Z
LAST-MODIFIED:20250718T151226Z
UID:10000731-1754067600-1754078400@cchmuseum.org
SUMMARY:CCHM After Hours - Artstra
DESCRIPTION:Join us for First Friday at the Clark County Historical Museum!Celebrate Vancouver’s vibrant arts scene with a special evening of culture and community during the First Friday Art Walk. \nOn Friday\, August 1\, enjoy free museum admission from 5:00 to 8:00 PM. Explore our exhibits after hours and connect with local creatives during a special After Hours Takeover in partnership with Artstra—a dynamic arts advocacy group championing music\, theater\, dance\, literary\, visual\, and media arts throughout Southwest Washington. \nCome discover the important work Artstra is doing to make the arts accessible and inclusive for all\, while enjoying a unique evening at the museum!
URL:https://cchmuseum.org/calendar/cchm-after-hours-artstra/
LOCATION:Clark County Historical Museum\, 1511 Main St.\, Vancouver\, WA\, 98660\, United States
CATEGORIES:Community Events,First Friday
ATTACH;FMTTYPE=image/png:https://cchmuseum.org/wp-content/uploads/2025/07/August-scaled.png
END:VEVENT
BEGIN:VEVENT
DTSTART;TZID=America/Los_Angeles:20250802T140000
DTEND;TZID=America/Los_Angeles:20250802T153000
DTSTAMP:20260425T043046
CREATED:20250708T181304Z
LAST-MODIFIED:20250715T224949Z
UID:10000729-1754143200-1754148600@cchmuseum.org
SUMMARY:Hong Kong Cinema and Singapore—The Cinematic Connection between Two Cities during the Cold War Era (1950–1965)
DESCRIPTION:Explore the Cinematic Ties Between Hong Kong and Singapore During the Cold War\nFree Public Talk at Clark County Historical Museum\nSaturday\, August 2\, 2025 | 2:00 PM | 1511 Main Street\, Vancouver\, WA \nJoin us at the Clark County Historical Museum for a captivating free talk by scholar and filmmaker Dr. Grace Yan-yan Mak (麥欣恩) as she presents “Hong Kong Cinema and Singapore—The Cinematic Connection between Two Cities during the Cold War Era (1950–1965).” \nIn this engaging program\, Dr. Mak will explore how geopolitical tensions in the 1950s transformed the landscape of Chinese-language cinema. With China’s growing isolation during the Cold War\, Hong Kong rose to prominence as a new filmmaking powerhouse—shaping cultural narratives across Asia and forging deep cinematic ties with Singapore and Malaya. \nDiscover how these two British colonies were connected through shared audiences\, artistic visions\, and cinematic representations that reflected a broader “overseas Chinese” identity. Through film analysis and historical context\, Dr. Mak will shine a light on the studios\, stories\, and cultural forces that defined this vibrant cinematic exchange. \nAbout the Speaker:\nDr. Grace Yan-yan Mak is a Hong Kong–born scholar\, writer\, and filmmaker with a Ph.D. in Chinese Studies from the National University of Singapore. She serves on the board of the Northwest China Council and is a former apprentice to director Tsui Hark. Dr. Mak has published extensively on Chinese cinema and literature and co-founded Banyan Tree Movies. \nAdmission is free and open to all. Don’t miss this unique opportunity to experience the intersections of history\, politics\, and film.
URL:https://cchmuseum.org/calendar/hong-kong-cinema-and-singapore-the-cinematic-connection-between-two-cities-during-the-cold-war-era-1950-1965/
LOCATION:Clark County Historical Museum\, 1511 Main St.\, Vancouver\, WA\, 98660\, United States
CATEGORIES:Community Events
ATTACH;FMTTYPE=image/png:https://cchmuseum.org/wp-content/uploads/2025/07/HONG-KONG-CINEMA-scaled.png
END:VEVENT
END:VCALENDAR