BEGIN:VCALENDAR
VERSION:2.0
PRODID:-//Clark County Historical Museum - ECPv6.15.20//NONSGML v1.0//EN
CALSCALE:GREGORIAN
METHOD:PUBLISH
X-WR-CALNAME:Clark County Historical Museum
X-ORIGINAL-URL:https://cchmuseum.org
X-WR-CALDESC:Events for Clark County Historical Museum
REFRESH-INTERVAL;VALUE=DURATION:PT1H
X-Robots-Tag:noindex
X-PUBLISHED-TTL:PT1H
BEGIN:VTIMEZONE
TZID:America/Los_Angeles
BEGIN:DAYLIGHT
TZOFFSETFROM:-0800
TZOFFSETTO:-0700
TZNAME:PDT
DTSTART:20220313T100000
END:DAYLIGHT
BEGIN:STANDARD
TZOFFSETFROM:-0700
TZOFFSETTO:-0800
TZNAME:PST
DTSTART:20221106T090000
END:STANDARD
BEGIN:DAYLIGHT
TZOFFSETFROM:-0800
TZOFFSETTO:-0700
TZNAME:PDT
DTSTART:20230312T100000
END:DAYLIGHT
BEGIN:STANDARD
TZOFFSETFROM:-0700
TZOFFSETTO:-0800
TZNAME:PST
DTSTART:20231105T090000
END:STANDARD
BEGIN:DAYLIGHT
TZOFFSETFROM:-0800
TZOFFSETTO:-0700
TZNAME:PDT
DTSTART:20240310T100000
END:DAYLIGHT
BEGIN:STANDARD
TZOFFSETFROM:-0700
TZOFFSETTO:-0800
TZNAME:PST
DTSTART:20241103T090000
END:STANDARD
END:VTIMEZONE
BEGIN:VEVENT
DTSTART;TZID=America/Los_Angeles:20230618T120000
DTEND;TZID=America/Los_Angeles:20230618T150000
DTSTAMP:20260424T050849
CREATED:20230513T164357Z
LAST-MODIFIED:20230513T164911Z
UID:10000296-1687089600-1687100400@cchmuseum.org
SUMMARY:Covington House Open House
DESCRIPTION:
URL:https://cchmuseum.org/calendar/covington-house-third-sundays/2023-06-18/
LOCATION:Historic Covington House\, 4201 Main St\, Vancouver\, WA\, 98660\, United States
CATEGORIES:Community Events
END:VEVENT
BEGIN:VEVENT
DTSTART;TZID=America/Los_Angeles:20230610T130000
DTEND;TZID=America/Los_Angeles:20230610T190000
DTSTAMP:20260424T050849
CREATED:20230513T165231Z
LAST-MODIFIED:20230513T165246Z
UID:10000535-1686402000-1686423600@cchmuseum.org
SUMMARY:Pride Block Party with QYRC & Dandelion Teahouse
DESCRIPTION:
URL:https://cchmuseum.org/calendar/pride-block-party/
LOCATION:Dandelion Teahouse & Apothecary\, 109 West 7th Street\, Vancouver\, WA\, 98660\, United States
CATEGORIES:Community Events
END:VEVENT
BEGIN:VEVENT
DTSTART;TZID=America/Los_Angeles:20230604T110000
DTEND;TZID=America/Los_Angeles:20230604T160000
DTSTAMP:20260424T050849
CREATED:20230513T164115Z
LAST-MODIFIED:20230513T164115Z
UID:10000236-1685876400-1685894400@cchmuseum.org
SUMMARY:Clark County Pride Rainbow Walk
DESCRIPTION:
URL:https://cchmuseum.org/calendar/cc-pride-rainbow-walk/
LOCATION:Holley Park\, 1000 East 4th St\, La Center\, WA\, 98629\, United States
CATEGORIES:Community Events
END:VEVENT
END:VCALENDAR