BEGIN:VCALENDAR
VERSION:2.0
PRODID:-//Clark County Historical Museum - ECPv6.15.20//NONSGML v1.0//EN
CALSCALE:GREGORIAN
METHOD:PUBLISH
X-WR-CALNAME:Clark County Historical Museum
X-ORIGINAL-URL:https://cchmuseum.org
X-WR-CALDESC:Events for Clark County Historical Museum
REFRESH-INTERVAL;VALUE=DURATION:PT1H
X-Robots-Tag:noindex
X-PUBLISHED-TTL:PT1H
BEGIN:VTIMEZONE
TZID:America/Los_Angeles
BEGIN:DAYLIGHT
TZOFFSETFROM:-0800
TZOFFSETTO:-0700
TZNAME:PDT
DTSTART:20240310T100000
END:DAYLIGHT
BEGIN:STANDARD
TZOFFSETFROM:-0700
TZOFFSETTO:-0800
TZNAME:PST
DTSTART:20241103T090000
END:STANDARD
BEGIN:DAYLIGHT
TZOFFSETFROM:-0800
TZOFFSETTO:-0700
TZNAME:PDT
DTSTART:20250309T100000
END:DAYLIGHT
BEGIN:STANDARD
TZOFFSETFROM:-0700
TZOFFSETTO:-0800
TZNAME:PST
DTSTART:20251102T090000
END:STANDARD
BEGIN:DAYLIGHT
TZOFFSETFROM:-0800
TZOFFSETTO:-0700
TZNAME:PDT
DTSTART:20260308T100000
END:DAYLIGHT
BEGIN:STANDARD
TZOFFSETFROM:-0700
TZOFFSETTO:-0800
TZNAME:PST
DTSTART:20261101T090000
END:STANDARD
END:VTIMEZONE
BEGIN:VEVENT
DTSTART;TZID=America/Los_Angeles:20250605T190000
DTEND;TZID=America/Los_Angeles:20250605T200000
DTSTAMP:20260425T095346
CREATED:20250515T174721Z
LAST-MODIFIED:20250515T174721Z
UID:10000724-1749150000-1749153600@cchmuseum.org
SUMMARY:CCHM Speaker Series: Fort Vancouver and the Story of America
DESCRIPTION:Join us for a special evening exploring the rich\, complex\, and evolving story of one of the Pacific\nNorthwest’s most significant historical sites. \nThis special edition of the Clark County Historical Museum’s Speaker Series will take place at\nthe Fort Vancouver Visitor Center\, where we welcome Meagan Huff\, curator at Fort Vancouver\nNational Historic Site and longtime Vancouver resident. \nMeagan will guide us through the layered history of Fort Vancouver — a site that reflects the\nbroader American story of settlement\, conflict\, resilience\, and cultural transformation. \nFrom its 19th-century origins as a Hudson’s Bay Company trading post to its role in westward\nexpansion and its continued importance as a National Park Service site\, Fort Vancouver holds\nover two million artifacts and countless untold stories. These stories help us understand both\nthe everyday lives of people who lived here and the broader national forces — colonialism\,\nmigration\, military presence\, and preservation — that shaped this land. \nThrough archaeology\, historical research\, and collaboration with Tribes and community\npartners\, our understanding of this site continues to evolve. This presentation will explore: \n🔹 The founding and historical significance of Fort Vancouver\n🔹 The impact of archaeology in uncovering stories buried beneath the surface\n🔹 The site’s national importance in the broader context of American history\n🔹 How our collective memory and interpretation of the site have changed — and continue to\nchangeMeagan Huff is the museum curator at Fort Vancouver National Historic Site. An (almost)\nlifelong Vancouver resident\, Meagan has worked in museum collections management at Fort\nVancouver NHS since 2010. She holds a Bachelor of Arts degree in History and Art History and\na Master of Arts degree in Museum Studies\, both from the University of Washington. \nThis installment of the CCHM Speaker Series is sponsored through the generosity of the\nHistoric Preservation Commission\, Pomeroy Living History Farm\, and Vancouver Sign \nAdvance registration is recommended to secure attendance. Tickets available here.
URL:https://cchmuseum.org/calendar/cchm-speaker-series-fort-vancouver-and-the-story-of-america/
LOCATION:Fort Vancouver Visitor Center\, 1501 E Evergreen Blvd\, Vancouver\, WA\, 98661
CATEGORIES:Community Events,Speaker Series
ATTACH;FMTTYPE=image/png:https://cchmuseum.org/wp-content/uploads/2025/05/June2025.png
END:VEVENT
END:VCALENDAR