BEGIN:VCALENDAR
VERSION:2.0
PRODID:-//Clark County Historical Museum - ECPv6.15.20//NONSGML v1.0//EN
CALSCALE:GREGORIAN
METHOD:PUBLISH
X-ORIGINAL-URL:https://cchmuseum.org
X-WR-CALDESC:Events for Clark County Historical Museum
REFRESH-INTERVAL;VALUE=DURATION:PT1H
X-Robots-Tag:noindex
X-PUBLISHED-TTL:PT1H
BEGIN:VTIMEZONE
TZID:America/Los_Angeles
BEGIN:DAYLIGHT
TZOFFSETFROM:-0800
TZOFFSETTO:-0700
TZNAME:PDT
DTSTART:20240310T100000
END:DAYLIGHT
BEGIN:STANDARD
TZOFFSETFROM:-0700
TZOFFSETTO:-0800
TZNAME:PST
DTSTART:20241103T090000
END:STANDARD
BEGIN:DAYLIGHT
TZOFFSETFROM:-0800
TZOFFSETTO:-0700
TZNAME:PDT
DTSTART:20250309T100000
END:DAYLIGHT
BEGIN:STANDARD
TZOFFSETFROM:-0700
TZOFFSETTO:-0800
TZNAME:PST
DTSTART:20251102T090000
END:STANDARD
BEGIN:DAYLIGHT
TZOFFSETFROM:-0800
TZOFFSETTO:-0700
TZNAME:PDT
DTSTART:20260308T100000
END:DAYLIGHT
BEGIN:STANDARD
TZOFFSETFROM:-0700
TZOFFSETTO:-0800
TZNAME:PST
DTSTART:20261101T090000
END:STANDARD
END:VTIMEZONE
BEGIN:VEVENT
DTSTART;TZID=America/Los_Angeles:20251220T110000
DTEND;TZID=America/Los_Angeles:20251220T150000
DTSTAMP:20260423T221504
CREATED:20251105T174017Z
LAST-MODIFIED:20251105T174017Z
UID:10000762-1766228400-1766242800@cchmuseum.org
SUMMARY:Winter Native Art Market
DESCRIPTION:  \nThe Clark County Historical Museum is excited to announce the Winter Native Art Market! This highly anticipated event will feature a curated selection of 17 local Indigenous artists and vendors\, including returning favorites and several new participants. Visitors will have the chance to purchase unique handcrafted arts\, crafts\, jewelry\, and other Indigenous-made goods\, perfect for holiday gift-giving or personal collections. \nIn addition to the market\, Dr. Sherrie Davis\, internationally recognized Native American flutist\, will perform live\, adding a cultural and musical experience to the event. \nThe museum will be open and free to the public during the event\, offering an opportunity to explore exhibits that highlight the rich heritage of Southwest Washington. \n 
URL:https://cchmuseum.org/calendar/winter-native-art-market-2/
LOCATION:Clark County Historical Museum\, 1511 Main St.\, Vancouver\, WA\, 98660\, United States
CATEGORIES:Community Events,Out & About
ATTACH;FMTTYPE=image/png:https://cchmuseum.org/wp-content/uploads/2025/11/Generic-15-scaled.png
END:VEVENT
END:VCALENDAR