BEGIN:VCALENDAR
VERSION:2.0
PRODID:-//Clark County Historical Museum - ECPv6.15.20//NONSGML v1.0//EN
CALSCALE:GREGORIAN
METHOD:PUBLISH
X-WR-CALNAME:Clark County Historical Museum
X-ORIGINAL-URL:https://cchmuseum.org
X-WR-CALDESC:Events for Clark County Historical Museum
REFRESH-INTERVAL;VALUE=DURATION:PT1H
X-Robots-Tag:noindex
X-PUBLISHED-TTL:PT1H
BEGIN:VTIMEZONE
TZID:America/Los_Angeles
BEGIN:DAYLIGHT
TZOFFSETFROM:-0800
TZOFFSETTO:-0700
TZNAME:PDT
DTSTART:20240310T100000
END:DAYLIGHT
BEGIN:STANDARD
TZOFFSETFROM:-0700
TZOFFSETTO:-0800
TZNAME:PST
DTSTART:20241103T090000
END:STANDARD
BEGIN:DAYLIGHT
TZOFFSETFROM:-0800
TZOFFSETTO:-0700
TZNAME:PDT
DTSTART:20250309T100000
END:DAYLIGHT
BEGIN:STANDARD
TZOFFSETFROM:-0700
TZOFFSETTO:-0800
TZNAME:PST
DTSTART:20251102T090000
END:STANDARD
BEGIN:DAYLIGHT
TZOFFSETFROM:-0800
TZOFFSETTO:-0700
TZNAME:PDT
DTSTART:20260308T100000
END:DAYLIGHT
BEGIN:STANDARD
TZOFFSETFROM:-0700
TZOFFSETTO:-0800
TZNAME:PST
DTSTART:20261101T090000
END:STANDARD
END:VTIMEZONE
BEGIN:VEVENT
DTSTART;TZID=America/Los_Angeles:20251108T160000
DTEND;TZID=America/Los_Angeles:20251108T173000
DTSTAMP:20260423T234307
CREATED:20251011T222245Z
LAST-MODIFIED:20251015T202832Z
UID:10000759-1762617600-1762623000@cchmuseum.org
SUMMARY:MEMBERS ONLY - Headstone and Memorial Cleaning and Care Workshop
DESCRIPTION:November is Members Month at the Clark County Historical Museum! \nJoin us on Saturday\, November 8\, as longtime CCHM volunteer and local historian Peri Muhich leads a hands-on workshop on memorial cleaning and care. Learn what supplies to bring to the cemetery and the proper techniques for cleaning and preserving headstones with respect and care. Space is limited to 25 participants\, and registration is required to reserve your spot. \nRegister here.
URL:https://cchmuseum.org/calendar/members-only-headstone-and-memorial-cleaning-and-care-workshop/
LOCATION:Clark County Historical Museum\, 1511 Main St.\, Vancouver\, WA\, 98660\, United States
CATEGORIES:Members Only Events,Workshops
ATTACH;FMTTYPE=image/png:https://cchmuseum.org/wp-content/uploads/2025/10/2025-Website-Members-Events-3.png
END:VEVENT
END:VCALENDAR